BEGIN:VCALENDAR
VERSION:2.0
PRODID:-//HerriKultura - ECPv6.2.3.1//NONSGML v1.0//EN
CALSCALE:GREGORIAN
METHOD:PUBLISH
X-WR-CALNAME:HerriKultura
X-ORIGINAL-URL:https://herrikultura.eus
X-WR-CALDESC:Eventos para HerriKultura
REFRESH-INTERVAL;VALUE=DURATION:PT1H
X-Robots-Tag:noindex
X-PUBLISHED-TTL:PT1H
BEGIN:VTIMEZONE
TZID:Europe/Madrid
BEGIN:DAYLIGHT
TZOFFSETFROM:+0100
TZOFFSETTO:+0200
TZNAME:CEST
DTSTART:20250330T010000
END:DAYLIGHT
BEGIN:STANDARD
TZOFFSETFROM:+0200
TZOFFSETTO:+0100
TZNAME:CET
DTSTART:20251026T010000
END:STANDARD
BEGIN:DAYLIGHT
TZOFFSETFROM:+0100
TZOFFSETTO:+0200
TZNAME:CEST
DTSTART:20260329T010000
END:DAYLIGHT
BEGIN:STANDARD
TZOFFSETFROM:+0200
TZOFFSETTO:+0100
TZNAME:CET
DTSTART:20261025T010000
END:STANDARD
END:VTIMEZONE
BEGIN:VEVENT
DTSTART;VALUE=DATE:20251020
DTEND;VALUE=DATE:20260609
DTSTAMP:20260419T145229
CREATED:20251017T161854Z
LAST-MODIFIED:20251017T161854Z
UID:158676-1760918400-1780963199@herrikultura.eus
SUMMARY:"Kantu teknikak"
DESCRIPTION:Arnasa hartzen\, eta ahotsa babesten\, proiektatzen eta kontrolatzen ikasteko ikastaroa\, ahots-kalitatea eta zabaltasuna hobetzeko\, eta soinu aberatsagoak eta konplexuagoak sortzeko. \nPrograma \nArnasketa\, ahotsaren elikagaia.Arnasketa abdominalaren kontrola – diafragma.Biriketako gaitasuna eta airearen kontrola hobetzea.Jarrera eta kantuan inplikatutako muskuluen malgutasuna hobetzea.Artikulazioa eta erresonantzia-anplifikazioa.Eskalen ariketak.Soinu konplexuak (r-l-s-z-ch).Intonazioa\, ahoskera eta afinazioa.Teknikak: euskarria\, legatoa…Norberaren ahotsa\, erregistroa eta tesitura aurkitzea\, askatasunez abestea.
URL:https://herrikultura.eus/event/kantu-teknikak/
LOCATION:Etxarriene\, Donostia / San Sebastián\, Gipuzkoa\, 069\, España
CATEGORIES:Ikastaroa
ATTACH;FMTTYPE=image/jpeg:https://herrikultura.eus/wp-content/uploads/2025/10/kantu.jpg
END:VEVENT
BEGIN:VEVENT
DTSTART;VALUE=DATE:20251020
DTEND;VALUE=DATE:20260609
DTSTAMP:20260419T145229
CREATED:20251017T161856Z
LAST-MODIFIED:20251017T161856Z
UID:158682-1760918400-1780963199@herrikultura.eus
SUMMARY:"Opera ezagutzen" (ikastaro aurreratua)
DESCRIPTION:Tailer honen lehenengo maila egin ondoren\, operaren gakoak\, hizkuntza\, ezaugarriak eta edukiak ezagutzen jarraituko da. Opera ikusleen aurreko agertoki batean eta musika instrumentalaz lagundurik antzezten den drama abestu bat da. Antzerkiaren berezko elementuez antzezten da drama hori. Ikastaro honetan opera zer den\, nortzuk osatzen duten eta harez nola goza daitekeen ikasiko da. \nPrograma \nOpera eta kontzertuen inguruko azkeneko berriakBarroko ezezagunaKlasizismoa\, Mozart baino gehiagoFrantziako opera handiaOpera ComiqueErromantizismoa era VerismoaOpera gaztelaniazWagner guztiontzatXX. mendeaAutore berriak
URL:https://herrikultura.eus/event/opera-ezagutzen-ikastaro-aurreratua/
LOCATION:Aiete Kultur Etxea + Okendo Kultur Etxea\, Donostia / San Sebastián\, Gipuzkoa\, 069\, España
CATEGORIES:Ikastaroa
ATTACH;FMTTYPE=image/jpeg:https://herrikultura.eus/wp-content/uploads/2025/10/opera2-1.jpg
END:VEVENT
BEGIN:VEVENT
DTSTART;VALUE=DATE:20251020
DTEND;VALUE=DATE:20260609
DTSTAMP:20260419T145229
CREATED:20251017T161912Z
LAST-MODIFIED:20251017T161912Z
UID:158751-1760918400-1780963199@herrikultura.eus
SUMMARY:Marrazketa artistikoko ikastaroa
DESCRIPTION:Marrazkiaren baliabideak ia mugagabeak dira. Hainbat ebakitzaile eta euskarriren bidez\, ikasleek marrazteko trebetasunak esperimentatu eta garatu ahal izango dituzte. Lehenengo ikasturteko elementu nagusia arkatz beruna izanik\, amaierako ariketa bat planteatuko da\, eta ikasle bakoitzak bere proiektu pertsonala garatuko du. \nPrograma \nGrafitoa. Puntua\, lerroa eta trama.Bodegoia. Ahokadura eta enkoadrea.Argia eta tonu esleipenak.Tonu zonen araberako zatiketa.Negatiboan marrazteko teknikak\, zuria beltzaren gainean.Ikatz-ziria.Orbana.Itzala estruktura eta egitura elementu.Argi-iluna eta testura. Espazio negatiboak (hondoa eta irudia).Anatomia: irudi klasikoen marrazketa.Konposizioa eta oinarriak. Orekak eta tentsioak.Herenen araua.Anatomia: erretratuaren hastapenak.Bisore bat sortzea enkoadratzeko tresna gisa.Perspektibaren oinarrizko nozioak.
URL:https://herrikultura.eus/event/marrazketa-artistikoko-ikastaroa-4/
LOCATION:Lugaritz Kultur Etxea\, DK. Heriz Pasealekua\, 20\, Donostia / San Sebastián\, Gipuzkoa\, 069\, España
CATEGORIES:Ikastaroa
ATTACH;FMTTYPE=image/jpeg:https://herrikultura.eus/wp-content/uploads/2025/10/marrazketaartistikoa.jpg
END:VEVENT
BEGIN:VEVENT
DTSTART;VALUE=DATE:20251020
DTEND;VALUE=DATE:20260609
DTSTAMP:20260419T145229
CREATED:20251017T161915Z
LAST-MODIFIED:20251017T161915Z
UID:158763-1760918400-1780963199@herrikultura.eus
SUMMARY:"Técnicas de canto"
DESCRIPTION:Arnasa hartzen\, eta ahotsa babesten\, proiektatzen eta kontrolatzen ikasteko ikastaroa\, ahots-kalitatea eta zabaltasuna hobetzeko\, eta soinu aberatsagoak eta konplexuagoak sortzeko. \nPrograma \nArnasketa\, ahotsaren elikagaia.Arnasketa abdominalaren kontrola – diafragma.Biriketako gaitasuna eta airearen kontrola hobetzea.Jarrera eta kantuan inplikatutako muskuluen malgutasuna hobetzea.Artikulazioa eta erresonantzia-anplifikazioa.Eskalen ariketak.Soinu konplexuak (r-l-s-z-ch).Intonazioa\, ahoskera eta afinazioa.Teknikak: euskarria\, legatoa…Norberaren ahotsa\, erregistroa eta tesitura aurkitzea\, askatasunez abestea.
URL:https://herrikultura.eus/event/tecnicas-de-canto/
LOCATION:Casares-Tomasene Kultur Etxea – (Larres Parkea (Tomasene atzekaldean))\, Darieta bidea\, 1\, Donostia / San Sebastián\, Gipuzkoa\, 069\, España
CATEGORIES:Ikastaroa
ATTACH;FMTTYPE=image/jpeg:https://herrikultura.eus/wp-content/uploads/2025/10/kantu-1.jpg
END:VEVENT
BEGIN:VEVENT
DTSTART;VALUE=DATE:20251020
DTEND;VALUE=DATE:20260609
DTSTAMP:20260419T145229
CREATED:20251017T161916Z
LAST-MODIFIED:20251017T161916Z
UID:158767-1760918400-1780963199@herrikultura.eus
SUMMARY:"Fotografía documental: cómo planificar y crear relatos con fotografías"
DESCRIPTION:Argazkilaritzaren oinarrizko ezagutzak dituen ikasleei zuzendua. Argazki bidezko kontakizunak egin eta euskarri ezberdinetan nola plazaratu azalduko da. \n1. HIRUHILEKOA \nArgazkigintza Dokumentalaren SarreraZer da argazkigintza dokumentala?Historia laburra eta bilakaeraAdibide nabarmenak (Sebastião Salgado\, Dorothea Lange\, Susan Meiselas\, etab.) \nKamera tresna dokumental gisaKamera eta objektibo mota desberdinakOinarrizko doikuntzak: esposizioa\, fokua\, zurien balantzeaLanean aritzeko beharrezko gutxieneko ekipamendua \nKonposizioa eta intentzioaKonposizioaren oinarrizko arauak argazkigintza dokumentaleanIkuspegiak\, enkoadreak\, plano narratiboak \n2. HIRUHILEKOA \nEtika dokumentalaBaieztapena eta ordezkaritzaEsku-hartzearen mugakManipulazio digitala eta egiazkotasuna \nIstorio baten garapena: gaia eta narrazioaGai dokumentala hautatzeaIkuspegi pertsonala: zer kontatu nahi dut? \nProiektu dokumentalaGaiaren definizioaProposamenen berrikuspena eta gida pertsonalizatuaArgazki-lanaren hasiera \n3. HIRUHILEKOA \nNarrazioaren eraikuntza eta sekuentziazioaIrudiak nola ordenatu istorio bat kontatzekoErritmo bisuala eta gai koherentziaSekuentzien talde-ebaluazioa. Liburuak multimedia euskarriak \nProiektuaren azken prestaketaAukeraketa eta azken postprodukzioaEntrega-formatuak (PDF\, proiekzioa)
URL:https://herrikultura.eus/event/fotografia-documental-como-planificar-y-crear-relatos-con-fotografias/
LOCATION:Intxaurrondo Kultur Etxea – (Intxaurrondo K.E.)\, Felix Gabilondo Plaza\, 1\, Donostia / San Sebastián\, Gipuzkoa\, 069\, España
CATEGORIES:Ikastaroa
ATTACH;FMTTYPE=image/jpeg:https://herrikultura.eus/wp-content/uploads/2025/10/argazkilaritza-1.jpg
END:VEVENT
BEGIN:VEVENT
DTSTART;VALUE=DATE:20251020
DTEND;VALUE=DATE:20260609
DTSTAMP:20260419T145229
CREATED:20251017T161916Z
LAST-MODIFIED:20251017T161916Z
UID:158765-1760918400-1780963199@herrikultura.eus
SUMMARY:"Técnicas de canto"
DESCRIPTION:Arnasa hartzen\, eta ahotsa babesten\, proiektatzen eta kontrolatzen ikasteko ikastaroa\, ahots-kalitatea eta zabaltasuna hobetzeko\, eta soinu aberatsagoak eta konplexuagoak sortzeko. \nPrograma \nArnasketa\, ahotsaren elikagaia.Arnasketa abdominalaren kontrola – diafragma.Biriketako gaitasuna eta airearen kontrola hobetzea.Jarrera eta kantuan inplikatutako muskuluen malgutasuna hobetzea.Artikulazioa eta erresonantzia-anplifikazioa.Eskalen ariketak.Soinu konplexuak (r-l-s-z-ch).Intonazioa\, ahoskera eta afinazioa.Teknikak: euskarria\, legatoa…Norberaren ahotsa\, erregistroa eta tesitura aurkitzea\, askatasunez abestea.
URL:https://herrikultura.eus/event/tecnicas-de-canto-2/
LOCATION:Etxarriene\, Donostia / San Sebastián\, Gipuzkoa\, 069\, España
CATEGORIES:Ikastaroa
ATTACH;FMTTYPE=image/jpeg:https://herrikultura.eus/wp-content/uploads/2025/10/tecnicasdecanto.jpg
END:VEVENT
BEGIN:VEVENT
DTSTART;VALUE=DATE:20251020
DTEND;VALUE=DATE:20260609
DTSTAMP:20260419T145229
CREATED:20251017T161926Z
LAST-MODIFIED:20251017T161926Z
UID:158807-1760918400-1780963199@herrikultura.eus
SUMMARY:(Bertan behera) "Artearen historia"
DESCRIPTION:Historian zehar gertatutako korronte artistiko ezberdinen erakusketa globala egingo den tailerra. Ikasleak artearen historiaren ikuspegi orokorra lortuko du mugimendu artistiko ezberdinetan zehar ibiliz\, beti ere gizadiaren historiarekin lotuta. Sorkuntza artistikoaren eta hura sortu zuten gizarteen arteko erlaziotik helduko zaio gaiari. \nPROGRAMA \n1. hiruhilekoa \nArtearen historia: sarreraGrezia: sarrera. Grezia Arkaikoa: arkitekturaGrezia Arkaikoa: arte plastikoakGrezia Klasikoa: arkitektura\, arte plastikoak; mitologiari sarreraGrezia Helenistikoa: arkitektura\, arte plastikoakErroma: sarrera\, arkitektura\, eskultura\, pintura eta mosaikoak \n2. hiruhilekoa \nErdi Aroa: sarrera. Arte erromanikoa: arkitekturaArte erromanikoa: arte plastikoak (eskultura\, pintura)Arte zistertarraArte gotikoa: arkitektura\, arte plastikoak (eskultura\, pintura\, beirateak)Trecento: pintura italiarra XIV. mendea. Primitibo flandestarrak: XV. MendeaErrenazimentuari sarrera: Quattrocento: pintura eta eskultura italiarra XV.mendeaCinquecento: pintura italiarra XVI. mendea; pintura veneziarra; ManierismoaXVI. mendeko pintura Europan (pintura nordikoa\, pintura espainiarra)XVII. mendea: Barrokoa\, ItaliaXVII. mendea: Barrokoa (Holanda\, Flandes\, Espainia\, Frantzia)XVIII. mendea: Rococó\, Ilustrazioaren arteaArte Garaikideari sarrera. XIX. mendea: erromantizismoa\, errealismoa \n3. hiruhilekoa \nXIX. mendea: InpresionismoaXIX. mendea: Postinpresionismoa. Lengoaia unibertsala mende amaieraXX. mendea: Abangoardia historikoak: Fauvismo\, EspresionismoaXX. mendea: Abangoardia historikoak: Kubismoa\, AbstrakzioaXX. mendea: Abangoardia historikoak: Dadaismoa\, SurrealismoaXX. mendea: Informalismoa\, Pop Art\, Op Art eta beste tendentziak…Artearen historiari buruzko kontzeptuak. Errepaso orokorra
URL:https://herrikultura.eus/event/bertan-behera-artearen-historia/
LOCATION:Aiete Kultur Etxea + Okendo Kultur Etxea\, Donostia / San Sebastián\, Gipuzkoa\, 069\, España
CATEGORIES:Ikastaroa
ATTACH;FMTTYPE=image/jpeg:https://herrikultura.eus/wp-content/uploads/2025/10/artearenhistoria-1.jpg
END:VEVENT
BEGIN:VEVENT
DTSTART;VALUE=DATE:20251021
DTEND;VALUE=DATE:20260603
DTSTAMP:20260419T145229
CREATED:20251017T161750Z
LAST-MODIFIED:20251017T161750Z
UID:158620-1761004800-1780444799@herrikultura.eus
SUMMARY:"Cómo leer una obra de arte"
DESCRIPTION:Artelan bat irakurtzeko kontzeptuak eta oinarrizko gakoak ikasteko ikastaroa. Arkitektura\, eskultura edota pintura bezalako artelan bat irakurtzeko kontutan hartu beharreko elementuak zeintzuk diren ikusiko dira ikastaro honetan. Oinarrizko irakurketa-gakoak aztertuko dira: puntua\, lerroa\, forma\, kolorea\, tonalitatea\, testura\, tamaina\, orientazioa\, norabidea\, konposizioa\, oreka\, mugimendua eta perspektiba. \nPROGRAMA \nZer ikusten dugu begiratzen dugunean?Argazki kamera\, ikusmenaren\, argiaren\, begiaren eta eskuaren ezaugarriak\, hizkuntza bisual-idatzia\, errepresentazioa\, abstrakzioa.Irakurtzeko oinarrizko gakoak. \nMezu bisualaLerro bat (sinadura baten azterketa)\, abstrakzioa\, irudikapena\, kopia\, gaia.Zer da artelan bat? Nola egiten da artelan bat?Bere mugekin\, materialarekin eta teknikarekin\, gaiarekin eta bere hizkuntzarekin bat datorren obra bat irakurtzen dugu\, eta bere une soziokulturala hartzen dugu kontuan. \nHurbiletik ikusiGiza begia eta begi mekanikoa. Fotografia. Pintura\, eskultura\, marrazketa\, grabatua eta argazkigintzaren arteko desberdintasunak.Bidimentsionaltasuna eta tridimentsionaltasuna.Bai arkitektura\, eskultura edota pintura arloko artelan bat ulertzeko gakoak.Artearen historiatik ibilbide bisuala eta ebolutiboa: Grezia\, Erdi Aroa\, Errenazimentua\, Barrokoa\, etab.Lan enblematikoak: Las Meninas\, el Jardín de las Delicias\, etab. \nArtearen historiatik ibilbide tematikoaPaisaia pinturaErretratoaItsasoa pinturanBodegoiak/ natura hilakArkitektura garaikidetik ibilbideaEskultura zinetikoaPintura eta dantza
URL:https://herrikultura.eus/event/como-leer-una-obra-de-arte/
LOCATION:Aiete Kultur Etxea + Okendo Kultur Etxea\, Donostia / San Sebastián\, Gipuzkoa\, 069\, España
CATEGORIES:Ikastaroa
ATTACH;FMTTYPE=image/jpeg:https://herrikultura.eus/wp-content/uploads/2025/10/artelan.jpg
END:VEVENT
BEGIN:VEVENT
DTSTART;VALUE=DATE:20251021
DTEND;VALUE=DATE:20260603
DTSTAMP:20260419T145229
CREATED:20251017T161757Z
LAST-MODIFIED:20251017T161757Z
UID:158654-1761004800-1780444799@herrikultura.eus
SUMMARY:(Bertan behera) "Artelan bat nola irakurri"
DESCRIPTION:Artelan bat irakurtzeko kontzeptuak eta oinarrizko gakoak ikasteko ikastaroa. Arkitektura\, eskultura edota pintura bezalako artelan bat irakurtzeko kontutan hartu beharreko elementuak zeintzuk diren ikusiko dira ikastaro honetan. Oinarrizko irakurketa-gakoak aztertuko dira: puntua\, lerroa\, forma\, kolorea\, tonalitatea\, testura\, tamaina\, orientazioa\, norabidea\, konposizioa\, oreka\, mugimendua eta perspektiba. \nPROGRAMA \nZer ikusten dugu begiratzen dugunean?Argazki kamera\, ikusmenaren\, argiaren\, begiaren eta eskuaren ezaugarriak\, hizkuntza bisual-idatzia\, errepresentazioa\, abstrakzioa.Irakurtzeko oinarrizko gakoak. \nMezu bisualaLerro bat (sinadura baten azterketa)\, abstrakzioa\, irudikapena\, kopia\, gaia.Zer da artelan bat? Nola egiten da artelan bat?Bere mugekin\, materialarekin eta teknikarekin\, gaiarekin eta bere hizkuntzarekin bat datorren obra bat irakurtzen dugu\, eta bere une soziokulturala hartzen dugu kontuan. \nHurbiletik ikusiGiza begia eta begi mekanikoa. Fotografia. Pintura\, eskultura\, marrazketa\, grabatua eta argazkigintzaren arteko desberdintasunak.Bidimentsionaltasuna eta tridimentsionaltasuna.Bai arkitektura\, eskultura edota pintura arloko artelan bat ulertzeko gakoak.Artearen historiatik ibilbide bisuala eta ebolutiboa: Grezia\, Erdi Aroa\, Errenazimentua\, Barrokoa\, etab.Lan enblematikoak: Las Meninas\, el Jardín de las Delicias\, etab. \nArtearen historiatik ibilbide tematikoa:Paisaia pinturaErretratoaItsasoa pinturanBodegoiak/ natura hilakArkitektura garaikidetik ibilbideaEskultura zinetikoaPintura eta dantza
URL:https://herrikultura.eus/event/bertan-behera-artelan-bat-nola-irakurri/
LOCATION:Aiete Kultur Etxea + Okendo Kultur Etxea\, Donostia / San Sebastián\, Gipuzkoa\, 069\, España
CATEGORIES:Ikastaroa
ATTACH;FMTTYPE=image/jpeg:https://herrikultura.eus/wp-content/uploads/2025/10/artelan-1.jpg
END:VEVENT
BEGIN:VEVENT
DTSTART;VALUE=DATE:20251021
DTEND;VALUE=DATE:20260603
DTSTAMP:20260419T145229
CREATED:20251017T161905Z
LAST-MODIFIED:20251017T161905Z
UID:158721-1761004800-1780444799@herrikultura.eus
SUMMARY:Marrazketa artistikoko ikastaroa
DESCRIPTION:Marrazkiaren baliabideak ia mugagabeak dira. Hainbat ebakitzaile eta euskarriren bidez\, ikasleek marrazteko trebetasunak esperimentatu eta garatu ahal izango dituzte. Lehenengo ikasturteko elementu nagusia arkatz beruna izanik\, amaierako ariketa bat planteatuko da\, eta ikasle bakoitzak bere proiektu pertsonala garatuko du. \nPrograma \nGrafitoa. Puntua\, lerroa eta trama.Bodegoia. Ahokadura eta enkoadrea.Argia eta tonu esleipenak.Tonu zonen araberako zatiketa.Negatiboan marrazteko teknikak\, zuria beltzaren gainean.Ikatz-ziria.Orbana.Itzala estruktura eta egitura elementu.Argi-iluna eta testura. Espazio negatiboak (hondoa eta irudia).Anatomia: irudi klasikoen marrazketa.Konposizioa eta oinarriak. Orekak eta tentsioak.Herenen araua.Anatomia: erretratuaren hastapenak.Bisore bat sortzea enkoadratzeko tresna gisa.Perspektibaren oinarrizko nozioak.
URL:https://herrikultura.eus/event/marrazketa-artistikoko-ikastaroa/
LOCATION:Ernest Lluch Kultur Etxea – (Ernest Lluch K.E.)\, DK. Anoeta pasealekua\, 7\, Donostia / San Sebastián\, Gipuzkoa\, 069\, España
CATEGORIES:Ikastaroa
ATTACH;FMTTYPE=image/jpeg:https://herrikultura.eus/wp-content/uploads/2025/10/dibujo.jpg
END:VEVENT
BEGIN:VEVENT
DTSTART;VALUE=DATE:20251021
DTEND;VALUE=DATE:20260603
DTSTAMP:20260419T145229
CREATED:20251017T161906Z
LAST-MODIFIED:20251017T161906Z
UID:158723-1761004800-1780444799@herrikultura.eus
SUMMARY:Marrazketa artistikoko ikastaroa
DESCRIPTION:Marrazkiaren baliabideak ia mugagabeak dira. Hainbat ebakitzaile eta euskarriren bidez\, ikasleek marrazteko trebetasunak esperimentatu eta garatu ahal izango dituzte. Lehenengo ikasturteko elementu nagusia arkatz beruna izanik\, amaierako ariketa bat planteatuko da\, eta ikasle bakoitzak bere proiektu pertsonala garatuko du. \nPrograma \nGrafitoa. Puntua\, lerroa eta trama.Bodegoia. Ahokadura eta enkoadrea.Argia eta tonu esleipenak.Tonu zonen araberako zatiketa.Negatiboan marrazteko teknikak\, zuria beltzaren gainean.Ikatz-ziria.Orbana.Itzala estruktura eta egitura elementu.Argi-iluna eta testura. Espazio negatiboak (hondoa eta irudia).Anatomia: irudi klasikoen marrazketa.Konposizioa eta oinarriak. Orekak eta tentsioak.Herenen araua.Anatomia: erretratuaren hastapenak.Bisore bat sortzea enkoadratzeko tresna gisa.Perspektibaren oinarrizko nozioak.
URL:https://herrikultura.eus/event/marrazketa-artistikoko-ikastaroa-2/
LOCATION:Ernest Lluch Kultur Etxea – (Ernest Lluch K.E.)\, DK. Anoeta pasealekua\, 7\, Donostia / San Sebastián\, Gipuzkoa\, 069\, España
CATEGORIES:Ikastaroa
ATTACH;FMTTYPE=image/jpeg:https://herrikultura.eus/wp-content/uploads/2025/10/dibujo-1.jpg
END:VEVENT
BEGIN:VEVENT
DTSTART;VALUE=DATE:20251021
DTEND;VALUE=DATE:20260603
DTSTAMP:20260419T145229
CREATED:20251017T161907Z
LAST-MODIFIED:20251017T161907Z
UID:158729-1761004800-1780444799@herrikultura.eus
SUMMARY:Narratiba laburreko idazketa tailerra
DESCRIPTION:Idazleak hitzak\, bizipenak eta emozioak narrazio bat eraikitzeko oinarrizko tresna gisa erabiltzen ikas dezan tailerra. Tailer hau idazketaren bidez sormen narratiboaren prozesuaz kezka duten pertsonei zuzenduta dago. Ikaslea narrazio laburraren kontzeptuetan zein oinarrizko tekniketan sartuko da (ipuinak\, mikrokontakizunak…)\, bere konposizioak idatzi eta besteenak aztertzen ikas dezan. \nPrograma \nNarrazioaren egitura: planteamendua\, garapena eta amaiera. \nEkintza dramatikoaren aurkako eraso-puntuak\, non aurkitzen ditugun. \nNarratiba laburraren ezaugarriak. \nBerrirakurketaren eta berridazketaren garrantzia. \nPertsonaiak eta horien ezaugarriak. \nPraktika eta azterketak gelan. \nIdeiak bilatzen. Sormena landuz (baliabideak eta jarduerak). \nGeure ahots narratiboa ezagutuz: Jolasak\, onomatopeiak eta beste baliabide literario batzuk. \nKontakizunaren denbora. \nGelan praktikatzea eta aztertzea. \nDenbora-egiturak. \nNola konektatu publikoarekin. \nPraktika eta azterketak. \nIdeia originalen bila\, inspirazioa (baliabideak eta jarduerak).
URL:https://herrikultura.eus/event/narratiba-laburreko-idazketa-tailerra-2/
LOCATION:Ernest Lluch Kultur Etxea – (Ernest Lluch K.E.)\, DK. Anoeta pasealekua\, 7\, Donostia / San Sebastián\, Gipuzkoa\, 069\, España
CATEGORIES:Ikastaroa
ATTACH;FMTTYPE=image/jpeg:https://herrikultura.eus/wp-content/uploads/2025/10/narratiba-1.jpg
END:VEVENT
BEGIN:VEVENT
DTSTART;VALUE=DATE:20251021
DTEND;VALUE=DATE:20260603
DTSTAMP:20260419T145229
CREATED:20251017T161925Z
LAST-MODIFIED:20251017T161925Z
UID:158801-1761004800-1780444799@herrikultura.eus
SUMMARY:"Grandes genios de la música"
DESCRIPTION:Historian zehar egon diren musikari jenioetako batzuen biografiara hurbiltzea\, beraien sorkuntzak ikusiz eta beste artistengan izan duten eragina aztertuz. Ikastaro honetan estilo eta aro ezberdinak ikusiko dira\, barrokotik musika garaikidera. Asmoa ez da musikari buruzko ezagutza teorikoak irakastea\, musikarekin senti daitekeen pasio eta maitasuna transmititzea baizik. \nPrograma \nC. MonteverdiA.L. VivaldiG.F. HandelJ.S. BachJean-Phippe RameauJean-Baptiste LullyW.A. MozartJ. HaydnA. SalieriL.V. BeethovenF. ShubertR. SchumannH. BerliozJ. BrahmsP.I. TchaikovskyF. MendelshonG. VerdiR. WagnerG. PucciniG. MahlerG. Faurè
URL:https://herrikultura.eus/event/grandes-genios-de-la-musica/
LOCATION:Aiete Kultur Etxea + Okendo Kultur Etxea\, Donostia / San Sebastián\, Gipuzkoa\, 069\, España
CATEGORIES:Ikastaroa
ATTACH;FMTTYPE=image/jpeg:https://herrikultura.eus/wp-content/uploads/2025/10/grandesgenios.jpg
END:VEVENT
BEGIN:VEVENT
DTSTART;VALUE=DATE:20251021
DTEND;VALUE=DATE:20260520
DTSTAMP:20260419T145229
CREATED:20251021T100634Z
LAST-MODIFIED:20251021T100634Z
UID:163144-1761004800-1779235199@herrikultura.eus
SUMMARY:Liburu Baby Kluba: Aldakonea
DESCRIPTION:Liburu Baby Kluba jarduera ludiko eta didaktikoa da. Bere helburu nagusia\, haurtzaro goiztiarrean eta familiengan literatura\, musika\, artea eta naturarekiko interesa bultzatzea da. Jarduera kulturaniztuna da\, euskal kultura eta munduko kultura ezberdinak sustatzen dituena.  \nEkintza hau 0-3 urte bitarteko haurreri zuzenduta dago\, heldu baten laguntza beharrezkoa da. Euskara\, gaztelania eta ingelesa tartekatuko dira. Mestiza Elkartea izango da ekitaldiaren dinamizatzaile. \nAurreikusten den egutegia hau da: \n\nurriak 21\nazaroak 18\nabenduak 16\nurtarrilak 20\notsailak 17\nmartxoak 17\napirilak 21\nmaiatzak 19\n\n  \nSaio independienteak dira eta aurrez izena eman beharko da ekitaldi bakoitzerako. Jarduerak aforo mugatua du. Plazarik lortzen ez duenak itxaron zerrendan eman dezake izena. Hurrengo saiorako izen emateak\, hilabete bateko ekitaldia bukatu eta ondorengo ostiralean*\, 12:00etatik aurrera irekiko dira\, hemen:  \n\nhttp://sarrerak.errenteria.eus  \nBaita presentzialki Lekuona Fabrikan eta Aldakoneako Liburutegian.\nTelefonoz 943 44 96 35 eta 943 44 96 99 zenbakian edota 647 673 451 zenbakian WhatsApp bitartez.\n\n*SALBUESPENA: Azaroko saioan izena emateko data: urriak 24. Martxoko saioan izena emateko data: otsailak 20. \nLekuona Fabrikako Liburutegiaren eskutik.
URL:https://herrikultura.eus/event/liburu-baby-kluba-aldakonea/
LOCATION:Errenteriako Liburutegia\, Magdalena\, 27-29\, Errenteria\, Gipuzkoa\, 067\, España
CATEGORIES:Hitzaldia
ATTACH;FMTTYPE=image/jpeg:https://herrikultura.eus/wp-content/uploads/2025/10/43-25.jpg
END:VEVENT
END:VCALENDAR