BEGIN:VCALENDAR
VERSION:2.0
PRODID:-//HerriKultura - ECPv6.2.3.1//NONSGML v1.0//EN
CALSCALE:GREGORIAN
METHOD:PUBLISH
X-WR-CALNAME:HerriKultura
X-ORIGINAL-URL:https://herrikultura.eus
X-WR-CALDESC:Eventos para HerriKultura
REFRESH-INTERVAL;VALUE=DURATION:PT1H
X-Robots-Tag:noindex
X-PUBLISHED-TTL:PT1H
BEGIN:VTIMEZONE
TZID:Europe/Madrid
BEGIN:DAYLIGHT
TZOFFSETFROM:+0100
TZOFFSETTO:+0200
TZNAME:CEST
DTSTART:20260329T010000
END:DAYLIGHT
BEGIN:STANDARD
TZOFFSETFROM:+0200
TZOFFSETTO:+0100
TZNAME:CET
DTSTART:20261025T010000
END:STANDARD
END:VTIMEZONE
BEGIN:VEVENT
DTSTART;VALUE=DATE:20260427
DTEND;VALUE=DATE:20260428
DTSTAMP:20260424T070214
CREATED:20260420T220245Z
LAST-MODIFIED:20260420T220245Z
UID:199633-1777248000-1777334399@herrikultura.eus
SUMMARY:Uxue Alkorta\, Libe Goenaga
DESCRIPTION:«Bertso jasa\, bat-bateko jolasa» haurrentzako bertso emanaldia . Bertsolariak: Uxue Alkorta\, Libe Goenaga . Antolatzailea: Eibarko Udala . Kultur bitartekaria: Lanku
URL:https://herrikultura.eus/event/uxue-alkorta-libe-goenaga/
LOCATION:Arrateko aterpetxea\, Eibar\, Gipuzkoa\, 030\, España
CATEGORIES:Bertsolaritza
END:VEVENT
END:VCALENDAR