BEGIN:VCALENDAR
VERSION:2.0
PRODID:-//HerriKultura - ECPv6.2.3.1//NONSGML v1.0//EN
CALSCALE:GREGORIAN
METHOD:PUBLISH
X-ORIGINAL-URL:https://herrikultura.eus
X-WR-CALDESC:Eventos para HerriKultura
REFRESH-INTERVAL;VALUE=DURATION:PT1H
X-Robots-Tag:noindex
X-PUBLISHED-TTL:PT1H
BEGIN:VTIMEZONE
TZID:Europe/Madrid
BEGIN:DAYLIGHT
TZOFFSETFROM:+0100
TZOFFSETTO:+0200
TZNAME:CEST
DTSTART:20260329T010000
END:DAYLIGHT
BEGIN:STANDARD
TZOFFSETFROM:+0200
TZOFFSETTO:+0100
TZNAME:CET
DTSTART:20261025T010000
END:STANDARD
END:VTIMEZONE
BEGIN:VEVENT
DTSTART;VALUE=DATE:20260508
DTEND;VALUE=DATE:20260509
DTSTAMP:20260424T082622
CREATED:20260420T220246Z
LAST-MODIFIED:20260420T220246Z
UID:199636-1778198400-1778284799@herrikultura.eus
SUMMARY:Bertso afaria: Sustrai Colina\, Joanes Illarregi\, Sarai Robles
DESCRIPTION:Bertso afaria \nBertsolariak: \n\nSustrai Colina\nJoanes Illarregi\nSarai Robles\n\nAntolatzailea: Antsoaingo Udala  \nKultur bitartekaria: Lanku
URL:https://herrikultura.eus/event/bertso-afaria-sustrai-colina-joanes-illarregi-sarai-robles/
LOCATION:Txinparta elkartea\, Ansoáin/Antsoain\, Navarra\, 016\, España
CATEGORIES:Bertsolaritza
ATTACH;FMTTYPE=image/jpeg:https://herrikultura.eus/wp-content/uploads/2026/04/joanesillarregi.jpg
END:VEVENT
END:VCALENDAR