BEGIN:VCALENDAR
VERSION:2.0
PRODID:-//HerriKultura - ECPv6.2.3.1//NONSGML v1.0//EN
CALSCALE:GREGORIAN
METHOD:PUBLISH
X-ORIGINAL-URL:https://herrikultura.eus
X-WR-CALDESC:Eventos para HerriKultura
REFRESH-INTERVAL;VALUE=DURATION:PT1H
X-Robots-Tag:noindex
X-PUBLISHED-TTL:PT1H
BEGIN:VTIMEZONE
TZID:Europe/Madrid
BEGIN:DAYLIGHT
TZOFFSETFROM:+0100
TZOFFSETTO:+0200
TZNAME:CEST
DTSTART:20260329T010000
END:DAYLIGHT
BEGIN:STANDARD
TZOFFSETFROM:+0200
TZOFFSETTO:+0100
TZNAME:CET
DTSTART:20261025T010000
END:STANDARD
END:VTIMEZONE
BEGIN:VEVENT
DTSTART;VALUE=DATE:20260509
DTEND;VALUE=DATE:20260510
DTSTAMP:20260424T082747
CREATED:20251017T220151Z
LAST-MODIFIED:20251017T220151Z
UID:160222-1778284800-1778371199@herrikultura.eus
SUMMARY:MusEkintza 2025/2026: "Ez da kasualitatea" (bertso saioa)
DESCRIPTION:MusEkintza 2025/2026 – Bizkaiko Museoetako Arte Eszenikoen Jaialdiaren egitarauaren barruan. \n2009an egin zen aurrenekoz Ez da kasualitatea bertso saioa. Berdintasun teknikari batek bertso saio feminista bat antolatzeko eskatuta elkartu ziren zenbait bertsolari\, gai-jartzaile eta musikari; ustez\, saio bakarrerako idean. Geroztik\, ehundaka Ez da kasualitatea egin dira Euskal Herriko plazetan\, hamarnaka emakume bertsolarik kantatu dute haietan eta erreferentziazko emanaldi bilakatu dira bertsozale\, bertsolari eta gai-jartzaile feministen artean. \nEz da kasualitatea bat-bateko bertso saio musikatua da. Gitarra\, biolin zein saxo-doinuen gainean inprobisatzen dute bertsolariek gai-jartzaileak proposaturiko gaiei buruz. Saioak ez-mixtoak dira: lau bertsolariak eta gai-jartzailea emakumezkoak izaten dira beti. Umorea\, jolasa\, gogoeta\, bertsolari feministen arteko konplizitatea\, musika eta bertsoa uztartzen dituen saioa. \n\nData: Maiatzak 9 (2026)\nOrdu: 21:15ean\nErreserba: 2026ko apirilaren 9tik\nHizkuntza: Ikuskizuna euskaraz
URL:https://herrikultura.eus/event/musekintza-2025-2026-ez-da-kasualitatea-bertso-saioa/
LOCATION:Muñatones Gaztelua\, Muskiz\, Bizkaia\, 071\, España
CATEGORIES:Bertsolaritza
ATTACH;FMTTYPE=image/jpeg:https://herrikultura.eus/wp-content/uploads/2025/10/edk.jpg
END:VEVENT
BEGIN:VEVENT
DTSTART;VALUE=DATE:20260509
DTEND;VALUE=DATE:20260510
DTSTAMP:20260424T082747
CREATED:20260420T220246Z
LAST-MODIFIED:20260420T220246Z
UID:199638-1778284800-1778371199@herrikultura.eus
SUMMARY:Udabarriko Bertso Saioak 2026: Txaber Altube\, Oihana Bartra\, Onintza Enbeita\, Aitor Servier
DESCRIPTION:Udaberriko bertso saioa  \nBertsolariak: \n\nTxaber Altube\nOihana Bartra\nOnintza Enbeita\nAitor Servier\n\nAntolatzailea: Bilboko Udala\, Santutxuko Bertso Eskola \nKultur bitartekaria: Lanku
URL:https://herrikultura.eus/event/udabarriko-bertso-saioak-2026-txaber-altube-oihana-bartra-onintza-enbeita-aitor-servier/
LOCATION:Santutxu. Karmelo plaza\, Bilbao\, Bizkaia\, 020\, España
CATEGORIES:Bertsolaritza
ATTACH;FMTTYPE=image/jpeg:https://herrikultura.eus/wp-content/uploads/2026/04/oihanabartra.jpg
END:VEVENT
BEGIN:VEVENT
DTSTART;VALUE=DATE:20260509
DTEND;VALUE=DATE:20260510
DTSTAMP:20260424T082747
CREATED:20260420T220247Z
LAST-MODIFIED:20260420T220247Z
UID:199640-1778284800-1778371199@herrikultura.eus
SUMMARY:"Ez da kasualitatea" bertso saio musikatua: Uxue Alberdi\, Miren Amuriza\, Onintza Enbeita\, Aissa Intxausti\, Araitz Bizkai\, Oihana Landa
DESCRIPTION:«Ez da kasualitatea» bertso saio musikatua. MusEkintza egitasmoa \nBertsolariak: \n\nUxue Alberdi\nMiren Amuriza\nOnintza Enbeita\nAissa Intxausti \n\nParte-hartzaileak: \n\nAraitz Bizkai\nOihana Landa\n\nGai-jartzailea: Maite Berriozabal \nAntolatzailea: Garutik S.L \nKultur bitartekaria: Lanku
URL:https://herrikultura.eus/event/ez-da-kasualitatea-bertso-saio-musikatua-uxue-alberdi-miren-amuriza-onintza-enbeita-aissa-intxausti-araitz-bizkai-oihana-landa/
LOCATION:Muñatones Gaztelua\, Muskiz\, Bizkaia\, 071\, España
CATEGORIES:Bertsolaritza
ATTACH;FMTTYPE=image/jpeg:https://herrikultura.eus/wp-content/uploads/2026/04/Ezdakasualitatea.jpg
END:VEVENT
END:VCALENDAR