BEGIN:VCALENDAR
VERSION:2.0
PRODID:-//HerriKultura - ECPv6.2.3.1//NONSGML v1.0//EN
CALSCALE:GREGORIAN
METHOD:PUBLISH
X-WR-CALNAME:HerriKultura
X-ORIGINAL-URL:https://herrikultura.eus
X-WR-CALDESC:Eventos para HerriKultura
REFRESH-INTERVAL;VALUE=DURATION:PT1H
X-Robots-Tag:noindex
X-PUBLISHED-TTL:PT1H
BEGIN:VTIMEZONE
TZID:Europe/Madrid
BEGIN:DAYLIGHT
TZOFFSETFROM:+0100
TZOFFSETTO:+0200
TZNAME:CEST
DTSTART:20260329T010000
END:DAYLIGHT
BEGIN:STANDARD
TZOFFSETFROM:+0200
TZOFFSETTO:+0100
TZNAME:CET
DTSTART:20261025T010000
END:STANDARD
END:VTIMEZONE
BEGIN:VEVENT
DTSTART;VALUE=DATE:20260510
DTEND;VALUE=DATE:20260511
DTSTAMP:20260424T082733
CREATED:20260420T220247Z
LAST-MODIFIED:20260420T220247Z
UID:199643-1778371200-1778457599@herrikultura.eus
SUMMARY:Bertso saioa: Alaia Martin\, Inazio Vidal
DESCRIPTION:Kanpamartxo jaia \nBertsolariak: \n\nAlaia Martin\nInazio Vidal\n\nAntolatzailea: Algortako Bertsolari Eskola \nKultur bitartekaria: Lanku
URL:https://herrikultura.eus/event/bertso-saioa-alaia-martin-inazio-vidal/
LOCATION:Asua auzoa\, Erandio\, Bizkaia\, 902\, España
CATEGORIES:Bertsolaritza
ATTACH;FMTTYPE=image/jpeg:https://herrikultura.eus/wp-content/uploads/2026/04/AlaiaMartin.jpg
END:VEVENT
END:VCALENDAR