BEGIN:VCALENDAR
VERSION:2.0
PRODID:-//HerriKultura - ECPv6.2.3.1//NONSGML v1.0//EN
CALSCALE:GREGORIAN
METHOD:PUBLISH
X-ORIGINAL-URL:https://herrikultura.eus
X-WR-CALDESC:Eventos para HerriKultura
REFRESH-INTERVAL;VALUE=DURATION:PT1H
X-Robots-Tag:noindex
X-PUBLISHED-TTL:PT1H
BEGIN:VTIMEZONE
TZID:Europe/Madrid
BEGIN:DAYLIGHT
TZOFFSETFROM:+0100
TZOFFSETTO:+0200
TZNAME:CEST
DTSTART:20260329T010000
END:DAYLIGHT
BEGIN:STANDARD
TZOFFSETFROM:+0200
TZOFFSETTO:+0100
TZNAME:CET
DTSTART:20261025T010000
END:STANDARD
END:VTIMEZONE
BEGIN:VEVENT
DTSTART;VALUE=DATE:20260511
DTEND;VALUE=DATE:20260512
DTSTAMP:20260424T082730
CREATED:20260420T220248Z
LAST-MODIFIED:20260420T220248Z
UID:199645-1778457600-1778543999@herrikultura.eus
SUMMARY:Naia Arrizabalaga\, Suhar Gesalaga Egiguren
DESCRIPTION:«Bertso jasa\, bat-bateko jolasa» haurrentzako bertso emanaldia . Bertsolariak: Naia Arrizabalaga\, Suhar Gesalaga Egiguren . Antolatzailea: Eibarko Udala . Kultur bitartekaria: Lanku
URL:https://herrikultura.eus/event/naia-arrizabalaga-suhar-gesalaga-egiguren/
LOCATION:Arrateko aterpetxea\, Eibar\, Gipuzkoa\, 030\, España
CATEGORIES:Bertsolaritza
END:VEVENT
END:VCALENDAR