BEGIN:VCALENDAR
VERSION:2.0
PRODID:-//HerriKultura - ECPv6.2.3.1//NONSGML v1.0//EN
CALSCALE:GREGORIAN
METHOD:PUBLISH
X-ORIGINAL-URL:https://herrikultura.eus
X-WR-CALDESC:Eventos para HerriKultura
REFRESH-INTERVAL;VALUE=DURATION:PT1H
X-Robots-Tag:noindex
X-PUBLISHED-TTL:PT1H
BEGIN:VTIMEZONE
TZID:Europe/Madrid
BEGIN:DAYLIGHT
TZOFFSETFROM:+0100
TZOFFSETTO:+0200
TZNAME:CEST
DTSTART:20260329T010000
END:DAYLIGHT
BEGIN:STANDARD
TZOFFSETFROM:+0200
TZOFFSETTO:+0100
TZNAME:CET
DTSTART:20261025T010000
END:STANDARD
END:VTIMEZONE
BEGIN:VEVENT
DTSTART;VALUE=DATE:20260527
DTEND;VALUE=DATE:20260528
DTSTAMP:20260424T170413
CREATED:20260415T220341Z
LAST-MODIFIED:20260415T220341Z
UID:198697-1779840000-1779926399@herrikultura.eus
SUMMARY:Bertso-saio literarioa "Esne-berriketan": Uxue Alberdi\, Nerea Ibarzabal\, Oihana Iguaran\, Amorante
DESCRIPTION:Esne berriketan izeneko liburua idazteko Uxue Alberdi herriz herri istorioak biltzen aritu da bi urtez. Andrazkoei buruzko istorioak jaso ditu\, nagusiki emakumeek kontatuak. Ahoz jasoak idatziz eman ditu orain. Liburua aurkezteko zenbait bertso-saio literario antolatuko ditu Iban Urizar Amorante musikariarekin eta Oihana Iguaran eta Nerea Ibarzabal bertsolariekin. \nIdazlea:Uxue Alberdi \nMusikaria: Amorante \nBertsolariak: Oihana Iguaran\, Nerea Ibarzabal
URL:https://herrikultura.eus/event/bertso-saio-literarioa-esne-berriketan-uxue-alberdi-nerea-ibarzabal-oihana-iguaran-amorante/
LOCATION:Casares-Tomasene Kultur Etxea – (Larres Parkea (Tomasene atzekaldean))\, Darieta bidea\, 1\, Donostia / San Sebastián\, Gipuzkoa\, 069\, España
CATEGORIES:Bertsolaritza
ATTACH;FMTTYPE=image/jpeg:https://herrikultura.eus/wp-content/uploads/2026/04/Esneberriketan.jpg
END:VEVENT
END:VCALENDAR