BEGIN:VCALENDAR
VERSION:2.0
PRODID:-//HerriKultura - ECPv6.2.3.1//NONSGML v1.0//EN
CALSCALE:GREGORIAN
METHOD:PUBLISH
X-ORIGINAL-URL:https://herrikultura.eus
X-WR-CALDESC:Eventos para HerriKultura
REFRESH-INTERVAL;VALUE=DURATION:PT1H
X-Robots-Tag:noindex
X-PUBLISHED-TTL:PT1H
BEGIN:VTIMEZONE
TZID:Europe/Madrid
BEGIN:DAYLIGHT
TZOFFSETFROM:+0100
TZOFFSETTO:+0200
TZNAME:CEST
DTSTART:20260329T010000
END:DAYLIGHT
BEGIN:STANDARD
TZOFFSETFROM:+0200
TZOFFSETTO:+0100
TZNAME:CET
DTSTART:20261025T010000
END:STANDARD
END:VTIMEZONE
BEGIN:VEVENT
DTSTART;VALUE=DATE:20260424
DTEND;VALUE=DATE:20260425
DTSTAMP:20260424T053222
CREATED:20260211T230349Z
LAST-MODIFIED:20260211T230349Z
UID:186429-1776988800-1777075199@herrikultura.eus
SUMMARY:Gipuzkoako Herriarteko Bertso Txapelketa 2026
DESCRIPTION:Eskualdeka jokatuko den lehen fasearen ostean\, Buruntzaldea eta Donostia/Oarsoaldea eskualdeetako talde irabazleen arteko saioa izango da. Kutsu informalagoa duen txapelketako saioa izango da. \nAntolatzailea: Gipuzkoako Bertsozale Elkartea \nSarrerak  \n\nArrunta 10 euro \nBertsozale elkarteko bazkidea 8 euro\nGaztea (18 urtetik behera) 8 euro
URL:https://herrikultura.eus/event/gipuzkoako-herriarteko-bertso-txapelketa-2026/
LOCATION:La Milagrosa Eliza (Zorrotza)\, Bilbao\, Bizkaia\, 020\, España
CATEGORIES:Bertsolaritza
ATTACH;FMTTYPE=image/jpeg:https://herrikultura.eus/wp-content/uploads/2026/02/42-2.jpg
END:VEVENT
BEGIN:VEVENT
DTSTART;VALUE=DATE:20260424
DTEND;VALUE=DATE:20260425
DTSTAMP:20260424T053222
CREATED:20260331T220229Z
LAST-MODIFIED:20260331T220229Z
UID:195990-1776988800-1777075199@herrikultura.eus
SUMMARY:"1TZ4L1 3T4 P1ZTU": Aroa Arrizubieta\, Miren Artetxe\, Nerea Ibarzabal\, Ekhiñe Zapiain Arlegi Manex Pagola\, Aner Peritz Manterola
DESCRIPTION:1TZ4L1 3T4 P1ZTU. Bertso saio elektronikoa \nBertsolariak: \n\nAroa Arrizubieta\nMiren Artetxe\nNerea Ibarzabal\nEkhiñe Zapiain Arlegi\n\nParte-hartzaileak: \n\nManex Pagola\nAner Peritz Manterola\n\nGai-jartzailea: Ainhoa Urien \nAntolatzailea: Durangoko Udala \nKultur bitartekaria: Lanku
URL:https://herrikultura.eus/event/1tz4l1-3t4-p1ztu-aroa-arrizubieta-miren-artetxe-nerea-ibarzabal-ekhine-zapiain-arlegi-manex-pagola-aner-peritz-manterola/
LOCATION:Plateruena Kultur Aterpea – (Ahotsenea Musika ? Plateruena)\, Landako Etorbidea\, 4\, Durango\, Bizkaia\, 027\, España
CATEGORIES:Bertsolaritza
ATTACH;FMTTYPE=image/jpeg:https://herrikultura.eus/wp-content/uploads/2026/04/1TZ4L13T4P1ZTU.jpg
END:VEVENT
BEGIN:VEVENT
DTSTART;VALUE=DATE:20260424
DTEND;VALUE=DATE:20260425
DTSTAMP:20260424T053222
CREATED:20260409T220340Z
LAST-MODIFIED:20260409T220340Z
UID:197680-1776988800-1777075199@herrikultura.eus
SUMMARY:Bertso jaialdia: Aitor Bizkarra\, Andoni Egaña\, Libe Goenaga\, Aitor Mendiluze
DESCRIPTION:Bota bildurrikpe! bertso saioa \nBertsolariak: \n\nAitor Bizkarra\nAndoni Egaña\nLibe Goenaga\nAitor Mendiluze\n\nAntolatzailea: Haginpe Taberna
URL:https://herrikultura.eus/event/bertso-jaialdia-aitor-bizkarra-andoni-egana-libe-goenaga-aitor-mendiluze/
LOCATION:Haginpe taberna\, Azpeitia\, Gipuzkoa\, 018\, España
CATEGORIES:Bertsolaritza
ATTACH;FMTTYPE=image/jpeg:https://herrikultura.eus/wp-content/uploads/2026/04/AitorBizkarra.jpg
END:VEVENT
BEGIN:VEVENT
DTSTART;VALUE=DATE:20260424
DTEND;VALUE=DATE:20260425
DTSTAMP:20260424T053222
CREATED:20260423T220257Z
LAST-MODIFIED:20260423T220257Z
UID:200238-1776988800-1777075199@herrikultura.eus
SUMMARY:Hernandorena Bertsolari Gazteen Sariketa 2026 (2.kanporaketa): Sabin Abarrategi\, June Aiestaran\, Irati Alcantarilla\, Izaro Bilbao\, Irantzu Idoate Funosas\, Johane Larre
DESCRIPTION:Hernandorena. Bertsolari Gazteen Sariketa 2.kanporaketa  \nBertsolariak: \n\nSabin Abarrategi\nJune Aiestaran\nIrati Alcantarilla\nIzaro Bilbao\nIrantzu Idoate Funosas\nJohane Larre \n\nGai-jartzailea: Antton Lannes \nAntolatzailea: Bertsularien Lagunak
URL:https://herrikultura.eus/event/hernandorena-bertsolari-gazteen-sariketa-2026-2-kanporaketa-sabin-abarrategi-june-aiestaran-irati-alcantarilla-izaro-bilbao-irantzu-idoate-funosas-johane-larre/
LOCATION:Enbata Hendaiako Gaztetxea\, Askatasunaren kalea\, 16\, Hendaye\, 618\, Francia
CATEGORIES:Bertsolaritza
ATTACH;FMTTYPE=image/jpeg:https://herrikultura.eus/wp-content/uploads/2026/04/2-5.jpg
END:VEVENT
BEGIN:VEVENT
DTSTART;VALUE=DATE:20260425
DTEND;VALUE=DATE:20260426
DTSTAMP:20260424T053222
CREATED:20260401T220227Z
LAST-MODIFIED:20260401T220227Z
UID:196171-1777075200-1777161599@herrikultura.eus
SUMMARY:Bertso bazkaria: Aissa Intxausti\, Aner Peritz Manterola
DESCRIPTION:Bertso bazkaria. Esaera zaharren txapelketa 31.edizioa  \nBertsolariak: \n\nAissa Intxausti\nAner Peritz Manterola\n\nAntolatzailea: Euskaraz Koop \nKultur bitartekaria: Lanku
URL:https://herrikultura.eus/event/bertso-bazkaria-aissa-intxausti-aner-peritz-manterola/
LOCATION:Udaletxeko plaza eta Artadi garagardotegia\, Sopela\, Bizkaia\, 085\, España
CATEGORIES:Bertsolaritza
ATTACH;FMTTYPE=image/jpeg:https://herrikultura.eus/wp-content/uploads/2026/04/anereuzkitze.jpg
END:VEVENT
BEGIN:VEVENT
DTSTART;VALUE=DATE:20260425
DTEND;VALUE=DATE:20260426
DTSTAMP:20260424T053222
CREATED:20260404T220239Z
LAST-MODIFIED:20260404T220239Z
UID:196720-1777075200-1777161599@herrikultura.eus
SUMMARY:Bertso afaria: Igor Elortza\, Unai Iturriaga
DESCRIPTION:Bertso afaria \nBertsolariak: \n\nIgor Elortza\nUnai Iturriaga
URL:https://herrikultura.eus/event/bertso-afaria-igor-elortza-unai-iturriaga/
LOCATION:Urtxola jatetxea\, Sare\, 673\, Francia
CATEGORIES:Bertsolaritza
ATTACH;FMTTYPE=image/jpeg:https://herrikultura.eus/wp-content/uploads/2026/04/igorelortza.jpg
END:VEVENT
BEGIN:VEVENT
DTSTART;VALUE=DATE:20260425
DTEND;VALUE=DATE:20260426
DTSTAMP:20260424T053222
CREATED:20260409T220341Z
LAST-MODIFIED:20260409T220341Z
UID:197685-1777075200-1777161599@herrikultura.eus
SUMMARY:Bertsolari Beteranoen Sariketea 2026: Finala
DESCRIPTION:Bertsolari Beteranoen Sariketea. Finala \nAntolatzailea: Supaztarrean Kultura Alkartea
URL:https://herrikultura.eus/event/bertsolari-beteranoen-sariketea-2026-finala/
LOCATION:Iza Jatetxea\, Orozko\, Bizkaia\, 075\, España
CATEGORIES:Bertsolaritza
ATTACH;FMTTYPE=image/jpeg:https://herrikultura.eus/wp-content/uploads/2026/04/1-17.jpg
END:VEVENT
BEGIN:VEVENT
DTSTART;VALUE=DATE:20260425
DTEND;VALUE=DATE:20260426
DTSTAMP:20260424T053222
CREATED:20260409T220341Z
LAST-MODIFIED:20260409T220341Z
UID:197683-1777075200-1777161599@herrikultura.eus
SUMMARY:Bertso bazkaria: Andoni Egaña\, Sebastian Lizaso
DESCRIPTION:Bertso bazkaria. Baba jana  \nBertsolariak: \n\nAndoni Egaña\nSebastian Lizaso
URL:https://herrikultura.eus/event/bertso-bazkaria-andoni-egana-sebastian-lizaso/
LOCATION:Untzillako elkartea\, Aramaio\, Álava\, 003\, España
CATEGORIES:Bertsolaritza
ATTACH;FMTTYPE=image/jpeg:https://herrikultura.eus/wp-content/uploads/2026/04/andoniegana.jpg
END:VEVENT
BEGIN:VEVENT
DTSTART;VALUE=DATE:20260425
DTEND;VALUE=DATE:20260426
DTSTAMP:20260424T053222
CREATED:20260409T220342Z
LAST-MODIFIED:20260409T220342Z
UID:197687-1777075200-1777161599@herrikultura.eus
SUMMARY:Bertsolari Beteranoen Sariketea 2026 (1. kanporaketa): Nahikari Gabilondo\, Iratxe Ibarra\, Kristina Mardaras\, Juanjo Respaldiza
DESCRIPTION:Bertsolari Beteranoen Sariketea 1. Kanporaketa  \nBertsolariak: \n\nNahikari Gabilondo\nIratxe Ibarra\nKristina Mardaras\nJuanjo Respaldiza\n\nAntolatzailea: Supaztarrean Kultura Alkartea
URL:https://herrikultura.eus/event/bertsolari-beteranoen-sariketea-2026-1-kanporaketa-nahikari-gabilondo-iratxe-ibarra-kristina-mardaras-juanjo-respaldiza/
LOCATION:Kalaka Batzokia\, Orozko\, Bizkaia\, 075\, España
CATEGORIES:Bertsolaritza
ATTACH;FMTTYPE=image/jpeg:https://herrikultura.eus/wp-content/uploads/2026/04/IratxeIbarra.jpg
END:VEVENT
BEGIN:VEVENT
DTSTART;VALUE=DATE:20260425
DTEND;VALUE=DATE:20260426
DTSTAMP:20260424T053222
CREATED:20260409T220343Z
LAST-MODIFIED:20260409T220343Z
UID:197690-1777075200-1777161599@herrikultura.eus
SUMMARY:Bertsolari Beteranoen Sariketea 2026 (2. Kanporaketa): Manolo Arozena\, Bittor Elizagoien\, Serapio Lopez\, Oihane Perea
DESCRIPTION:Bertsolari Beteranoen Sariketea 2. Kanporaketa  \nBertsolariak: \n\nManolo Arozena\nBittor Elizagoien\nSerapio Lopez\nOihane Perea\n\nAntolatzailea: Supaztarrean Kultura Alkartea
URL:https://herrikultura.eus/event/bertsolari-beteranoen-sariketea-2026-2-kanporaketa-manolo-arozena-bittor-elizagoien-serapio-lopez-oihane-perea/
LOCATION:Kalakan\, Orozko\, Bizkaia\, 075\, España
CATEGORIES:Bertsolaritza
ATTACH;FMTTYPE=image/jpeg:https://herrikultura.eus/wp-content/uploads/2026/04/oihaneperea.jpg
END:VEVENT
BEGIN:VEVENT
DTSTART;VALUE=DATE:20260425
DTEND;VALUE=DATE:20260426
DTSTAMP:20260424T053222
CREATED:20260420T220245Z
LAST-MODIFIED:20260420T220245Z
UID:199631-1777075200-1777161599@herrikultura.eus
SUMMARY:Bertso bazkaria: Uxue Alkorta\, Maite Sarasola\, Maddi Ane Txoperena
DESCRIPTION:Bertso bazkaria. Gaztedi Dantza Taldearen 75.urteurrena \nBertsolariak: \n\nUxue Alkorta\nMaite Sarasola\nMaddi Ane Txoperena \n\nAntolatzailea: Gaztedi Dantza Taldea  \nKultur bitartekaria: Lanku
URL:https://herrikultura.eus/event/bertso-bazkaria-uxue-alkorta-maite-sarasola-maddi-ane-txoperena/
LOCATION:Santutxu. Karmelo plaza\, Bilbao\, Bizkaia\, 020\, España
CATEGORIES:Bertsolaritza
ATTACH;FMTTYPE=image/jpeg:https://herrikultura.eus/wp-content/uploads/2026/04/maitesarasola.jpg
END:VEVENT
BEGIN:VEVENT
DTSTART;VALUE=DATE:20260425
DTEND;VALUE=DATE:20260426
DTSTAMP:20260424T053222
CREATED:20260423T220257Z
LAST-MODIFIED:20260423T220257Z
UID:200240-1777075200-1777161599@herrikultura.eus
SUMMARY:Bertso saioa: Ekhiñe Zapiain Arlegi\, Julen Zelaieta
DESCRIPTION:Libreko saioa. Azienda feria  \nBertsolariak: \n\nEkhiñe Zapiain Arlegi\nJulen Zelaieta\n\nAntolatzailea: Berako Abeltzainak\, Berako Udala
URL:https://herrikultura.eus/event/bertso-saioa-ekhine-zapiain-arlegi-julen-zelaieta/
LOCATION:Edurne Garitazelaia Kultur Etxea (Arrigorriaga)\, Urgoiti Pasealekua\, 8\, Arrigorriaga\, Bizkaia\, 011\, España
CATEGORIES:Bertsolaritza
ATTACH;FMTTYPE=image/jpeg:https://herrikultura.eus/wp-content/uploads/2026/04/ekhinezapiain.jpg
END:VEVENT
BEGIN:VEVENT
DTSTART;VALUE=DATE:20260425
DTEND;VALUE=DATE:20260426
DTSTAMP:20260424T053222
CREATED:20260423T220258Z
LAST-MODIFIED:20260423T220258Z
UID:200243-1777075200-1777161599@herrikultura.eus
SUMMARY:Altzako Bertso Aroa 2026: Irati Alcantarilla\, Iker Zubeldia
DESCRIPTION:Bertso bazkaria. Altzako XXVI. Bertso Aroa  \nBertsolariak: \n\nIrati Alcantarilla\nIker Zubeldia\n\nAntolatzailea: Altzako Bertsozaleak\, Altzania Kultur Elkartea\, Bizarrain Euskara Elkartea \nKultur bitartekaria: Lanku
URL:https://herrikultura.eus/event/altzako-bertso-aroa-2026-irati-alcantarilla-iker-zubeldia/
LOCATION:Herrera K.E\, Donostia / San Sebastián\, Gipuzkoa\, 069\, España
CATEGORIES:Bertsolaritza
ATTACH;FMTTYPE=image/jpeg:https://herrikultura.eus/wp-content/uploads/2026/04/1-2.jpg
END:VEVENT
BEGIN:VEVENT
DTSTART;VALUE=DATE:20260426
DTEND;VALUE=DATE:20260427
DTSTAMP:20260424T053222
CREATED:20260405T220312Z
LAST-MODIFIED:20260405T220312Z
UID:197035-1777161600-1777247999@herrikultura.eus
SUMMARY:Bertso jaialdia: Onintza Enbeita\, Sarai Robles\, Maddi Ane Txoperena Ainhoa Elizondo
DESCRIPTION:Nafarroaren eguna. Bertso saio musikatua  \nBertsolariak: \n\nOnintza Enbeita\nSarai Robles\nMaddi Ane Txoperena\n\nParte-hartzaileak: Ainhoa Elizondo \nGai-jartzailea: Xalbat Alzugarai\, Amaia Kastorene Luro \nAntolatzailea: Basaizea Elkartea
URL:https://herrikultura.eus/event/bertso-jaialdia-onintza-enbeita-sarai-robles-maddi-ane-txoperena-ainhoa-elizondo/
LOCATION:Herriko etxearen gibelean\, Saint-Etienne-de-Baïgorry\, 567\, Francia
CATEGORIES:Bertsolaritza
ATTACH;FMTTYPE=image/jpeg:https://herrikultura.eus/wp-content/uploads/2026/04/2-6.jpg
END:VEVENT
BEGIN:VEVENT
DTSTART;VALUE=DATE:20260426
DTEND;VALUE=DATE:20260427
DTSTAMP:20260424T053222
CREATED:20260409T220343Z
LAST-MODIFIED:20260409T220343Z
UID:197692-1777161600-1777247999@herrikultura.eus
SUMMARY:Bertso bazkaria: Andoni Egaña\, Sebastian Lizaso\, Aitor Mendiluze\, Anjel Mari Peñagarikano
DESCRIPTION:Bertso bazkaria \nBertsolariak: \n\nAndoni Egaña\nSebastian Lizaso\nAitor Mendiluze\nAnjel Mari Peñagarikano\n\nAntolatzailea: Ola Sagardotegia
URL:https://herrikultura.eus/event/bertso-bazkaria-andoni-egana-sebastian-lizaso-aitor-mendiluze-anjel-mari-penagarikano/
LOCATION:Sarasola Sagardotegia\, Asteasu\, Gipuzkoa\, 014\, España
CATEGORIES:Bertsolaritza
ATTACH;FMTTYPE=image/jpeg:https://herrikultura.eus/wp-content/uploads/2026/04/AnjelMariPenagarikano-scaled.jpg
END:VEVENT
BEGIN:VEVENT
DTSTART;VALUE=DATE:20260427
DTEND;VALUE=DATE:20260428
DTSTAMP:20260424T053222
CREATED:20260420T220245Z
LAST-MODIFIED:20260420T220245Z
UID:199633-1777248000-1777334399@herrikultura.eus
SUMMARY:Uxue Alkorta\, Libe Goenaga
DESCRIPTION:«Bertso jasa\, bat-bateko jolasa» haurrentzako bertso emanaldia . Bertsolariak: Uxue Alkorta\, Libe Goenaga . Antolatzailea: Eibarko Udala . Kultur bitartekaria: Lanku
URL:https://herrikultura.eus/event/uxue-alkorta-libe-goenaga/
LOCATION:Arrateko aterpetxea\, Eibar\, Gipuzkoa\, 030\, España
CATEGORIES:Bertsolaritza
END:VEVENT
BEGIN:VEVENT
DTSTART;VALUE=DATE:20260428
DTEND;VALUE=DATE:20260429
DTSTAMP:20260424T053222
CREATED:20260218T230332Z
LAST-MODIFIED:20260218T230332Z
UID:187745-1777334400-1777420799@herrikultura.eus
SUMMARY:Bertso saio literarioa: "Zimurrak izango ditugunerako"
DESCRIPTION:Loraldia Gaztearentzat sortutako ikuskizuna da. \nEztizen Artolak egindako Zimurrak izango ditugunerako gogoeta literarioa abiapuntu\, bertsotan arituko dira Haira Aizpurua eta Maite Sarasola\, Peru Goioagaren gitarra doinuek lagunduta.
URL:https://herrikultura.eus/event/bertso-saio-literarioa-zimurrak-izango-ditugunerako/
LOCATION:Bilboko Kafe Antzokia – (Bilborock eta)\, Done Bikendi\, 2\, Bilbao\, Bizkaia\, 020\, España
CATEGORIES:Bertsolaritza
ATTACH;FMTTYPE=image/jpeg:https://herrikultura.eus/wp-content/uploads/2026/02/45-5.jpg
END:VEVENT
END:VCALENDAR