BEGIN:VCALENDAR
VERSION:2.0
PRODID:-//HerriKultura - ECPv6.2.3.1//NONSGML v1.0//EN
CALSCALE:GREGORIAN
METHOD:PUBLISH
X-WR-CALNAME:HerriKultura
X-ORIGINAL-URL:https://herrikultura.eus
X-WR-CALDESC:Eventos para HerriKultura
REFRESH-INTERVAL;VALUE=DURATION:PT1H
X-Robots-Tag:noindex
X-PUBLISHED-TTL:PT1H
BEGIN:VTIMEZONE
TZID:Europe/Madrid
BEGIN:DAYLIGHT
TZOFFSETFROM:+0100
TZOFFSETTO:+0200
TZNAME:CEST
DTSTART:20260329T010000
END:DAYLIGHT
BEGIN:STANDARD
TZOFFSETFROM:+0200
TZOFFSETTO:+0100
TZNAME:CET
DTSTART:20261025T010000
END:STANDARD
END:VTIMEZONE
BEGIN:VEVENT
DTSTART;VALUE=DATE:20260220
DTEND;VALUE=DATE:20270101
DTSTAMP:20260422T095615
CREATED:20260217T230354Z
LAST-MODIFIED:20260217T230354Z
UID:187550-1771545600-1798761599@herrikultura.eus
SUMMARY:"LUNA VR esperientzia: Benetako astronauta moduan sentitu ahal izango zaren erakusketa murgiltzailea"
DESCRIPTION:Antolakuntzak adierazten du: \nViaja a la Luna en Realidad Virtual y siéntete como un astronauta. Revive la primera misión del hombre a la Luna desde Bilbao.  \nUna experiencia VR inmersiva\, educativa y cargada de emoción. \n\nDuración: 1 hora aproximadamente.\nRecomendada a partir de 10 años.\nSe recomienda reservar con antelación.\n\n 
URL:https://herrikultura.eus/event/luna-vr-esperientzia-benetako-astronauta-moduan-sentitu-ahal-izango-zaren-erakusketa-murgiltzailea/
LOCATION:Virtual Zone Bilbao\, Bilbao\, Bizkaia\, 020\, España
CATEGORIES:Bestelakoak
ATTACH;FMTTYPE=image/jpeg:https://herrikultura.eus/wp-content/uploads/2026/02/60-4.jpg
END:VEVENT
BEGIN:VEVENT
DTSTART;VALUE=DATE:20260220
DTEND;VALUE=DATE:20270101
DTSTAMP:20260422T095615
CREATED:20260217T230355Z
LAST-MODIFIED:20260217T230355Z
UID:187554-1771545600-1798761599@herrikultura.eus
SUMMARY:"Invasion Bilbao: Defiende tu ciuad de una invasión alienígena con Realidad Virtual"
DESCRIPTION:Invasion Bilbao: Combate a los alienígenas por espacios emblemáticos de Bilbao: la ribera del Nervión\, el metro o el estadio.– Una trepidante experiencia de acción con Realidad Virtual para grupos a partir de 2 personas.– Duración: 45 minutos de juego + 15 de explicación previa.– Recomendada a partir de 10 años.– Deseable reservar con antelación.– Dirección: C. María Díaz de Haro\, 10 bis\, 48013 Bilbao\, Vizcaya
URL:https://herrikultura.eus/event/invasion-bilbao-defiende-tu-ciuad-de-una-invasion-alienigena-con-realidad-virtual/
LOCATION:Virtual Zone Bilbao\, Bilbao\, Bizkaia\, 020\, España
CATEGORIES:Bestelakoak
ATTACH;FMTTYPE=image/jpeg:https://herrikultura.eus/wp-content/uploads/2026/02/4354354334.jpg
END:VEVENT
BEGIN:VEVENT
DTSTART;VALUE=DATE:20260307
DTEND;VALUE=DATE:20260726
DTSTAMP:20260422T095615
CREATED:20260302T230224Z
LAST-MODIFIED:20260302T230224Z
UID:190075-1772841600-1785023999@herrikultura.eus
SUMMARY:Bisita gidatuak: "Igaralde baserria eta errota"
DESCRIPTION:Igaralde Goikoa baserrian egingo den bisita honetan\, Tibur Agirre izango da gidaria eta ogiaren elaborazio tradizionalaren prozesu osoa azalduko du: hazia ereitetik hasi\, uzta bildu\, irina ekoitzi\, orea prestatu eta labean egosi arte. Aldi berean\, euskal baserritarren bizimodua ezagutuko dugu eta XVI. mendeko errota martxan ikusiko dugu. Familia giroan egiteko bisita aproposa da\, esperientzia atsegin eta didaktikoa eskaintzen duena.
URL:https://herrikultura.eus/event/bisita-gidatuak-igaralde-baserria-eta-errota/
LOCATION:Igaralde\, Ogiaren Txokoa\, Igaralde-Goena Auzoa. Brinkola Auzoa\, z/g\, Legazpi\, Gipuzkoa\, 051\, España
CATEGORIES:Bestelakoak
ATTACH;FMTTYPE=image/jpeg:https://herrikultura.eus/wp-content/uploads/2026/03/39.jpg
END:VEVENT
BEGIN:VEVENT
DTSTART;VALUE=DATE:20260311
DTEND;VALUE=DATE:20260621
DTSTAMP:20260422T095615
CREATED:20260226T230401Z
LAST-MODIFIED:20260226T230401Z
UID:189374-1773187200-1781999999@herrikultura.eus
SUMMARY:"CARNE Y ARENA"\, Alejandro G. Iñárrituren murgiltze-instalazioa
DESCRIPTION:Alejandro González Iñarritu mexikar zinemagilearen «Carne y Arena» murgiltze-esperientziak Bilbon ekingo dio\, martxoaren 11tik ekainaren 20ra bitartean eta EITBren egoitzako 5. platoan\, nazioarteko bira berriari. \n\nEsperientzia hori bizi ahal izateko sarrerak EITBren webgune ofizialean egongo dira salgai\, otsailaren 17tik (martitzena) aurrera; zehazki\, www.eitb.eus/carneyarena  \n\nErakusketa hau erakunde hauen eskutik dator Bilbora: Bilboko Udala\, Bizkaiko Foru Aldundiko Enplegua\, Gizarte Kohesioa eta Berdintasuna Sustatzeko Saila\, BBK Banku-fundazioa eta EITB. Erakusketa egiteko\, aliantza publiko-pribatu bat egin da\, giza eskubideekiko\, kulturarteko bizikidetzarekiko eta gizarte-kohesioarekiko konpromiso instituzionala sendotzen duena. \n«CARNE y ARENA» garatzen deneko esparru estrategikoa koherentea da Garapen Jasangarrirako Helburuekin\, Bilbo Kulturarteko Hiria III. Planarekin eta Bizkaiko Foru Aldundiaren Aniztasunaren eta Gizarte Kohesioaren II. Planarekin. \nEITB-REN BILBOKO EGOITZAN \nCARNE y ARENA (Birtualki Presente\, Fisikoki Ikusezin) errealitate birtualeko instalazio hori EITBren Bilboko egoitzako 5. platoa espazio berrian egongo da 2026ko martxoaren 11tik ekainaren 20ra arte. Instalazio hori Alejandro G. Iñárritu mexikar zinemagileak sortua da. \nBeraz\, murgiltze esperientzia honen nazioarteko bira berriaren abiapuntua izango da Bilbo. Legendaryk\, Emmerson Collectivek\, Fundacione Prada Phi Studiok eta 90_20k ekoitzi dute\, eta Industrial Light & Magicekin batera garatutako eguneratze teknologiko bat txertatu zaio\, bere potentzia sentsoriala indartzeko eta publikoaren harrera-baldintzak hobetzeko. \nProiektuak\, gainera\, Alejandro G. Iñarrituren parte-hartze aktiboa izango du\, eta herritarrei\, unibertsitate-eremuari eta industria zinematografikoari zuzendutako hitzaldi\, elkarrizketa publiko eta topaketetan parte hartuko du\, migrazioari eta bizikidetzari\, eta arteari eta teknologiari buruzko gaiak jorratzeko. \nErakustaldiko hiru hilabeteetan\, eztabaidak eta hausnarketarako espazioak programatuko dira\, data esanguratsuekin batera\, hala nola Arraza-diskriminazio mota guztiak desagerrarazteko Nazioarteko Egunean (martxoaren 21a)\, Kultura Aniztasunaren Munduko Egunean (maiatzaren 21a) eta Errefuxiatuen Munduko Egunean (ekainaren 20a). \nBaieztatutako lankidetzen artean\, honako hauek nabarmendu behar dira: \n\nMetro Bilbao; erakusketa osagarri bat egingo du martxoan eta apirilean Moyuako eta Santimamiko geltokietan.\nZAS! Zurrumurruen Aurkako Sarea (Zurrumurruen aurkako euskal sarea); arrazismoaren eta xenofobiaren kontrako sentsibilizazio- eta prebentzio-jarduerak bultzatuko ditu.\nBilbao Bizkaia Film Comission; ikus-entzunezkoen industriarekiko topaketa profesionalak eta jarduerak koordinatuko ditu\, sortzaileekiko solasaldiak eta unibertsitateko eskola magistral bat bat barne.\n\nMIGRAZIOARI ETA GIZA IZAERARI BURUZKO MURGILTZE-ESPERIENTZIA \n2017an\, Cannesko 70. Jaialdian estreinatu zen —lehiaketaren historian\, lehenengo proiektua da errealitate birtualean aurkeztu dena—\, eta Hollywoodeko Akademiak Oscar® berezia eman zion urte horretan bertan\, «esperientzia narratibo aparta» dela iritzita. CARNE y ARENAk murgiltze-zeharkaldi bat proposatzen du\, bisitaria mexikar eta erdialdeko amerikar migratzaile eta iheslarien bidaiaren zati baten erdigunean jartzen duena. \nErrealitate birtualeko sei minutu eta erdiz —guztira\, hamabost minutu inguruko esperientzia batean—\, ikuslearen eta historiako protagonistaren arteko mugak deseginez joaten dira. Bisitariak ez du migrazioa ikusten: zeharkatu egiten du. Oinez doa harearen gainean\, bertatik bertara entzuten\, sentitzen eta esperimentatzen du erbesterako bideari lotzen zaizkion pertsonen hauskortasuna eta duintasuna. \nIñárrituren hitzekin esanik\, obra hau «enkoadraketaren diktadura apurtzeko» eta zuzeneko esperientzia bat ahalbidetzeko nahitik sortu zen\, «migratzaileen oinekin ibiliz\, haien azalaren azpian eta bihotzaren barruan«. \nMIGRAZIO-MEMORIA ETA KORRESPONDENTZIA HISTORIKOA \nIñarrituk berak nabarmendu du zein egokia den instalazioa Bilbon jartzea\, kontuan izanik «testuinguru globala\, zeinean gorrotoaren diskurtsoa eta bestearekiko begiradaren erradikalizazioa areagotzen baitira«\, eta\, hain zuzen ere\, «teknologia eta artea dira\, ikuspegi humanista batetik eta esplorazio antropologiko batetik\, ulermena sor dezaketenak\, hura\, azken batean\, enpatia esateko beste modu bat baizik ez baita. Politikarik eta ideologiarik gabe\, Carne y Arenak are garrantzi handiagoa hartzen du.» \nZuzendariaren ustez\, bira Euskadin hastearen dimentsio sinbolikoa ukaezina da: «Euskadiren eta Mexikoren artean partekatutako historia horrek —familia-\, kultura- eta politika-loturen bidez ehundu den historia horrek— eremu emankor bat sortzen du\, obra honek oihartzuna eta pertenentzia-sentimendua izan dezan«. \nZuzendariak gogoratu du nolako elkartasuna erakutsi zien Mexikoko herriak Espainiako Gerra Zibilaren osteko euskal erbesteratuei\, eta nola berak ere familia-loturak dituen Euskadirekin. Horrela\, emozio-zubi bat zabaldu zuen komunitate bien artean. \nBizkaia eta Bilboko hiria erreferente dira migrazio-memoria sendoak eta erbestealdiari nahiz harrerari lotutako esperientzia historikoak markatutako gizarteen artean. Memoria partekatu horrek lotura sakona du CARNE y ARENA zeharkatzen duten balioekin: berdintasuna\, giza duintasuna eta aniztasunarekiko errespetua. Eta lotura hori nazioarteko testuinguru batean egiten du. \nInformazio praktikoa: \n\nEgunak: 2026ko martxoaren 11tik ekainaren 20ra arte\nLekua: 5. platoa. EITBren egoitza (Bilbo)\nSarrerak: otsailaren 17tik (martitzena)\, salgai\, EITBren webgunean: www.eitb.eus/carneyarena  \nPrezioa: 10 € + kudeaketa-kostuak (1\,21 €)
URL:https://herrikultura.eus/event/carne-y-arena-alejandro-g-inarrituren-murgiltze-instalazioa/
LOCATION:5. platoa. EITBren egoitza\, Bilbao\, Bizkaia\, 020\, España
CATEGORIES:Bestelakoak
ATTACH;FMTTYPE=image/jpeg:https://herrikultura.eus/wp-content/uploads/2026/02/31-4.jpg
END:VEVENT
BEGIN:VEVENT
DTSTART;VALUE=DATE:20260418
DTEND;VALUE=DATE:20260727
DTSTAMP:20260422T095615
CREATED:20260414T220315Z
LAST-MODIFIED:20260414T220315Z
UID:198394-1776470400-1785110399@herrikultura.eus
SUMMARY:"Igaralde baserria eta errota: Zatoz zure opiltxoa egitera!"
DESCRIPTION:Antolakuntzak jakinarazten du: \nBisita Ogiaren txokoan hasiko da. Bertan\, Zereal desberdinak ezagutu eta baserriko ogia egiteko prozesua ikusiko duzue. Ondoren\, nagusiek zein haurrek ogi opiltxo bat egiteko aukera izango duzue! Igaralde errota martxan ikusi eta bertan\, haurrek galbaia zer den ikasi eta erabiltzeko aukera izango dute. Bisita bukatzeko\, Igaralde errotako\, antzar eta ahateei ogi gogorra emango diezue. \n (mirandaola@lenbur.com ó 943730428)
URL:https://herrikultura.eus/event/igaralde-baserria-eta-errota-zatoz-zure-opiltxoa-egitera/
LOCATION:Igaralde\, Ogiaren Txokoa\, Igaralde-Goena Auzoa. Brinkola Auzoa\, z/g\, Legazpi\, Gipuzkoa\, 051\, España
CATEGORIES:Bestelakoak
ATTACH;FMTTYPE=image/jpeg:https://herrikultura.eus/wp-content/uploads/2026/04/5-1.jpg
END:VEVENT
BEGIN:VEVENT
DTSTART;VALUE=DATE:20260502
DTEND;VALUE=DATE:20260719
DTSTAMP:20260422T095615
CREATED:20260411T220341Z
LAST-MODIFIED:20260411T220341Z
UID:198060-1777680000-1784419199@herrikultura.eus
SUMMARY:Getxo Eszena Kalean
DESCRIPTION:Eguraldi onarekin batera\, aire zabaleko arte eszenikoen programazioa dakarkigu ?Getxo Eszena Kalean? zikloaren bigarren edizioak. Larunbatero\, maiatzaren 2tik aurrera\, adin guztiei zuzenduriko antzerki\, dantza\, zirkua eta askotariko generoez gozatzeko aukera izango dugu Areetako Geltokia plazako anfiteatroan. Aurten\, 14 ikuskizun izango dira\, Euskadi\, Katalunia\, Valentzia\, Portugal eta Frantziatik etorritako beste hainbeste konpainiaren eskutik. Kultura kalean bizitzera ere animatzen dizugu. \nLaster eskuko orria izango dugu deskargatzeko prest. 
URL:https://herrikultura.eus/event/getxo-eszena-kalean/
LOCATION:AREETAKO GELTOKIA PLAZA (Anfiteatro)\, Getxo\, Bizkaia\, 044\, España
CATEGORIES:Bestelakoak
END:VEVENT
END:VCALENDAR