BEGIN:VCALENDAR
VERSION:2.0
PRODID:-//HerriKultura - ECPv6.2.3.1//NONSGML v1.0//EN
CALSCALE:GREGORIAN
METHOD:PUBLISH
X-WR-CALNAME:HerriKultura
X-ORIGINAL-URL:https://herrikultura.eus
X-WR-CALDESC:Eventos para HerriKultura
REFRESH-INTERVAL;VALUE=DURATION:PT1H
X-Robots-Tag:noindex
X-PUBLISHED-TTL:PT1H
BEGIN:VTIMEZONE
TZID:Europe/Madrid
BEGIN:DAYLIGHT
TZOFFSETFROM:+0100
TZOFFSETTO:+0200
TZNAME:CEST
DTSTART:20260329T010000
END:DAYLIGHT
BEGIN:STANDARD
TZOFFSETFROM:+0200
TZOFFSETTO:+0100
TZNAME:CET
DTSTART:20261025T010000
END:STANDARD
END:VTIMEZONE
BEGIN:VEVENT
DTSTART;VALUE=DATE:20260508
DTEND;VALUE=DATE:20260509
DTSTAMP:20260424T051605
CREATED:20251225T230229Z
LAST-MODIFIED:20251225T230229Z
UID:176884-1778198400-1778284799@herrikultura.eus
SUMMARY:"Ultimatum"
DESCRIPTION:«ULTIMATUM» du izenburua Led Silhouette taldearen dantza garaikideko azken ekoizpen eszenikoak. \n\nTaldea 2016an sortu zuten Jon Lopezek eta Martxel Rodriguezek eta Lesakan du egoitza (Nafarroa). Ikuspegi berritzaile batetik antzerkia eta zinema uztartuz\, gizakiaren kontraesanetan sakontzen du. Gai sakonak lantzen ditu\, hala nola depresioa\, indibidualismoa\, zentzuaren galera eta gizartearen eta ekonomiaren gainbehera. \nAurreko lanen ildoari jarraituz\, “ULTIMATUM”  obrak gain behera doan mundu bati eta mundu horretan gizakiak duen ahultasunari buruzko gogoeta kritiko bat proposatzen du\, esperientzia estetiko bat ez ezik\, eta oraina kolokan jartzeko gonbita egiten dio publikoa. \nBakardadeak eta isiltasunak markaturiko paisaia bat planteatzen du\, zeinetan jokoan jartzen baita pertsonaien arteko erlazioa\, norberaren nortasunaren eta elkarrekiko zaintzaren arteko mugei erronka jotzeraino. Kalitate estetiko goreneko narratiba koreografiko batez eta zinematografiatik hurbileko zuzendaritza bisual baten bidez\, irudi eder bezain gordinak eskaintzen ditu “ULTIMATUM”ek\, eta ikusmenetik haratago doan zentzumenen esperientzia batera daramatza ikusleak. \nSinopsia:  \nTxikiak ginela ikusi genuen milurteko aldaketa\, munduari buruzko ideia apokaliptikoen beldurrez; mundu bat zeina ari baita desegiten\, hondatzen eta baso ilunean zauritutako animalia bat bezala usteltzen\, paraje kiskali batean. \nAfektuen zaintzak eta sareak eztabaida publikoaren erdigunean dauden eta indarkeria sistematikoei intersekzionalitatearen ikuspegitik aurre egiten zaien garai hauetan\, ate-joka dator garai berri bat\, mundu berri bat. Hemen\, badu tokirik eraldaketak\, baina ez da\, itxuraz\, sekula ernatzen. \nDispositibo eszeniko bat\, non mugitzen ari diren gorputz biziek bilatzen baitute beren salbazioa animaliarengan. Paisaia kiskali bat\, baso mortua\, iristen ez den udaberri baten zain. Ezbehar bat\, sakrifizioa\, agurra\, ongietorria\, ekitaldi kanonikoa\, animalia totemikoa\, norabidea aldarazten duten bizipenak\, gure bizi-lerroa marrazten duten inflexio-puntuak\, zurrunbilo bat. \nFitxa artistikoa: \n\n\n\n\n\nEgilea: Led Silhouette\nKontzeptua eta zuzendaritza: Jon López & Martxel Rodríguez\nInterpreteak: Katalin Arana\, Laura Lliteras\, Edoardo Ramirez\, Marcos Martincano\, Jon López\, Martxel Rodriguez\nAholkularitza artistikoa: Marcos Morau\nMusika-moldaketak: Mauricio Pérez Fayos\nOff-eko ahotsa: Mathilda Haynes\nZuzendaritza teknikoa eta argiztapena: Andoni Mendizabal\nSoinua eta ikus-entzunezkoak: Lívory Barbez\nEszenografia: Oscar Hernández Pol\nJantziak: Cobos Vestuario Escénico\nPropak eta txotxongiloak: Gadget Efectos Especiales\nArgazkia: Irantzu Pastor\nBideoa: El Estudio\, Ana Escario y Adela Moreno\nEkoizpen-laguntzailea: Nagore Martínez\nBanaketa: Rocío Pindado\nBanaketa\, Katalunian: Mónica Gene – MonicaDeGira\nBanaketa Galizian eta Portugalen: María Mariño – Kandengue Arts\nBanaketa\, nazioartean: Lola Ortiz de Lanzagorta
URL:https://herrikultura.eus/event/ultimatum-2/
LOCATION:Gayarre Antzokia – (Plaza)\, Carlos III. etorbidea\, 1\, Pamplona/Iruña\, Navarra\, 201\, España
CATEGORIES:Dantza
ATTACH;FMTTYPE=image/jpeg:https://herrikultura.eus/wp-content/uploads/2025/12/55-8.jpg
END:VEVENT
BEGIN:VEVENT
DTSTART;VALUE=DATE:20260508
DTEND;VALUE=DATE:20260509
DTSTAMP:20260424T051605
CREATED:20260415T220329Z
LAST-MODIFIED:20260415T220329Z
UID:198655-1778198400-1778284799@herrikultura.eus
SUMMARY:Dantza Plazan 2026: Luis Aramburu Udal Folklore Eskola
DESCRIPTION:Luis Aramburu Udal Folklore Eskolak dantzaren zentsu ludikoaz gozatzera gonbidatzen ditu gasteiztarrak. Publikoak dantza tradizional ezberdinak ikasi eta dantzatzeko aukera izango du.\n\n\nMaiatzak 8 Floridako Kioskoa \nMaiatzak 15 Arca Plaza \nMaiatzak 22 Santa Barbara Plaza \nMaiatzak 29 Espainia Plaza \nEkainak 5 Santa Barbara Plaza\nEkainak 12 Floridako Kioskoa \nEkainak 19 Espainia Plaza\nAbuztuak 9 Santa María Plaza\nIrailak 11 Floridako Kioskoa\nIrailak  18 Arca Plaza\nIrailak 25 Espainia Plaza\n\nOrdua: 19:30etan  \n\n 
URL:https://herrikultura.eus/event/dantza-plazan-2026-luis-aramburu-udal-folklore-eskola-3/
LOCATION:Florida Parkea – (Kioskoa)\, Vitoria-Gasteiz\, Álava\, 059\, España
CATEGORIES:Dantza
ATTACH;FMTTYPE=image/jpeg:https://herrikultura.eus/wp-content/uploads/2026/04/44-7.jpg
END:VEVENT
END:VCALENDAR