BEGIN:VCALENDAR
VERSION:2.0
PRODID:-//HerriKultura - ECPv6.2.3.1//NONSGML v1.0//EN
CALSCALE:GREGORIAN
METHOD:PUBLISH
X-WR-CALNAME:HerriKultura
X-ORIGINAL-URL:https://herrikultura.eus
X-WR-CALDESC:Eventos para HerriKultura
REFRESH-INTERVAL;VALUE=DURATION:PT1H
X-Robots-Tag:noindex
X-PUBLISHED-TTL:PT1H
BEGIN:VTIMEZONE
TZID:Europe/Madrid
BEGIN:DAYLIGHT
TZOFFSETFROM:+0100
TZOFFSETTO:+0200
TZNAME:CEST
DTSTART:20260329T010000
END:DAYLIGHT
BEGIN:STANDARD
TZOFFSETFROM:+0200
TZOFFSETTO:+0100
TZNAME:CET
DTSTART:20261025T010000
END:STANDARD
END:VTIMEZONE
BEGIN:VEVENT
DTSTART;VALUE=DATE:20260516
DTEND;VALUE=DATE:20260517
DTSTAMP:20260424T051657
CREATED:20251231T230234Z
LAST-MODIFIED:20251231T230234Z
UID:178086-1778889600-1778975999@herrikultura.eus
SUMMARY:"Alai familian"
DESCRIPTION:Lasala konpainiak Alai familian lana taularatuko du. Alaik sei urte ditu eta bere amona eta txakurrarekin bizi da. Alairen familia ez da bere lagunena bezalakoa eta horrek desberdin sentiarazten du\, baina gau batean ametsen munduan murgildu eta animalia mordo bat eta haien familia mota ezberdinak ezagutzen ditu. Nolakoa da\, ba\, familia normal bat? \nIdeia eta zuzendaritza artistikoa: Judith Argomaniz.Koreografiia: Judith Argomaniz dantzriekin lankidetzanDantzariak: Garazi Etxaburu\, Miren Lizeaga\, Leire Otamendi.Dramatúrgia: Judith Argomaniz\, Hodei Arrastoa\, Garazi Etxabutu\, Miren Lizeaga\, Leire Otamendi.Testoa: Hodei Arrastoa.Musika: Fernando Epelde.Argiztapena: Javier Ruiz de Alegría.Jantziak: Jantziz Lab.Argazkia eta bídeoa: Renata Etanowski. \n 
URL:https://herrikultura.eus/event/alai-familian/
LOCATION:Zornotza Aretoa\, Urbano Larruzea\, z/g\, Amorebieta-Etxano\, Bizkaia\, 003\, España
CATEGORIES:Dantza
ATTACH;FMTTYPE=image/jpeg:https://herrikultura.eus/wp-content/uploads/2026/01/56.jpg
END:VEVENT
BEGIN:VEVENT
DTSTART;VALUE=DATE:20260516
DTEND;VALUE=DATE:20260517
DTSTAMP:20260424T051657
CREATED:20260223T230402Z
LAST-MODIFIED:20260223T230402Z
UID:188837-1778889600-1778975999@herrikultura.eus
SUMMARY:Amarauna 2025: "Play"
DESCRIPTION:2026 urteko amarauna familientzako programa datorren larunbatean\, otsailak 21\, abiatuko da Bach Desbariazioak kontzertu parte-hartzailearekin. Andrea Berboisek eta Peru Galbetek biolinerako atondutako kontzertu honek Morton Feldman\, Giacinto Scelsi\, Johann Sebastian Bach eta Helmut Lachenmann musikagileen lanak oinarri hartu eta keinu musikalaren eta gorputzaren arteko mugak zeharkatzen ditu. Hainbat obra klasikoren bidez\, ikuskizunak gai asko jorratuko ditu: komunikazioa/inkomunikazioa\, entzutea\, adiskidetasuna\, desadostasuna\, polaritateak edo hauskortasunaren indarra. Bach Desbariazioak-en ahots bakoitzak bere erritmo eta frekuentziak ditu. Adierazpenak hedatu eta gainjarri egiten dira\, soinua gorputzarekin eta haren mugekin estuki lotzen den bibrazio-prozesu batean. Biratze\, metaketa eta ahokatzeen bidez\, keinua eraldatu egiten da\, eta horek gorputzaren pertzepzioaren eta memoriaren lekualdatzea dakar. \nAndrea Berbois Laspiur (Eibar\, 1988) musikaria eta artista da\, Tripak kolektiboaren kidea. Gorputzaren eta soinuaren bidezko presentzia eszenikoa da haren praktikaren ardatza\, memoriaren materialak erabiliz eta gaur egunera ekarriz. Peru Galbete (Usurbil\, 1987) musikaria da. Ahotsarekin eta irudiarekin lan egiten du\, eta ahots-esperimentazioa\, inprobisazioa\, performancea eta kantuaren iragazkortasuna interesatzen zaizkio. \nAurki amarauna-nAndrea Berboisen eta Peru Galbeteren emanaldiaz gain\, familientzako amarauna programak beste emanaldi bana aurreikusten ditu martxorako\, apirilerako eta maiatzerako. Honako hauek dira\, hurrenez hurren: Play\, jolasean oinarritutako dantza\, bi saio izango dituena\, Aiala Etxegarai koreografo\, dantzari eta pedagogoaren eskutik (Getxo\, 197); Kantu kontari\, ahozko narrazioa\, zuzeneko musika\, kantu parte-hartzailea eta gorputz-interakzioa uztartuko dituen musika-saio parte-hartzailea\, Maider Lasa Santamaría abeslari\, antzezle eta diziplina anitzeko interpretearen eskutik (Gasteiz\, 1997) eta\, azkenik\, Museoen Nazioarteko Eguna ospatzeko Artium Museoan antolatutako jardueren esparruan\, Fla Fla Fla pieza koreografikoa\, hau ere saio bikoitzean\, Eneka Bordato dantzariaren eskutik (Baiona\, 1985). \namarauna programako jarduera guztiak doakoak dira eta aretoaren edukiera mugatua denez\, aldez aurretik izena ematea komeni da 945 20 90 20 telefonoan (erreserbak jarduera hasi baino 10 minutu lehenagora arte gordeko dira). \nPrograma osoa \nOtsailaren 21ean\, 17:00etanBach Desbariazioak. Andrea Berbois & Peru Galbete. Kontzertu fisikoaParte hartzeko jarduera euskaraz. 4 urtetik gorako haurrentzat\, heldu bat lagun dutela \nMartxoaren 21ean\, 17:00etan eta 17:45ean (saio bikoitza)Play. Aiala Etxegarai – InPut Konpainia. Dantza6 urtetik gorako haurrentzat\, heldu bat lagun dutela \nApirilaren 18an\, 17:00etanKantu kontari. Maider Lasa Santamaría. Musika-saioaParte hartzeko jarduera euskaraz. 4 urtetik gorako haurrentzat\, heldu bat lagun dutela \nMaiatzaren 16an\, 17:00etan eta 18:30ean (saio bikoitza)Fla Fla Fla. Eneka Bordato. Pieza koreografikoa4 urtetik gorako haurrentzat\, heldu bat lagun dutela
URL:https://herrikultura.eus/event/amarauna-2025-play-2/
LOCATION:Zabalgana Gizarte etxea – (Artium Museoa\, Vital Fundazioa Kulturunea eta)\, Juan Gris\, 2\, Vitoria-Gasteiz\, Álava\, 059\, España
CATEGORIES:Dantza
ATTACH;FMTTYPE=image/jpeg:https://herrikultura.eus/wp-content/uploads/2026/02/descarga-2.jpg
END:VEVENT
BEGIN:VEVENT
DTSTART;VALUE=DATE:20260516
DTEND;VALUE=DATE:20260517
DTSTAMP:20260424T051657
CREATED:20260304T230322Z
LAST-MODIFIED:20260304T230322Z
UID:190632-1778889600-1778975999@herrikultura.eus
SUMMARY:Sendaberri 2026: "El Porqué De Los Perdidos"
DESCRIPTION:El porqué de los perdidos proiektuak galeraren kontzeptua jorratzen du hainbat ikuspegitatik: munduko leku fisiko batean galduta egotea\, bizitzan galduta egotea\, bizitza alferrik galtzea\, bidean gauza materialak edo pertsona maiteak galtzea\, eta abar. Horren kontrara\, nork bere burua berreraikitzeko eta berraurkitzeko ideia landuko da. Ideia da gaiari aukera zabal batetik heltzea; ideiak eta jolasak jaurtitzea\, materialak sortzea\, eta obra batean dauden elementu eta atal eszenikoak sinbiosian jartzea: gorputza\, musika\, jantziak\, eszenografia\, argia… \nFitxa artistikoa: \n\nTestuaren egilea: Akira Yoshida\nMusikaren egilea: Donald Beteille\nKoreografiaren egilea: Akira Yoshida\nZuzendaritza: Akira Yoshida\nIraupena: 52 minutu\nAntzezleak: Akira Yoshida\n\n 
URL:https://herrikultura.eus/event/sendaberri-2026-el-porque-de-los-perdidos/
LOCATION:Los Llanos Kulturagunea\, Gustavo de Maeztu\, 16 (San Benito Komentua)\, Estella-Lizarra\, Navarra\, 097\, España
CATEGORIES:Dantza
ATTACH;FMTTYPE=image/jpeg:https://herrikultura.eus/wp-content/uploads/2026/03/AKIRA.jpg
END:VEVENT
BEGIN:VEVENT
DTSTART;VALUE=DATE:20260516
DTEND;VALUE=DATE:20260517
DTSTAMP:20260424T051657
CREATED:20260317T230226Z
LAST-MODIFIED:20260317T230226Z
UID:193129-1778889600-1778975999@herrikultura.eus
SUMMARY:"M"
DESCRIPTION:M dantza ikuskizuna Arantza Iglesias dantzariaren eta Ane García abeslari eta poetaren arteko elkarlanetik sortu da. Etengabe errepikatzen ditugun hitzek geruza asko dituzte\, adibidez\, “ama” hitzak. Baina horien muinera jotzean\, unibertso oso bat aurki daiteke\, eta hitzaren beste bizitza libreago bat azaleratzen da. Mugimenduaren eta ahotsaren arteko harremanean gauzatzen da pieza hau: bien artean sortzen den oszilazio\, ondulazio\, bibrazio eta pultsoan. Zer da zerbait materialera itzultzea? Zer da zerbait materialera ekartzea\, behin eta berriz? Zeruaren eta antroaren artean\, eguzkiaren eta ilargiaren artean mugitzen dira gorputzak eta ahotsak pieza honetan\, bi interpreteez gaindiko zerbait sor dadin eszenatoki gainean: espazio amankomun bat\, gorputz-aldarte desberdinak hartzeko.
URL:https://herrikultura.eus/event/m/
LOCATION:Tabakalera – (Gazteszena eta)\, Andre Zigarrogileen plaza\, 1\, Donostia / San Sebastián\, Gipuzkoa\, 069\, España
CATEGORIES:Dantza
ATTACH;FMTTYPE=image/jpeg:https://herrikultura.eus/wp-content/uploads/2026/03/28-6.jpg
END:VEVENT
BEGIN:VEVENT
DTSTART;VALUE=DATE:20260516
DTEND;VALUE=DATE:20260518
DTSTAMP:20260424T051657
CREATED:20260325T230256Z
LAST-MODIFIED:20260325T230256Z
UID:194857-1778889600-1779062399@herrikultura.eus
SUMMARY:Iruñeko Hiri eta Dantza Modernoko Txapelketa 2026
DESCRIPTION:Navarra Arena benetako dantza-pista bihurtuko da maiatzaren 16an eta 17an\, Iruñeko Hiri eta Dantza Modernoko II. Txapelketa hartzeko. \nIruñeko Hiri eta Dantza Modernoko II. Txapelketa 2026ko maiatzaren 16an eta 17an egingo da Navarra Arenan\, 2025eko lehen edizioak izan zuen arrakasta handiaren ondoren (1.800 dantzari eta 3.100 ikusletik gora bildu zituen). \nIzarrak Elkartea elkarteak antolatuta\, aurten bi jardunaldi izango ditu\, edukiera hirukoizteko asmoz\, eta antolatzaileek parte-hartzaile eta ikusle kopurua nabarmen handitzea espero dute. 2025ean izena eman zutenen %60tik gora Nafarroatik kanpokoak izan ziren\, eta helburua txapelketa estatu mailan sendotzea da. \nHiru modalitate egongo dira: hiri dantza\, dantza modernoa eta open kategoria (estilo ezberdinen nahasketa). Parte-hartzaileak 20 azpikategoriatan banatuko dira\, adinaren arabera (4 urtetik aurrera) eta taldekideen kopuruaren arabera\, bakarkakoetatik hasi eta 21 lagunetik gorako megacrew taldeetaraino. Koreografiak originalak eta 1 eta 5 minutu artekoak izan beharko dira\, eta epaimahai profesional batek baloratuko ditu. \n30 sari baino gehiago banatuko dira\, horietako batzuk diru-sariarekin. Izen-ematea zabalik dago webgune ofizialean\, eta prezio murriztua izango du abenduaren 31ra arte edo plazak bete arte.
URL:https://herrikultura.eus/event/iruneko-hiri-eta-dantza-modernoko-txapelketa-2026/
LOCATION:Navarra Arena\, Aizagerria Plaza\, 1\, Pamplona/Iruña\, Navarra\, 201\, España
CATEGORIES:Dantza
ATTACH;FMTTYPE=image/jpeg:https://herrikultura.eus/wp-content/uploads/2026/03/campnav.jpg
END:VEVENT
END:VCALENDAR