BEGIN:VCALENDAR
VERSION:2.0
PRODID:-//HerriKultura - ECPv6.2.3.1//NONSGML v1.0//EN
CALSCALE:GREGORIAN
METHOD:PUBLISH
X-ORIGINAL-URL:https://herrikultura.eus
X-WR-CALDESC:Eventos para HerriKultura
REFRESH-INTERVAL;VALUE=DURATION:PT1H
X-Robots-Tag:noindex
X-PUBLISHED-TTL:PT1H
BEGIN:VTIMEZONE
TZID:Europe/Madrid
BEGIN:DAYLIGHT
TZOFFSETFROM:+0100
TZOFFSETTO:+0200
TZNAME:CEST
DTSTART:20260329T010000
END:DAYLIGHT
BEGIN:STANDARD
TZOFFSETFROM:+0200
TZOFFSETTO:+0100
TZNAME:CET
DTSTART:20261025T010000
END:STANDARD
END:VTIMEZONE
BEGIN:VEVENT
DTSTART;VALUE=DATE:20260519
DTEND;VALUE=DATE:20260520
DTSTAMP:20260424T080616
CREATED:20260406T220309Z
LAST-MODIFIED:20260406T220309Z
UID:197177-1779148800-1779235199@herrikultura.eus
SUMMARY:"Alai familian"
DESCRIPTION:Lasala konpainiak Alai familian lana taularatuko du. Alaik sei urte ditu eta bere amona eta txakurrarekin bizi da. Alairen familia ez da bere lagunena bezalakoa eta horrek desberdin sentiarazten du\, baina gau batean ametsen munduan murgildu eta animalia mordo bat eta haien familia mota ezberdinak ezagutzen ditu. Nolakoa da\, ba\, familia normal bat? \nAdina: +4 urte \nFitxa artistikoa:  \n\n\n\nIdeia eta zuzendaritza artistikoa: Judith Argomaniz\nKoreografia: Judith Argomaniz interpreteekin lankidetzan\nAntzezleak: Garazi Etxaburu\, Miren Lizeaga\, Leire Otamendi\nDramaturgia: Judith Argomaniz\, Hodei Arrastoa\, Garazi Etxabutu\, Miren Lizeaga\, Leire Otamendi\nTestua: Hodei Arrastoa\nMusika: Fernando Epelde\nArgiztapena: Javier Ruiz de Alegría\nJantziak: Jantziz Lab\nFotografia eta bideoa: Renata Etanowski\n\n\n 
URL:https://herrikultura.eus/event/alai-familian-3/
LOCATION:Ugaoko Kultur Etxea (Jane Jauregia) – (Coliseo Antzokia)\, Udiarraga\, 38\, Ugao-Miraballes\, Bizkaia\, 065\, España
CATEGORIES:Dantza
ATTACH;FMTTYPE=image/jpeg:https://herrikultura.eus/wp-content/uploads/2026/04/56-5.jpg
END:VEVENT
END:VCALENDAR