BEGIN:VCALENDAR
VERSION:2.0
PRODID:-//HerriKultura - ECPv6.2.3.1//NONSGML v1.0//EN
CALSCALE:GREGORIAN
METHOD:PUBLISH
X-ORIGINAL-URL:https://herrikultura.eus
X-WR-CALDESC:Eventos para HerriKultura
REFRESH-INTERVAL;VALUE=DURATION:PT1H
X-Robots-Tag:noindex
X-PUBLISHED-TTL:PT1H
BEGIN:VTIMEZONE
TZID:Europe/Madrid
BEGIN:DAYLIGHT
TZOFFSETFROM:+0100
TZOFFSETTO:+0200
TZNAME:CEST
DTSTART:20260329T010000
END:DAYLIGHT
BEGIN:STANDARD
TZOFFSETFROM:+0200
TZOFFSETTO:+0100
TZNAME:CET
DTSTART:20261025T010000
END:STANDARD
END:VTIMEZONE
BEGIN:VEVENT
DTSTART;VALUE=DATE:20260521
DTEND;VALUE=DATE:20260522
DTSTAMP:20260424T051814
CREATED:20251021T101935Z
LAST-MODIFIED:20251021T101935Z
UID:163352-1779321600-1779407999@herrikultura.eus
SUMMARY:"Ultimatum"
DESCRIPTION:«ULTIMATUM» du izenburua Led Silhouette taldearen dantza garaikideko azken ekoizpen eszenikoak. \n\nTaldea 2016an sortu zuten Jon Lopezek eta Martxel Rodriguezek eta Lesakan du egoitza (Nafarroa). Ikuspegi berritzaile batetik antzerkia eta zinema uztartuz\, gizakiaren kontraesanetan sakontzen du. Gai sakonak lantzen ditu\, hala nola depresioa\, indibidualismoa\, zentzuaren galera eta gizartearen eta ekonomiaren gainbehera. \nAurreko lanen ildoari jarraituz\, “ULTIMATUM”  obrak gain behera doan mundu bati eta mundu horretan gizakiak duen ahultasunari buruzko gogoeta kritiko bat proposatzen du\, esperientzia estetiko bat ez ezik\, eta oraina kolokan jartzeko gonbita egiten dio publikoa. \nBakardadeak eta isiltasunak markaturiko paisaia bat planteatzen du\, zeinetan jokoan jartzen baita pertsonaien arteko erlazioa\, norberaren nortasunaren eta elkarrekiko zaintzaren arteko mugei erronka jotzeraino. Kalitate estetiko goreneko narratiba koreografiko batez eta zinematografiatik hurbileko zuzendaritza bisual baten bidez\, irudi eder bezain gordinak eskaintzen ditu “ULTIMATUM”ek\, eta ikusmenetik haratago doan zentzumenen esperientzia batera daramatza ikusleak. \nSinopsia:  \nTxikiak ginela ikusi genuen milurteko aldaketa\, munduari buruzko ideia apokaliptikoen beldurrez; mundu bat zeina ari baita desegiten\, hondatzen eta baso ilunean zauritutako animalia bat bezala usteltzen\, paraje kiskali batean. \nAfektuen zaintzak eta sareak eztabaida publikoaren erdigunean dauden eta indarkeria sistematikoei intersekzionalitatearen ikuspegitik aurre egiten zaien garai hauetan\, ate-joka dator garai berri bat\, mundu berri bat. Hemen\, badu tokirik eraldaketak\, baina ez da\, itxuraz\, sekula ernatzen. \nDispositibo eszeniko bat\, non mugitzen ari diren gorputz biziek bilatzen baitute beren salbazioa animaliarengan. Paisaia kiskali bat\, baso mortua\, iristen ez den udaberri baten zain. Ezbehar bat\, sakrifizioa\, agurra\, ongietorria\, ekitaldi kanonikoa\, animalia totemikoa\, norabidea aldarazten duten bizipenak\, gure bizi-lerroa marrazten duten inflexio-puntuak\, zurrunbilo bat. \nFitxa artistikoa: \n\n\n\n\n\nEgilea: Led Silhouette\nKontzeptua eta zuzendaritza: Jon López & Martxel Rodríguez\nInterpreteak: Katalin Arana\, Laura Lliteras\, Edoardo Ramirez\, Marcos Martincano\, Jon López\, Martxel Rodriguez\nAholkularitza artistikoa: Marcos Morau\nMusika-moldaketak: Mauricio Pérez Fayos\nOff-eko ahotsa: Mathilda Haynes\nZuzendaritza teknikoa eta argiztapena: Andoni Mendizabal\nSoinua eta ikus-entzunezkoak: Lívory Barbez\nEszenografia: Oscar Hernández Pol\nJantziak: Cobos Vestuario Escénico\nPropak eta txotxongiloak: Gadget Efectos Especiales\nArgazkia: Irantzu Pastor\nBideoa: El Estudio\, Ana Escario y Adela Moreno\nEkoizpen-laguntzailea: Nagore Martínez\nBanaketa: Rocío Pindado\nBanaketa\, Katalunian: Mónica Gene – MonicaDeGira\nBanaketa Galizian eta Portugalen: María Mariño – Kandengue Arts\nBanaketa\, nazioartean: Lola Ortiz de Lanzagorta
URL:https://herrikultura.eus/event/ultimatum/
LOCATION:AZ Azkuna Zentroa – (Auditorio)\, Arriquibar Plaza\, 4\, Bilbao\, Bizkaia\, 020\, España
CATEGORIES:Dantza
ATTACH;FMTTYPE=image/jpeg:https://herrikultura.eus/wp-content/uploads/2025/10/55-17.jpg
END:VEVENT
BEGIN:VEVENT
DTSTART;VALUE=DATE:20260521
DTEND;VALUE=DATE:20260522
DTSTAMP:20260424T051814
CREATED:20260114T230318Z
LAST-MODIFIED:20260114T230318Z
UID:180743-1779321600-1779407999@herrikultura.eus
SUMMARY:"Momentum"
DESCRIPTION:Después de haber sido la compañía residente de Sadler’s Wells y reconocida internacionalmente\, London City Ballet\, bajo la dirección de Christopher Marney\, ha regresado a los escenarios tras treinta años de ausencia. \nFiel a su prestigioso legado\, la compañía reúne a un conjunto virtuoso de bailarines que nos invita a descubrir\, en Momentum\, la riqueza del ballet neoclásico y contemporáneo\, combinando tradición\, innovación y excelencia escénica en cada movimiento. \nPROGRAMA \n\nLarina Waltz\nCoreografía: Ashley Page\nMúsica: Pyotr Ilyich Tchaikovsky\nIluminación: Andrew Ellis\nDirección: Ricardo Cervera\nCreado en 1993 – Duración 8 min\n\nCreada originalmente para el Royal Ballet\, Larina Waltz utiliza las melodías alegres de Chaikovski para resaltar el talento clásico de los bailarines del London City Ballet. En un vals luminoso\, los cambios de ritmo casi constantes desembocan en un final apoteósico. \nQuiet Ballet \n\nCoreografía: Jerome Robbins\nMúsica: Aaron Copland\nPuesta en escena: Robert LaFosse\nVestuario: Babara Matera\nIluminación: Andrew Ellis según Jennifer Tipton\nInterpretada con permiso de The Robbins Rights Trust mediante un acuerdo especial con Music Theatre International (MTI)\nCreada en 1986 por el New York City Ballet – Reestreno en 2025\nDuración 10 min\n\nLa partitura de Aaron Copland Quiet City (1940)\, que describe la época pasada de Nueva York\, cobra vida gracias a tres fuerzas enigmáticas que irrumpen para iluminar la escena de la obra homónima de Robbins de 1986. Los espectadores observan\, o esperan\, la presencia de un alma en un nuevo viaje. Quiet City fue creada en memoria del bailarín Joseph Duell (1956–86). \nSoft Shore \n\nCoreografía: Florent Melac\nMúsica: Ludwig van Beethoven – Moonlight Sonata\, String Quartet No. 7\nVestuario: Xavier Ronze\nCreado en 2025 – Duración 15 min\n\nSoft Shore\, del coreógrafo emergente Florent Melac\, conocido principalmente como Primer Bailarín del Ballet de la Ópera de París\, firma una nueva creación para la compañía. En ella despliega un estilo único\, fluido y musical\, que combina transiciones inventivas y levantamientos íntimos. \nPictures at an Exhibition \n\nCoreografía: Alexei Ratmansky\nMúsica: Modest Mussorgsky\nVestuario: Adeline Andre\nIluminación: Mark Stanley\nProyecciones: Wendall K. Harrington\nDirector: Amar Ramasar\nCreado en 2014 – Duración 34 min\n\nAl igual que las acuarelas en constante evolución de Vasili Kandinski que sirven de telón de fondo\, Pictures at an Exhibition es una pieza de conjunto para 10 bailarines que transita desde las emociones más crudas y salvajes hasta las más solemnes y profundas. \n 
URL:https://herrikultura.eus/event/momentum/
LOCATION:Nafarroako Museoa\, Cuesta de Santo Domingo\, 47\, Pamplona/Iruña\, Navarra\, 201\, España
CATEGORIES:Dantza
ATTACH;FMTTYPE=image/jpeg:https://herrikultura.eus/wp-content/uploads/2026/01/9-3.jpg
END:VEVENT
BEGIN:VEVENT
DTSTART;VALUE=DATE:20260521
DTEND;VALUE=DATE:20260522
DTSTAMP:20260424T051814
CREATED:20260323T230229Z
LAST-MODIFIED:20260323T230229Z
UID:194385-1779321600-1779407999@herrikultura.eus
SUMMARY:"Lasala 10 urte"
DESCRIPTION:LASALA 10 urte ikuskizunean\, dantza garaikideko LASALA konpainiaren 10 urtetik gorako ibilbidean murgilduko gara\, Judith Argómaniz zuzendariaren eskutik\, hau da\,XXI. mendeko koreografo batek garaikidetasunaz duen ikuspegiaren bidez.\n\n\nSortu zenetik\, konpainia etengabeko ikerketan aritu da egungo lengoaia fisiko bat eta estetika bat eratzearen inguruan\, taldearen kezkak aintzat hartu eta islatzeko asmoz. Ibilbide bizia eta aberasgarria dute\, eta horri esker lengoaia koreografiko sendoa lortu dute; konpainiaren bereizgarria\, dudarik gabe. \nLasala konpaniaren lana txalotua izan da Euskadin\, Estatuan\, Alemanian\, Frantzian\, Hungarian eta Erresuma Batuan. Taiwanera eta Kanadara ere iritsi dira proiektu koreografikoaren uhinak\, sari ugari eskuratuta; dantzabera ez ezik\, ekoizpenaren eta irudiaren zaintza estetikoa ere nabarmendu izan dute. \nIkuskizun honetan konpainiaren pieza ospetsuenez gozatukodugu. Ikusleentzako bidaia bat\, hastapenetatik gaur arte. \nFitxa artistikoa: \n\n\n\nArtistak: Jone Amezaga\, Seth Buckley\, Inês Costa\, Garazi Etxaburu\, Ioar Labat\, Miren Lizeaga\, Leire Otamendi\nKonpainia: Lasala\nEgilea: Judith Argómaniz\nArgiztapenaren diseinua: Álvaro Estrada\nJantziak (diseinua eta jantzigintza): Xabier Mujika\n\n\nZubiak bitartekaritza-proiektua \nHasi aurretik (18:30etan)\, ikuskizuna aurkezteko tailerra \nAmaieran\, topaketa publikoarekin \nIzen-emateak: larrualab@gmail.com  \nIkuskizun hau Udal Antzoki Sarearen 2026ko Udaberri-udako Programazioaren parte da.
URL:https://herrikultura.eus/event/lasala-10-urte-2/
LOCATION:Félix Petite Antzokia – (Félix Petite Antzokia (Ibaiondo Gizarte Etxea))\, Landaberde\, 31\, Vitoria-Gasteiz\, Álava\, 059\, España
CATEGORIES:Dantza
ATTACH;FMTTYPE=image/jpeg:https://herrikultura.eus/wp-content/uploads/2026/03/34-9.jpg
END:VEVENT
BEGIN:VEVENT
DTSTART;VALUE=DATE:20260521
DTEND;VALUE=DATE:20260522
DTSTAMP:20260424T051814
CREATED:20260421T220259Z
LAST-MODIFIED:20260421T220259Z
UID:199879-1779321600-1779407999@herrikultura.eus
SUMMARY:"La chambre d'amour" (entsegu irekia)
DESCRIPTION:Malandain Ballet Biarritz Konpainiak La chambre d’amour lanaren inguruko entsegu irekia eskainiko du. La chambre d’amour maiatzaren 22tik 24ra bitartean ikusi ahal izango da Victoria Eugenia Antzokian\, eta entsegu irekiak aukera emango die ikusleei lanaren inguruko xehetasunak ezagutzeko eta ondorengo emanaldiaz era osoagoan gozatzeko. \nEntsegu irekian Thierry Malandainen sorkuntzaren zenbait zati aurkeztuko dituzte\, eta ondoren\, ikusleek koreografo eta dantzariekin solasaldia egiteko aukera izango dute. \n\nOharra \n\nSarrera doakoa da. Gonbidapenak eskuragarri egongo dira maiatzaren 13an 11:30etik aurrera\, webgunean (ekitaldi honen fitxan automatikoki azalduko den erreserbatzeko botoiaren bidez) eta Victoria Eugenia Antzokiko leihatilan. Bi gonbidapen gehienez pertsona bakoitzeko.
URL:https://herrikultura.eus/event/la-chambre-damour-entsegu-irekia/
LOCATION:Victoria Eugenia Antzokia – (Victoria Eugenia Antzokia\, Tabakalera\, Kutxa Fundazioa)\, Argentinar Errepublikaren Pasealekua\, 2\, Donostia / San Sebastián\, Gipuzkoa\, 069\, España
CATEGORIES:Dantza
ATTACH;FMTTYPE=image/jpeg:https://herrikultura.eus/wp-content/uploads/2026/04/11-5.jpg
END:VEVENT
END:VCALENDAR