BEGIN:VCALENDAR
VERSION:2.0
PRODID:-//HerriKultura - ECPv6.2.3.1//NONSGML v1.0//EN
CALSCALE:GREGORIAN
METHOD:PUBLISH
X-ORIGINAL-URL:https://herrikultura.eus
X-WR-CALDESC:Eventos para HerriKultura
REFRESH-INTERVAL;VALUE=DURATION:PT1H
X-Robots-Tag:noindex
X-PUBLISHED-TTL:PT1H
BEGIN:VTIMEZONE
TZID:Europe/Madrid
BEGIN:DAYLIGHT
TZOFFSETFROM:+0100
TZOFFSETTO:+0200
TZNAME:CEST
DTSTART:20260329T010000
END:DAYLIGHT
BEGIN:STANDARD
TZOFFSETFROM:+0200
TZOFFSETTO:+0100
TZNAME:CET
DTSTART:20261025T010000
END:STANDARD
END:VTIMEZONE
BEGIN:VEVENT
DTSTART;VALUE=DATE:20260522
DTEND;VALUE=DATE:20260524
DTSTAMP:20260424T051912
CREATED:20251017T161344Z
LAST-MODIFIED:20251017T161344Z
UID:158065-1779408000-1779580799@herrikultura.eus
SUMMARY:CDND ? COMPAÑÍA NACHO DUATO
DESCRIPTION:Nacho Duato Konpainiak eta konpainiako dantzari gazteek ikusleak hunkituko dituzte koreografo handiaren obrekin. \nNacho Duato konpainia gaztea Espainiako dantza-eskaintza aberasteko eta dantzari gazteentzako lan-aukerak zabaltzeko misio zintzoarekin sortu zen. Konpainiaren funtsezko zutabeetako bat Nacho Duatoren errepertorioa berreskuratzea da. Haren balletak benetako harribitxiak dira\, eta\, horregatik\, bere horretan mantentzea eta ikusle eta artisten belaunaldi berriekin partekatzea merezi dute. \nEgitarau osoa zehazteko badago ere\, emanaldiko piezen artean Cantus ikusi ahal izango dugu\, Nacho Duatoren obra berria\, haren konpainia gaztearentzat sortua. Obrak gatazka beliko baten izugarrikeriez hitz egiten du\, gerraren erdian harrapatuta geratu diren gazte batzuen begiradatik\, indarkeria eta suntsipena beren bizitzetan nola eragiten ari diren ikusten duten bitartean. Obrari Karl Jenkinsen musika hunkigarria gehitu behar zaio\, narratibaren eta emozioen sakontasuna nabarmentzen duena. \nFitxa artistikoa:  \n\nZuzendari artistikoa: Nacho Duato\nZuzendariondokoa: Emilia Jovanovich\nDantzariak: Alejandro Santomé Leiro\, Claudia Santamaría\, Engel Pérez\, Hiroto Iida\, Isabella Esther Zocche\, Kaylie Beard\, Lauren Fiddes\, Lily Pakula\, Luca Pelaia\, Pablo Fahle Diego\, Pedro Ferreira Castelo\, Salvatore David Marigliano Samantha Escobar. Sara Ciafrone\, Sofia Fenu\, Tomás Fontanet\, Sofía Tuillo\, Samuel Benavides\n\n  \n \n 
URL:https://herrikultura.eus/event/cdnd-compania-nacho-duato/
LOCATION:Arriaga Antzokia – (Eliza Zaharra elkargunea)\, Arriaga plaza\, 1\, Bilbao\, Bizkaia\, 020\, España
CATEGORIES:Dantza
ATTACH;FMTTYPE=image/jpeg:https://herrikultura.eus/wp-content/uploads/2025/10/52-2.jpg
END:VEVENT
BEGIN:VEVENT
DTSTART;VALUE=DATE:20260522
DTEND;VALUE=DATE:20260525
DTSTAMP:20260424T051912
CREATED:20260317T230228Z
LAST-MODIFIED:20260317T230228Z
UID:193135-1779408000-1779667199@herrikultura.eus
SUMMARY:"La chambre d'amour"
DESCRIPTION:Malandain Ballet Biarritz dantza konpainiak eskainiko duen La chambre d´amour ikuskizuna\, Thierry Malandainek idatzi zuen 2000. urtean. Biarritzera iritsitakoan irudikatu zuen lehen balleta da\, eta zuzenean Euskal Herrian inspiratutako azkena. Ballet horrek\, kontakizun original batean biltzen ditu amodiozko mito handiak\, non heroiek topo egingo baitute ozeanoak eta izarrek bat egiten duten unibertso batean. \nEuskal kostaldeko leize ezaguna da Amodio Ganbera\, aspaldian bi amoros hil zirena. Labar baten magalean kokatua\, ozeanoak ernaldutako sabel horrek bizitzari eta heriotzari buruzko askotariko misterioak gordetzen ditu. Istorioak Ura eta Ederra izendatu zituen amorosak. Leizean babestuta zeuden\, amodiora emanak zeharo\, baina itsasgorak harrapatu zituen ezustean. Goizean\, haien gorputzak elkar harturik topatu zituzten hondartzan. Heriotzaren kausaz\, Ura eta Ederra patuak amodio-zoriona eteten dien literaturako maitaleen taldera batu ziren: Otelo eta Desdemona\, Romeo eta Julieta\, Dido eta Eneas\, Orfeo eta Euridize… La chambre d’amour lanak haiek dakartza gogora. \nFitxa artistikoa: \n\nKoreografia Thierry Malandain\nMusika: Peio Çabalette\nDekoratuak eta jantziak: Jorge Gallardo\nArgiztapen diseinua: François Menou\nJantzien gauzatzea: Véronique Murat\, Charlotte Margnoux\nDekoratuen gauzatzea: Frédéric Vadé\, Karine Prins\, Fanny Sudres\, Léane Costy\, Angélique Garcia\nDekoratuen laguntzaileak: Marion Rascagnères\, Pascal de Thier\, Christophe t’Siolle\, Félix Vermandé\, Maruschka Miramon\, Gorka Arpajou\, Alexandre Maillet\, Sandrine Mestas Gleizes\nBallet maisuak: Richard Coudray\, Giuseppe Chiavaro\, Frederik Deberdt\nAntzezleak: Noé Ballot\, Giuditta Banchetti\, Julie Bruneau\, Elisabeth Callebaut\, Raphaël Canet\, Clémence Chevillotte\, Mickaël Conte\, Loan Frantz\, Irma Hoffren\, Hugo Layer\, Guillaume Lillo\, Claire Lonchampt\, Timothée Mahut\, Julen Rodríguez Flores\, Neil Ronsin\, Alejandro Sánchez Bretones\, Yui Uwaha\, Chelsey Van Belle\, Patricia Velázquez\, Allegra Vianello\, Laurine Viel\, Léo Wanner\nEkoizpena: CCN Malandain Ballet Biarritz\nKoprodukzioa: Theater Bonn (Alemania)\, Victoria Eugenia Antzokia Donostia / San Sebastián – Ballet T Centre Chorégraphique National / Malandain Ballet Biarritz\nLaguntzailea: Festival Cadences Arcachon\nCarré des Mécènes du Malandain Ballet Biarritz\, Association des Amis du Malandain Ballet Biarritz–en laguntzarekin.
URL:https://herrikultura.eus/event/la-chambre-damour/
LOCATION:Victoria Eugenia Antzokia – (Victoria Eugenia Antzokia\, Tabakalera\, Kutxa Fundazioa)\, Argentinar Errepublikaren Pasealekua\, 2\, Donostia / San Sebastián\, Gipuzkoa\, 069\, España
CATEGORIES:Dantza
ATTACH;FMTTYPE=image/jpeg:https://herrikultura.eus/wp-content/uploads/2026/03/24-1.jpg
END:VEVENT
BEGIN:VEVENT
DTSTART;VALUE=DATE:20260523
DTEND;VALUE=DATE:20260524
DTSTAMP:20260424T051912
CREATED:20260129T230401Z
LAST-MODIFIED:20260129T230401Z
UID:183824-1779494400-1779580799@herrikultura.eus
SUMMARY:Dantza Plazetan 2026: Salbatzaile Dantza Taldea
DESCRIPTION:Dantza Plazetan 2026 egitarauaren barruan. \nBilboko Udalak «Dantza Plazetan» ekimenaren edizio berri bat jarri du abian 2026ko hasierarekin batera. Urte osoan zehar euskal folklorea protagonista izango duten topaketak izango dira hiriko hainbat auzotan. Lehen saiorako\, hainbat jarduera programatu dira\, urte hasieratik ekainera bitartean\, urtarrilaren 24an hasi eta ekainaren 27an\, larunbatean\, amaituko direnak. \nUrte osoan zehar 58 topaketa egingo dira\, doan\, bilbotarrek kaleetan hainbat erromeria\, kalejira\, dantza alarde eta erraldoien kalejiraz gozatzeko aukera izan dezaten\, euskal dantzak eta folklorea hurbildu\, sustatu eta balioesteko helburuarekin. \nLehenengo hitzordua urtarrilaren 24an izango da\, larunbata\, Salbatzaile Dantza Taldearen erromeriarekin\, Alde Zaharreko Santiago Plazan. \nBerrikuntza gisa\, Gaztedi Dantzari Taldeak Lantzeko Inauterietako dantza tipikoak ekarriko ditu Bilbora\, Nafarroako ospakizun tradizionala. Hitzordua otsailaren 21ean izango da\, larunbata\, Santutxun. Gainera\, aurten ekainean Larrain Dantza ospatuko da berriro\, Gaztedi Dantzari Taldeak dinamizatuko duen beste ekitaldi tradizional bat\, 2011tik egiten dena. \n«Dantza Plazetan» programazioa osatzen duten tokiko taldeak hauek dira: Salbatzaile Dantza Taldea\, Deustuko Folklore Taldeak\, Ondalan Erraldoien Konpartsa\, Bihotz Alai Dantza Taldea\, Gaztedi Dantzari Taldea\, Beti Jai Alai Dantzari Taldea\, Bizkaiko Dantzarien Biltzarra\, Goi Herri Dantza Taldea\, Batasuna Arraizbide Dantza Taldea\, Ibai Arte Dantza Taldea\, Irutasun Dantzari Taldea\, Goi-Herri Dantza Taldea eta Goi Alde Dantza Taldea. \n«Dantza Plazetan» programaren helburua tokiko kultura sustatzea da\, Bilboko auzoetako guneetara hurbilduz\, herritarren parte-hartzea eta gizarte-kohesioa sustatzeko\, kultura elementu bateratzaile gisa erabiliz. Hori dela eta\, Bilboko 2023-2033 Kultura Plan Estrategikoaren jarduetan kokatzen da. \n2026KO «DANTZA PLAZETAN» EGITARAUA (PDF)\n\nUrtarrilak 24\, larunbata. 20:00etan. Santiago plaza (Alde Zaharra). Erromeria. Salbatzaile Dantza Taldea.\nOtsailak 7\, larunbata. 20:00etan. San Pedro plaza (Deustu). Erromeria. Deustuko Folklore Taldeak.\nOtsailak 8\, igandea. 11:30ean. Deustu. Erraldoien kalejira. Ondalan Erraldoien Konpartsa.\nOtsailak 8\, igandea. 12:00etan. San Felizisimo. Dantza-alardea. Bihotz Alai Dantza Taldea.\nOtsailak 21\, larunbata. 11:30ean. San Inazio. Erraldoien kalejira. Ondalan Erraldoien Konpartsa.\nOtsailak 21\, larunbata. 12:00etan. Santutxu. Lantzeko Ihauteria. Gaztedi Dantzari Taldea.\nOtsailak 21\, larunbata. 19:00etan. Basurtuko geltokia. Inauterietako dantzak. Beti Jai Alai Dantzari Taldea.\nOtsailak 28\, larunbata. 20:00etan. Santiago plaza (Alde Zaharra). Erromeria. Salbatzaile Dantza Taldea.\nMartxoak 13\, ostirala. 18:00etan. Deustu. Erraldoien kalejira. Ondalan Erraldoien Konpartsa.\nMartxoak 14\, larunbata. 20:00etan. San Pedro plaza (Deustu). Erromeria. Deustuko Folklore Taldeak.\nMartxoak 15\, igandea. 12:30ean. Plaza de La Casilla. Erromeria. Bizkaiko Dantzarien Biltzarra.\nMartxoak 22\, igandea. 12:30ean. Plaza Levante (San Inazio). Dantza-alardea. Goi Herri Dantza Taldea.\nMartxoak 28\, igandea. 20:00etan. Santiago plaza (Alde Zaharra). Erromeria. Salbatzaile Dantza Taldea.\nApirilak 19\, igandea. 12:00etan. Siete Calles (Casco Viejo). Kalejira. Batasuna Arraizbide Dantza Taldea.\nApirilak 25\, larunbata. 20:00etan. Santiago plaza (Alde Zaharra). Erromeria. Salbatzaile Dantza Taldea.\nMaiatzak 1\, ostirala. 12:00etan. Elorrieta. Dantza-alardea. Bihotz Alai Dantza Taldea. \nMaiatzak 2\, larunbata. 11:30ean. Elorrieta. Erraldoien kalejira. Ondalan Erraldoien Konpartsa.\nMaiatzak 9\, larunbata. 13:00etan. Arangoiti. Dantza-alardea. Bihotz Alai Dantza Taldea.\nMaiatzak 9\, larunbata. 17:00etan. Erekalde plaza. Erromeria. Batasuna Arraizbide Dantza Taldea.\nMaiatzak 23\, larunbata. 20:00etan. Santiago plaza (Alde Zaharra). Erromeria. Salbatzaile Dantza Taldea.\nMaiatzak 29\, ostirala. 18:30ean. Solokoetxe auzoa. Solokoetxe dantzan. Gaztedi Dantzari Taldea.\nMaiatzak 29\, ostirala. 19:00etan. Solokoetxe auzoa. Erromeria Ibiltaria. Ibai Arte Dantza Taldea.\nEkainak 5\, ostirala. 19:00etan. Osasun-profesionalen plaza (Intermodal). Erromeria. Bizkaiko Dantzarien Biltzarra.\nEkainak 6\, larunbata. 18:30ean. Altamirako frontoia. Dantza-alardea. Irutasun Dantzari Taldea.\nEkainak 6\, larunbata. 11:30ean. Ibarrekolanda. Erraldoien kalejira. Ondalan Erraldoien Konpartsa.\nEkainak 7\, igandea. 12:00etan. Ibarrekolanda. Dantza-alardea. Bihotz Alai Dantza Taldea.\nEkainak 13\, larunbata. 20:00etan. Areatza. XIV. Bilboko Larrain Dantza. Gaztedi Dantzari Taldea.\nEkainak 14\, igandea. 13:00etan. Basurtuko geltokia. Umeen dantza ikuskizuna. Beti Jai Alai Dantzari Taldea.\nEkainak 23\, asteartea. 20:00 horas. Basurtuko geltokia. Erromeria. Beti Jai Alai Dantzari Taldea.\nEkainak 23\, asteartea. 20:00etan. San Pedro plaza (Deustu). Erromeria. Deustuko Folklore Taldeak.\nEkainak 23\, asteartea. 21:00etan. Karmelo plaza (Santutxu). San Juan Gaueko erromeria. Gaztedi Dantzari Taldea.\nEkainak 25\, osteguna. 19:00etan. Deustuibarra. Erraldoien kalejira. Ondalan Erraldoien Konpartsa.\nEkainak 26\, ostirala. 19:00etan. Deustuibarra. Dantza-alardea. Bihotz Alai Dantza Taldea.\nEkainak 27\, larunbata. 20:00etan. Santiago plaza (Alde Zaharra). Erromeria. Salbatzaile Dantza Taldea.\nUztailak 5\, igandea. 19:00etan. Arriaga plaza. Dantza-alardea. Gaztedi Dantzari Taldea.\nUztailak 11\, larunbata. 19:00etan. Arriaga plaza. Dantza-alardea. Beti Jai Alai Dantzari Taldea.\nUztailak 13\, astelehena. 19:00etan. Karmelo plaza (Santutxu). Dantza-alardea. Gaztedi Dantzari Taldea.\nUztailak 18\, larunbata. 19:00etan. Arriaga plaza. Dantza-alardea. Batasuna Arraizbide Dantza Taldea\, Bihotz Alai Dantza Taldea\, Irutasun Dantzari Taldea y Goi-Herri Dantza Taldea. \nUztailak 25\, larunbata. 19:00etan. Arriaga plaza. Dantza-alardea. Goi Alde Dantza Taldea.\nUztailak 26\, igandea. 11:30ean. San Inazio. Erraldoien kalejira. Ondalan Erraldoien Konpartsa.\nUztailak 26\, igandea. 13:00etan. Basurtuko geltokia. Dantza-alardea. Beti Jai Alai Dantzari Taldea.\nUztailak 31\, ostirala. 13:00etan. Baztan plaza (San Inazio) Dantza-alardea. Goi-Herri Dantza Taldea.\nIrailak 13\, igandea. 13:00etan. Zumarraga plaza (Santutxu). Erromeria. Gaztedi Dantzari Taldea.\nIrailak 26\, larunbata. 11:30ean. Sarriko. Erraldoien kalejira. Ondalan Erraldoien Konpartsa.\nIrailak 26\, larunbata. 20:00etan. Santiago plaza (Alde Zaharra). Erromeria. Salbatzaile Dantza Taldea.\nUrriak 3\, igandea. 17:30ean. Zorrotzako frontoia. Dantza-alardea. Ibai Arte Dantza Taldea.\nUrriak 24\, igandea. 13:00etan. Basurtu. Kalejira. Beti Jai Alai Dantzari Taldea.\nUrriak 31\, igandea. 20:00etan. Santiago plaza (Alde Zaharra). Erromeria. Salbatzaile Dantza Taldea.\nAzaroak 8\, igandea. 12:30ean. San Pedro plaza (Deustu). Erromeria. Deustuko Folklore Taldeak.\nAzaroak 15\, igandea. 13:00etan.Basurtu. Umeen dantza ikuskizun ibiltaria. Beti Jai Alai Dantzari Taldea.\nAzaroak 28\, larunbata. 20:00etan. Santiago plaza (Alde Zaharra). Erromeria. Salbatzaile Dantza Taldea.\nAbenduak 19\, larunbata. 18:00etan. Zorrotzako frontoia. Dantza-alardea. Ibai Arte Dantza Taldea.\nAbenduak 21\, astelehena. 18:30etan. San Inazio. Erraldoien kalejira. Ondalan Erraldoien Konpartsa.\nAbenduak 24\, osteguna. 17:00etan. Basarrate plaza (Santutxu). Erromeria. Gaztedi Dantzari Taldea.\nAbenduak 24\, osteguna. 18:00etan. Aita Donosti plaza (Basurtu). Erromeria. Beti Jai Alai Dantzari Taldea.\nAbenduak 26\, larunbata. 20:00etan. Santiago plaza (Alde Zaharra). Erromeria. Salbatzaile Dantza Taldea.\nAbenduak 26\, larunbata. 20:00etan. Altamira auzoa. Kalejira. Irutasun Dantzari Taldea.\nAbenduak 31\, osteguna. 11:30ean. Luzarra Kalea (Deustu). Erraldoien kalejira. Ondalan Erraldoien Konpartsa.  \n\n\n“DANTZA PLAZETAN” 2026 EGITARAUA ¿ Urtarrilak 24\, larunbata. 20:00etan. Santiago plaza (Alde Zaharra). Erromeria. Salbatzaile Dantza Taldea. ¿ Otsailak 7\, larunbata. 20:00etan. San Pedro plaza (Deustu). Erromeria. Deustuko Folklore Taldeak. ¿ Otsailak 8\, igandea. 11:30ean. Deustu. Erraldoien kalejira. Ondalan Erraldoien Konpartsa. ¿ Otsailak 8\, igandea. 12:00etan. San Felizisimo. Dantza-alardea. Bihotz Alai Dantza Taldea. ¿ Otsailak 21\, larunbata. 11:30ean. San Inazio. Erraldoien kalejira. Ondalan Erraldoien Konpartsa. ¿ Otsailak 21\, larunbata. 12:00etan. Santutxu. Lantzeko Ihauteria. Gaztedi Dantzari Taldea. ¿ Otsailak 21\, larunbata. 19:00etan. Basurtuko geltokia. Inauterietako dantzak. Beti Jai Alai Dantzari Taldea. ¿ Otsailak 28\, larunbata. 20:00etan. Santiago plaza (Alde Zaharra). Erromeria. Salbatzaile Dantza Taldea. ¿ Martxoak 13\, ostirala. 18:00etan. Deustu. Erraldoien kalejira. Ondalan Erraldoien Konpartsa. ¿ Martxoak 14\, larunbata. 20:00etan. San Pedro plaza (Deustu). Erromeria. Deustuko Folklore Taldeak. ¿ Martxoak 15\, igandea. 12:30ean. Plaza de La Casilla. Erromeria. Bizkaiko Dantzarien Biltzarra. ¿ Martxoak 22\, igandea. 12:30ean. Plaza Levante (San Inazio). Dantza-alardea. Goi Herri Dantza Taldea. ¿ Martxoak 28\, igandea. 20:00etan. Santiago plaza (Alde Zaharra). Erromeria. Salbatzaile Dantza Taldea. ¿ Apirilak 19\, igandea. 12:00etan. Siete Calles (Casco Viejo). Kalejira. Batasuna Arraizbide Dantza Taldea. ¿ Apirilak 25\, larunbata. 20:00etan. Santiago plaza (Alde Zaharra). Erromeria. Salbatzaile Dantza Taldea. ¿ Maiatzak 1\, ostirala. 12:00etan. Elorrieta. Dantza-alardea. Bihotz Alai Dantza Taldea. 3 / 10 ¿ Maiatzak 2\, larunbata. 11:30ean. Elorrieta. Erraldoien kalejira. Ondalan Erraldoien Konpartsa. ¿ Maiatzak 9\, larunbata. 13:00etan. Arangoiti. Dantza-alardea. Bihotz Alai Dantza Taldea. ¿ Maiatzak 9\, larunbata. 17:00etan. Erekalde plaza. Erromeria. Batasuna Arraizbide Dantza Taldea. ¿ Maiatzak 23\, larunbata. 20:00etan. Santiago plaza (Alde Zaharra). Erromeria. Salbatzaile Dantza Taldea. ¿ Maiatzak 29\, ostirala. 18:30ean. Solokoetxe auzoa. Solokoetxe dantzan. Gaztedi Dantzari Taldea. ¿ Maiatzak 29\, ostirala. 19:00etan. Solokoetxe auzoa. Erromeria Ibiltaria. Ibai Arte Dantza Taldea. ¿ Ekainak 5\, ostirala. 19:00etan. Osasun-profesionalen plaza (Intermodal). Erromeria. Bizkaiko Dantzarien Biltzarra. ¿ Ekainak 6\, larunbata. 18:30ean. Altamirako frontoia. Dantza-alardea. Irutasun Dantzari Taldea. ¿ Ekainak 6\, larunbata. 11:30ean. Ibarrekolanda. Erraldoien kalejira. Ondalan Erraldoien Konpartsa. ¿ Ekainak 7\, igandea. 12:00etan. Ibarrekolanda. Dantza-alardea. Bihotz Alai Dantza Taldea. ¿ Ekainak 13\, larunbata. 20:00etan. Areatza. XIV. Bilboko Larrain Dantza. Gaztedi Dantzari Taldea. ¿ Ekainak 14\, igandea. 13:00etan. Basurtuko geltokia. Umeen dantza ikuskizuna. Beti Jai Alai Dantzari Taldea. ¿ Ekainak 23\, asteartea. 20:00 horas. Basurtuko geltokia. Erromeria. Beti Jai Alai Dantzari Taldea. ¿ Ekainak 23\, asteartea. 20:00etan. San Pedro plaza (Deustu). Erromeria. Deustuko Folklore Taldeak. ¿ Ekainak 23\, asteartea. 21:00etan. Karmelo plaza (Santutxu). San Juan Gaueko erromeria. Gaztedi Dantzari Taldea. ¿ Ekainak 25\, osteguna. 19:00etan. Deustuibarra. Erraldoien kalejira. Ondalan Erraldoien Konpartsa. ¿ Ekainak 26\, ostirala. 19:00etan. Deustuibarra. Dantza-alardea. Bihotz Alai Dantza Taldea. ¿ Ekainak 27\, larunbata. 20:00etan. Santiago plaza (Alde Zaharra). Erromeria. Salbatzaile Dantza Taldea. 4 / 10 ¿ Uztailak 5\, igandea. 19:00etan. Arriaga plaza. Dantza-alardea. Gaztedi Dantzari Taldea. ¿ Uztailak 11\, larunbata. 19:00etan. Arriaga plaza. Dantza-alardea. Beti Jai Alai Dantzari Taldea. ¿ Uztailak 13\, astelehena. 19:00etan. Karmelo plaza (Santutxu). Dantza-alardea. Gaztedi Dantzari Taldea. ¿ Uztailak 18\, larunbata. 19:00etan. Arriaga plaza. Dantza-alardea. Batasuna Arraizbide Dantza Taldea\, Bihotz Alai Dantza Taldea\, Irutasun Dantzari Taldea y Goi-Herri Dantza Taldea. ¿ Uztailak 25\, larunbata. 19:00etan. Arriaga plaza. Dantza-alardea. Goi Alde Dantza Taldea. ¿ Uztailak 26\, igandea. 11:30ean. San Inazio. Erraldoien kalejira. Ondalan Erraldoien Konpartsa. ¿ Uztailak 26\, igandea. 13:00etan. Basurtuko geltokia. Dantza-alardea. Beti Jai Alai Dantzari Taldea. ¿ Uztailak 31\, ostirala. 13:00etan. Baztan plaza (San Inazio) Dantza-alardea. Goi-Herri Dantza Taldea. ¿ Irailak 13\, igandea. 13:00etan. Zumarraga plaza (Santutxu). Erromeria. Gaztedi Dantzari Taldea. ¿ Irailak 26\, larunbata. 11:30ean. Sarriko. Erraldoien kalejira. Ondalan Erraldoien Konpartsa. ¿ Irailak 26\, larunbata. 20:00etan. Santiago plaza (Alde Zaharra). Erromeria. Salbatzaile Dantza Taldea. ¿ Urriak 3\, igandea. 17:30ean. Zorrotzako frontoia. Dantza-alardea. Ibai Arte Dantza Taldea. ¿ Urriak 24\, igandea. 13:00etan. Basurtu. Kalejira. Beti Jai Alai Dantzari Taldea. ¿ Urriak 31\, igandea. 20:00etan. Santiago plaza (Alde Zaharra). Erromeria. Salbatzaile Dantza Taldea. ¿ Azaroak 8\, igandea. 12:30ean. San Pedro plaza (Deustu). Erromeria. Deustuko Folklore Taldeak. ¿ Azaroak 15\, igandea. 13:00etan.Basurtu. Umeen dantza ikuskizun ibiltaria. Beti Jai Alai Dantzari Taldea. ¿ Azaroak 28\, larunbata. 20:00etan. Santiago plaza (Alde Zaharra). Erromeria. Salbatzaile Dantza Taldea. 5 / 10 ¿ Abenduak 19\, larunbata. 18:00etan. Zorrotzako frontoia. Dantza-alardea. Ibai Arte Dantza Taldea. ¿ Abenduak 21\, astelehena. 18:30etan. San Inazio. Erraldoien kalejira. Ondalan Erraldoien Konpartsa. ¿ Abenduak 24\, osteguna. 17:00etan. Basarrate plaza (Santutxu). Erromeria. Gaztedi Dantzari Taldea. ¿ Abenduak 24\, osteguna. 18:00etan. Aita Donosti plaza (Basurtu). Erromeria. Beti Jai Alai Dantzari Taldea. ¿ Abenduak 26\, larunbata. 20:00etan. Santiago plaza (Alde Zaharra). Erromeria. Salbatzaile Dantza Taldea. ¿ Abenduak 26\, larunbata. 20:00etan. Altamira auzoa. Kalejira. Irutasun Dantzari Taldea. ¿ Abenduak 31\, osteguna. 11:30ean. Luzarra Kalea (Deustu). Erraldoien kalejira. Ondalan Erraldoien Konpartsa.
URL:https://herrikultura.eus/event/dantza-plazetan-2026-salbatzaile-dantza-taldea-4/
LOCATION:Santiago plaza (Zazpi Kaleak) · Erromeria\, Bilbao\, Bizkaia\, 020\, España
CATEGORIES:Dantza
ATTACH;FMTTYPE=image/jpeg:https://herrikultura.eus/wp-content/uploads/2026/01/dp26-18.jpg
END:VEVENT
BEGIN:VEVENT
DTSTART;VALUE=DATE:20260523
DTEND;VALUE=DATE:20260524
DTSTAMP:20260424T051912
CREATED:20260205T230356Z
LAST-MODIFIED:20260205T230356Z
UID:185248-1779494400-1779580799@herrikultura.eus
SUMMARY:Andramari dantza taldea: "40 urte dantzan"
DESCRIPTION:Andramari dantza taldeak aurten 40 urte beteko dauz. Hori dala eta\, udaletxearen laguntzarekin\, ekitaldi berezi bat prestatu dute\, maiatzaren 23rako. \nMAIATZAREN 23an \n\n\nDantza erakustaldia \n\n\nBazkaria \n\n\nErromeria
URL:https://herrikultura.eus/event/andramari-dantza-taldea-40-urte-dantzan/
LOCATION:Aldabe Liburutegia – (Aldabe Gizarte Etxeko haur eta gazteen liburutegia)\, Eulogio Serdan\, 2\, Vitoria-Gasteiz\, Álava\, 059\, España
CATEGORIES:Dantza
ATTACH;FMTTYPE=image/jpeg:https://herrikultura.eus/wp-content/uploads/2026/02/20-3.jpg
END:VEVENT
END:VCALENDAR