BEGIN:VCALENDAR
VERSION:2.0
PRODID:-//HerriKultura - ECPv6.2.3.1//NONSGML v1.0//EN
CALSCALE:GREGORIAN
METHOD:PUBLISH
X-ORIGINAL-URL:https://herrikultura.eus
X-WR-CALDESC:Eventos para HerriKultura
REFRESH-INTERVAL;VALUE=DURATION:PT1H
X-Robots-Tag:noindex
X-PUBLISHED-TTL:PT1H
BEGIN:VTIMEZONE
TZID:Europe/Madrid
BEGIN:DAYLIGHT
TZOFFSETFROM:+0100
TZOFFSETTO:+0200
TZNAME:CEST
DTSTART:20260329T010000
END:DAYLIGHT
BEGIN:STANDARD
TZOFFSETFROM:+0200
TZOFFSETTO:+0100
TZNAME:CET
DTSTART:20261025T010000
END:STANDARD
END:VTIMEZONE
BEGIN:VEVENT
DTSTART;VALUE=DATE:20260528
DTEND;VALUE=DATE:20260529
DTSTAMP:20260424T064458
CREATED:20260323T230221Z
LAST-MODIFIED:20260323T230221Z
UID:194355-1779926400-1780012799@herrikultura.eus
SUMMARY:"Este himno llevará la palabra euforia (Flashforward)"
DESCRIPTION:La Intrusa konpainiaren 30. urteurrena ospatuko da 2026/27 denboraldian.\n\n\nIkuskizun hau omenaldi bat da bizi-bulkadei. Elkar sostengatzeko modu kolektibo bat erregutu nahi du. Eta hori elkarrekin egin dezagun. Ereserkiak ez direlako bakarka abesten. Eldarnio-formak dituen argitasun baten bidez\, mozkorkeria komikoarekin\, ezagutuko dugu zein den garaipenaren substantzia eta denok amesten ditugun itxaropenen porrota. Askatasun berri horrek koroatuta eta geure buruaren transzendentziarekin obsesionatuta\, bulkadatik —eta ez itxaropenetik—abiatzen den ereserki hau sortuko dugu. \nVirginia García eta Damián Muñoz dira La Intrusa konpainiaren sortzaile eta zuzendariak. Haien lanak\, gorpuztasun zehatza eta poetika bisuala oinarri\, dantza\, antzerkia eta arte bisualak fusionatzen ditu. Konpainiak 30 herrialdetan baino gehiagotan aurkeztu ditu bere lanak\, eta\, besteak beste\, Espainiako Dantza Sari Nazionala jaso zuen 2015ean\, bikaintasunagatik eta lengoaia berriak integratzeagatik. \nLa Intrusa konpainiak\, Gasteizko Udal Antzoki Sareak eta La Factoría ekoiztetxeak ekoiztutako ikuskizuna. Eusko Jaurlaritzaren Hezkuntza\, Hizkuntza Politika eta Kultura Sailaren laguntzarekin. \nFitxa artistikoa: \n\n\n\nArtistak: Carmen Fumero\, Alexis Fernández\, Ximena Carnevale\, Rosa Grui\, Iván Montero\, Virginia García\, Damián Muñoz\nKonpainia: La intrusa\nZuzendaria: Virginia García\, Damián Muñoz\nDramaturgia: Virginia García\nMusika: Jesús Díaz\, Damián Muñoz\, Enric Montefusco\nTestua: Riki Black\n\n\nZubiak bitartekaritza-proiektua \nHasi aurretik (18:30etan)\, ikuskizuna aurkezteko tailerra \nAmaieran\, topaketa publikoarekin \nIzen-emateak: larrualab@gmail.com  \nIkuskizun hau Udal Antzoki Sarearen 2026ko Udaberri-udako Programazioaren parte da.
URL:https://herrikultura.eus/event/este-himno-llevara-la-palabra-euforia-flashforward/
LOCATION:FELIX PETITE ANTZOKIA (IBAIONDO G.E)\, Vitoria-Gasteiz\, Álava\, 059\, España
CATEGORIES:Dantza
ATTACH;FMTTYPE=image/jpeg:https://herrikultura.eus/wp-content/uploads/2026/03/53-3.jpg
END:VEVENT
END:VCALENDAR