BEGIN:VCALENDAR
VERSION:2.0
PRODID:-//HerriKultura - ECPv6.2.3.1//NONSGML v1.0//EN
CALSCALE:GREGORIAN
METHOD:PUBLISH
X-WR-CALNAME:HerriKultura
X-ORIGINAL-URL:https://herrikultura.eus
X-WR-CALDESC:Eventos para HerriKultura
REFRESH-INTERVAL;VALUE=DURATION:PT1H
X-Robots-Tag:noindex
X-PUBLISHED-TTL:PT1H
BEGIN:VTIMEZONE
TZID:Europe/Madrid
BEGIN:DAYLIGHT
TZOFFSETFROM:+0100
TZOFFSETTO:+0200
TZNAME:CEST
DTSTART:20260329T010000
END:DAYLIGHT
BEGIN:STANDARD
TZOFFSETFROM:+0200
TZOFFSETTO:+0100
TZNAME:CET
DTSTART:20261025T010000
END:STANDARD
END:VTIMEZONE
BEGIN:VEVENT
DTSTART;VALUE=DATE:20260530
DTEND;VALUE=DATE:20260531
DTSTAMP:20260424T051604
CREATED:20260111T230306Z
LAST-MODIFIED:20260111T230306Z
UID:180175-1780099200-1780185599@herrikultura.eus
SUMMARY:"Recordando a Marchena"
DESCRIPTION:D8 Sorkuntza Faktoriatik adirazten dute: \nRecordando a Marchena llega a nuestro escenario como una velada única e irrepetible\, firmada por dos de los nombres más prestigiosos del flamenco actual: Sandra Carrasco y David de Arahal. Juntos proponen un homenaje profundo y contemporáneo al legado de Pepe Marchena\, reinterpretado desde el respeto\, el conocimiento y una sensibilidad artística excepcional. No se trata de mirar al pasado\, sino de traer su esencia al presente con una propuesta elegante\, valiente y cargada de emoción. \nEl encuentro entre la voz versátil y madura de Sandra Carrasco y la guitarra innovadora de David de Arahal da lugar a un espectáculo de gran altura artística\, reconocido por la crítica y el público. Una cita pensada para disfrutar del flamenco en su máxima expresión\, en un formato cercano y envolvente. Una noche exclusiva para dejarse llevar por la emoción y la excelencia sobre el escenario.
URL:https://herrikultura.eus/event/recordando-a-marchena/
LOCATION:D8 Sorkuntza Faktoria\, Carretera Zorroza a Castrexana\, 30\, Bilbao\, Bizkaia\, 020\, España
CATEGORIES:Dantza
ATTACH;FMTTYPE=image/jpeg:https://herrikultura.eus/wp-content/uploads/2026/01/45-5.jpg
END:VEVENT
BEGIN:VEVENT
DTSTART;VALUE=DATE:20260530
DTEND;VALUE=DATE:20260531
DTSTAMP:20260424T051604
CREATED:20260317T230231Z
LAST-MODIFIED:20260317T230231Z
UID:193147-1780099200-1780185599@herrikultura.eus
SUMMARY:XXV. Sevillana Jaialdia
DESCRIPTION:Alma\, Corazón y… Baile akademiak hegoaldeko zertzelada batzuk erakusten dituen\, non sevillana alaiak flamenkoaren beste eredu batzuekin nahasten diren\, baita kriskitinekin (edo zotzekin) egindako dantzekin eta dantza horietan erabilitako osagarriekin (mantoiak\, abanikoak\, kapelak…) egindako koreografiekin ere.
URL:https://herrikultura.eus/event/xxv-sevillana-jaialdia/
LOCATION:Larratxo Kultur Etxea\, Larratxo pasealekua\, 55\, Donostia / San Sebastián\, Gipuzkoa\, 069\, España
CATEGORIES:Dantza
ATTACH;FMTTYPE=image/jpeg:https://herrikultura.eus/wp-content/uploads/2026/03/17-5.jpg
END:VEVENT
BEGIN:VEVENT
DTSTART;VALUE=DATE:20260530
DTEND;VALUE=DATE:20260531
DTSTAMP:20260424T051604
CREATED:20260422T220224Z
LAST-MODIFIED:20260422T220224Z
UID:199982-1780099200-1780185599@herrikultura.eus
SUMMARY:Zer(K)nias zikloa 2026: "Tetas"
DESCRIPTION:Zer(K)nias zikloaren barne. \nOholtza gainean\, emakume baino lehen titi izandako emakume\, eta\, titi izateagatik\, emakume besterik izan ez zen emakume bat. Kulunkatzen\, astintzen\, zurrupatzen eta gorputzetik harago hedatzen diren titiak. Samurtasun keinu bat\, lotura nahi bat. Maitasuna sentitzea\, bero-bero egotea. Titia ematea titia hartzea nolakoa den gogoratu nahi duen horri\, eta bere begietan norberari begiratzea. \nIkuspegi kritiko eta feminista batetik\, «Tetas» proposamenak jorratzen du nola aurkezten diren gorputzaren hauskortasuna eta lotura nahia generoari\, zaintzari eta botereari buruzko kontaketa hegemonikoak zalantzan jartzeko tresna gisa. \nFitxa artistikoa: \n\nKontzeptua eta performancea: Raíra Rosenkjar\nZuzendaritza dramaturgikoa eta koreografikoa: Raíra Rosenkjar eta Isaak Erdoiza\nZuzendaritza artistikoa: Raíra Rosenkjar\, Isaak Erdoiza eta Dani Hernandéz\nSoinu-konposizioa: Malka Julieta\nSoinu-diseinua eta kontzeptu espaziala: Dani Hernandéz\nArgiztapen-diseinua eta teknika: Marc Kanou\nEstilismoa: Txokostura\nAhots-laguntza: Juan Carlos Garaizabal eta Bettina Aragón\nArgazkiak: Millena Rosado\nBeste kolaborazio batzuk: Sasha Manex Arratibel\, Juana Lor\nEsker onak: Juana Lor\, Josefina Zuain\, Sasha Manex Arratibel\, Marina Suaréz\, Ramilla Souza eta Dantzan Bilaka 2025eko kideak\nEkoizpena: Raíra Rosenkjar\nLaguntzaileak: Dantzan Bilaka\, La Fundición\, Garaion Sorgingunea\, Harrobia\nIraupena: 45 minutu\n\n 
URL:https://herrikultura.eus/event/zerknias-zikloa-2026-tetas/
LOCATION:La Fundición  y Paseo de AbandoIbarra\, Bilbao\, Bizkaia\, 020\, España
CATEGORIES:Dantza
ATTACH;FMTTYPE=image/jpeg:https://herrikultura.eus/wp-content/uploads/2026/04/29-2.jpg
END:VEVENT
END:VCALENDAR