BEGIN:VCALENDAR
VERSION:2.0
PRODID:-//HerriKultura - ECPv6.2.3.1//NONSGML v1.0//EN
CALSCALE:GREGORIAN
METHOD:PUBLISH
X-ORIGINAL-URL:https://herrikultura.eus
X-WR-CALDESC:Eventos para HerriKultura
REFRESH-INTERVAL;VALUE=DURATION:PT1H
X-Robots-Tag:noindex
X-PUBLISHED-TTL:PT1H
BEGIN:VTIMEZONE
TZID:Europe/Madrid
BEGIN:DAYLIGHT
TZOFFSETFROM:+0100
TZOFFSETTO:+0200
TZNAME:CEST
DTSTART:20260329T010000
END:DAYLIGHT
BEGIN:STANDARD
TZOFFSETFROM:+0200
TZOFFSETTO:+0100
TZNAME:CET
DTSTART:20261025T010000
END:STANDARD
END:VTIMEZONE
BEGIN:VEVENT
DTSTART;VALUE=DATE:20260531
DTEND;VALUE=DATE:20260601
DTSTAMP:20260424T051825
CREATED:20260101T230245Z
LAST-MODIFIED:20260101T230245Z
UID:178302-1780185600-1780271999@herrikultura.eus
SUMMARY:"Klera"
DESCRIPTION:Jon Mayaren ideia batetik abiatuta\, lengoaia artistiko ezberdinak koaderno batean biltzen ditu Klerak. Literatura\, ilustrazioa\, musika eta dantza ditu espresio bide\, eta koaderno gisako argitalpen batean adierazpen artistiko horiek bildu\, eta\, artearen poetikotasunetik\, gerraren ondorioei buruz gogoeta egitera gonbidatzen gaitu. \nLeire Bilbaoren testuak eta June San Sebastianen ilustrazioek Maite Larbururen musika eta Kukai Dantzaren koreografiak izango dituzte lagun. Dantza eta musika QR kodigoen bidez azalduko dira koadernoan. Izan ere\, Klera disziplina arteko proiektua da\, artearen begirada ezberdinetatik gerra ezari eta elkarbizitzari dei bat egiteko. \nFitxa artstikoa:  \n\nProiektuaren zuzendaritza eta koreografia: Jon Maya Sein\nIdazlea: Leire Bilbao\nIlustratzailea: June San Sebastián\nMusika sortzailea: Maite Larburu\nIkus-entzunezkoen sortzailea: David Bernués\nDantzariak: Kukai Dantza
URL:https://herrikultura.eus/event/klera/
LOCATION:Lege Zaharren enparantza. (euria bada\, Modelo Aretoan)\, Zarautz\, Gipuzkoa\, 079\, España
CATEGORIES:Dantza
ATTACH;FMTTYPE=image/jpeg:https://herrikultura.eus/wp-content/uploads/2026/01/72.jpg
END:VEVENT
END:VCALENDAR