BEGIN:VCALENDAR
VERSION:2.0
PRODID:-//HerriKultura - ECPv6.2.3.1//NONSGML v1.0//EN
CALSCALE:GREGORIAN
METHOD:PUBLISH
X-WR-CALNAME:HerriKultura
X-ORIGINAL-URL:https://herrikultura.eus
X-WR-CALDESC:Eventos para HerriKultura
REFRESH-INTERVAL;VALUE=DURATION:PT1H
X-Robots-Tag:noindex
X-PUBLISHED-TTL:PT1H
BEGIN:VTIMEZONE
TZID:Europe/Madrid
BEGIN:DAYLIGHT
TZOFFSETFROM:+0100
TZOFFSETTO:+0200
TZNAME:CEST
DTSTART:20260329T010000
END:DAYLIGHT
BEGIN:STANDARD
TZOFFSETFROM:+0200
TZOFFSETTO:+0100
TZNAME:CET
DTSTART:20261025T010000
END:STANDARD
END:VTIMEZONE
BEGIN:VEVENT
DTSTART;VALUE=DATE:20260606
DTEND;VALUE=DATE:20260607
DTSTAMP:20260424T064309
CREATED:20251017T220152Z
LAST-MODIFIED:20251017T220152Z
UID:160226-1780704000-1780790399@herrikultura.eus
SUMMARY:MusEkintza 2025/2026: Garazi Etxaburu + Compañía Osa + Mujika
DESCRIPTION:MusEkintza 2025/2026 – Bizkaiko Museoetako Arte Eszenikoen Jaialdiaren egitarauaren barruan. \nGarazi Etxaburuk eta Osa+Mujika Konpainiak interpretatutako bi dantza pieza. \nBiek oso ikuspegi plastikoa eta zaindua dute mugimenduari buruz\, transmititu egiten dute\, pentsarazi egiten digute. \nBi dantza lanen ondoren\, publikoak artistekin solasaldi bat izango du dantzaren munduko sorkuntzarekin lotutako hainbat alderdi jorratzeko. \n\nData: Ekainak 6 (2026)\nOrdu: 19:00etan\nErreserba: 2026ko maiatzaren 6tik
URL:https://herrikultura.eus/event/musekintza-2025-2026-garazi-etxaburu-compania-osa-mujika/
LOCATION:Arkeologi Museoa\, Mallonako Galtzadak 2\, Prim z/g\, Bilbao\, Bizkaia\, 020\, España
CATEGORIES:Dantza
ATTACH;FMTTYPE=image/jpeg:https://herrikultura.eus/wp-content/uploads/2025/10/da-1.jpg
END:VEVENT
BEGIN:VEVENT
DTSTART;VALUE=DATE:20260606
DTEND;VALUE=DATE:20260607
DTSTAMP:20260424T064309
CREATED:20260129T230403Z
LAST-MODIFIED:20260129T230403Z
UID:183833-1780704000-1780790399@herrikultura.eus
SUMMARY:Dantza Plazetan 2026: Irutasun Dantzari Taldea
DESCRIPTION:Dantza Plazetan 2026 egitarauaren barruan. \nBilboko Udalak «Dantza Plazetan» ekimenaren edizio berri bat jarri du abian 2026ko hasierarekin batera. Urte osoan zehar euskal folklorea protagonista izango duten topaketak izango dira hiriko hainbat auzotan. Lehen saiorako\, hainbat jarduera programatu dira\, urte hasieratik ekainera bitartean\, urtarrilaren 24an hasi eta ekainaren 27an\, larunbatean\, amaituko direnak. \nUrte osoan zehar 58 topaketa egingo dira\, doan\, bilbotarrek kaleetan hainbat erromeria\, kalejira\, dantza alarde eta erraldoien kalejiraz gozatzeko aukera izan dezaten\, euskal dantzak eta folklorea hurbildu\, sustatu eta balioesteko helburuarekin. \nLehenengo hitzordua urtarrilaren 24an izango da\, larunbata\, Salbatzaile Dantza Taldearen erromeriarekin\, Alde Zaharreko Santiago Plazan. \nBerrikuntza gisa\, Gaztedi Dantzari Taldeak Lantzeko Inauterietako dantza tipikoak ekarriko ditu Bilbora\, Nafarroako ospakizun tradizionala. Hitzordua otsailaren 21ean izango da\, larunbata\, Santutxun. Gainera\, aurten ekainean Larrain Dantza ospatuko da berriro\, Gaztedi Dantzari Taldeak dinamizatuko duen beste ekitaldi tradizional bat\, 2011tik egiten dena. \n«Dantza Plazetan» programazioa osatzen duten tokiko taldeak hauek dira: Salbatzaile Dantza Taldea\, Deustuko Folklore Taldeak\, Ondalan Erraldoien Konpartsa\, Bihotz Alai Dantza Taldea\, Gaztedi Dantzari Taldea\, Beti Jai Alai Dantzari Taldea\, Bizkaiko Dantzarien Biltzarra\, Goi Herri Dantza Taldea\, Batasuna Arraizbide Dantza Taldea\, Ibai Arte Dantza Taldea\, Irutasun Dantzari Taldea\, Goi-Herri Dantza Taldea eta Goi Alde Dantza Taldea. \n«Dantza Plazetan» programaren helburua tokiko kultura sustatzea da\, Bilboko auzoetako guneetara hurbilduz\, herritarren parte-hartzea eta gizarte-kohesioa sustatzeko\, kultura elementu bateratzaile gisa erabiliz. Hori dela eta\, Bilboko 2023-2033 Kultura Plan Estrategikoaren jarduetan kokatzen da. \n2026KO «DANTZA PLAZETAN» EGITARAUA (PDF)\n\nUrtarrilak 24\, larunbata. 20:00etan. Santiago plaza (Alde Zaharra). Erromeria. Salbatzaile Dantza Taldea.\nOtsailak 7\, larunbata. 20:00etan. San Pedro plaza (Deustu). Erromeria. Deustuko Folklore Taldeak.\nOtsailak 8\, igandea. 11:30ean. Deustu. Erraldoien kalejira. Ondalan Erraldoien Konpartsa.\nOtsailak 8\, igandea. 12:00etan. San Felizisimo. Dantza-alardea. Bihotz Alai Dantza Taldea.\nOtsailak 21\, larunbata. 11:30ean. San Inazio. Erraldoien kalejira. Ondalan Erraldoien Konpartsa.\nOtsailak 21\, larunbata. 12:00etan. Santutxu. Lantzeko Ihauteria. Gaztedi Dantzari Taldea.\nOtsailak 21\, larunbata. 19:00etan. Basurtuko geltokia. Inauterietako dantzak. Beti Jai Alai Dantzari Taldea.\nOtsailak 28\, larunbata. 20:00etan. Santiago plaza (Alde Zaharra). Erromeria. Salbatzaile Dantza Taldea.\nMartxoak 13\, ostirala. 18:00etan. Deustu. Erraldoien kalejira. Ondalan Erraldoien Konpartsa.\nMartxoak 14\, larunbata. 20:00etan. San Pedro plaza (Deustu). Erromeria. Deustuko Folklore Taldeak.\nMartxoak 15\, igandea. 12:30ean. Plaza de La Casilla. Erromeria. Bizkaiko Dantzarien Biltzarra.\nMartxoak 22\, igandea. 12:30ean. Plaza Levante (San Inazio). Dantza-alardea. Goi Herri Dantza Taldea.\nMartxoak 28\, igandea. 20:00etan. Santiago plaza (Alde Zaharra). Erromeria. Salbatzaile Dantza Taldea.\nApirilak 19\, igandea. 12:00etan. Siete Calles (Casco Viejo). Kalejira. Batasuna Arraizbide Dantza Taldea.\nApirilak 25\, larunbata. 20:00etan. Santiago plaza (Alde Zaharra). Erromeria. Salbatzaile Dantza Taldea.\nMaiatzak 1\, ostirala. 12:00etan. Elorrieta. Dantza-alardea. Bihotz Alai Dantza Taldea. \nMaiatzak 2\, larunbata. 11:30ean. Elorrieta. Erraldoien kalejira. Ondalan Erraldoien Konpartsa.\nMaiatzak 9\, larunbata. 13:00etan. Arangoiti. Dantza-alardea. Bihotz Alai Dantza Taldea.\nMaiatzak 9\, larunbata. 17:00etan. Erekalde plaza. Erromeria. Batasuna Arraizbide Dantza Taldea.\nMaiatzak 23\, larunbata. 20:00etan. Santiago plaza (Alde Zaharra). Erromeria. Salbatzaile Dantza Taldea.\nMaiatzak 29\, ostirala. 18:30ean. Solokoetxe auzoa. Solokoetxe dantzan. Gaztedi Dantzari Taldea.\nMaiatzak 29\, ostirala. 19:00etan. Solokoetxe auzoa. Erromeria Ibiltaria. Ibai Arte Dantza Taldea.\nEkainak 5\, ostirala. 19:00etan. Osasun-profesionalen plaza (Intermodal). Erromeria. Bizkaiko Dantzarien Biltzarra.\nEkainak 6\, larunbata. 18:30ean. Altamirako frontoia. Dantza-alardea. Irutasun Dantzari Taldea.\nEkainak 6\, larunbata. 11:30ean. Ibarrekolanda. Erraldoien kalejira. Ondalan Erraldoien Konpartsa.\nEkainak 7\, igandea. 12:00etan. Ibarrekolanda. Dantza-alardea. Bihotz Alai Dantza Taldea.\nEkainak 13\, larunbata. 20:00etan. Areatza. XIV. Bilboko Larrain Dantza. Gaztedi Dantzari Taldea.\nEkainak 14\, igandea. 13:00etan. Basurtuko geltokia. Umeen dantza ikuskizuna. Beti Jai Alai Dantzari Taldea.\nEkainak 23\, asteartea. 20:00 horas. Basurtuko geltokia. Erromeria. Beti Jai Alai Dantzari Taldea.\nEkainak 23\, asteartea. 20:00etan. San Pedro plaza (Deustu). Erromeria. Deustuko Folklore Taldeak.\nEkainak 23\, asteartea. 21:00etan. Karmelo plaza (Santutxu). San Juan Gaueko erromeria. Gaztedi Dantzari Taldea.\nEkainak 25\, osteguna. 19:00etan. Deustuibarra. Erraldoien kalejira. Ondalan Erraldoien Konpartsa.\nEkainak 26\, ostirala. 19:00etan. Deustuibarra. Dantza-alardea. Bihotz Alai Dantza Taldea.\nEkainak 27\, larunbata. 20:00etan. Santiago plaza (Alde Zaharra). Erromeria. Salbatzaile Dantza Taldea.\nUztailak 5\, igandea. 19:00etan. Arriaga plaza. Dantza-alardea. Gaztedi Dantzari Taldea.\nUztailak 11\, larunbata. 19:00etan. Arriaga plaza. Dantza-alardea. Beti Jai Alai Dantzari Taldea.\nUztailak 13\, astelehena. 19:00etan. Karmelo plaza (Santutxu). Dantza-alardea. Gaztedi Dantzari Taldea.\nUztailak 18\, larunbata. 19:00etan. Arriaga plaza. Dantza-alardea. Batasuna Arraizbide Dantza Taldea\, Bihotz Alai Dantza Taldea\, Irutasun Dantzari Taldea y Goi-Herri Dantza Taldea. \nUztailak 25\, larunbata. 19:00etan. Arriaga plaza. Dantza-alardea. Goi Alde Dantza Taldea.\nUztailak 26\, igandea. 11:30ean. San Inazio. Erraldoien kalejira. Ondalan Erraldoien Konpartsa.\nUztailak 26\, igandea. 13:00etan. Basurtuko geltokia. Dantza-alardea. Beti Jai Alai Dantzari Taldea.\nUztailak 31\, ostirala. 13:00etan. Baztan plaza (San Inazio) Dantza-alardea. Goi-Herri Dantza Taldea.\nIrailak 13\, igandea. 13:00etan. Zumarraga plaza (Santutxu). Erromeria. Gaztedi Dantzari Taldea.\nIrailak 26\, larunbata. 11:30ean. Sarriko. Erraldoien kalejira. Ondalan Erraldoien Konpartsa.\nIrailak 26\, larunbata. 20:00etan. Santiago plaza (Alde Zaharra). Erromeria. Salbatzaile Dantza Taldea.\nUrriak 3\, igandea. 17:30ean. Zorrotzako frontoia. Dantza-alardea. Ibai Arte Dantza Taldea.\nUrriak 24\, igandea. 13:00etan. Basurtu. Kalejira. Beti Jai Alai Dantzari Taldea.\nUrriak 31\, igandea. 20:00etan. Santiago plaza (Alde Zaharra). Erromeria. Salbatzaile Dantza Taldea.\nAzaroak 8\, igandea. 12:30ean. San Pedro plaza (Deustu). Erromeria. Deustuko Folklore Taldeak.\nAzaroak 15\, igandea. 13:00etan.Basurtu. Umeen dantza ikuskizun ibiltaria. Beti Jai Alai Dantzari Taldea.\nAzaroak 28\, larunbata. 20:00etan. Santiago plaza (Alde Zaharra). Erromeria. Salbatzaile Dantza Taldea.\nAbenduak 19\, larunbata. 18:00etan. Zorrotzako frontoia. Dantza-alardea. Ibai Arte Dantza Taldea.\nAbenduak 21\, astelehena. 18:30etan. San Inazio. Erraldoien kalejira. Ondalan Erraldoien Konpartsa.\nAbenduak 24\, osteguna. 17:00etan. Basarrate plaza (Santutxu). Erromeria. Gaztedi Dantzari Taldea.\nAbenduak 24\, osteguna. 18:00etan. Aita Donosti plaza (Basurtu). Erromeria. Beti Jai Alai Dantzari Taldea.\nAbenduak 26\, larunbata. 20:00etan. Santiago plaza (Alde Zaharra). Erromeria. Salbatzaile Dantza Taldea.\nAbenduak 26\, larunbata. 20:00etan. Altamira auzoa. Kalejira. Irutasun Dantzari Taldea.\nAbenduak 31\, osteguna. 11:30ean. Luzarra Kalea (Deustu). Erraldoien kalejira. Ondalan Erraldoien Konpartsa.  \n\n\n“DANTZA PLAZETAN” 2026 EGITARAUA ¿ Urtarrilak 24\, larunbata. 20:00etan. Santiago plaza (Alde Zaharra). Erromeria. Salbatzaile Dantza Taldea. ¿ Otsailak 7\, larunbata. 20:00etan. San Pedro plaza (Deustu). Erromeria. Deustuko Folklore Taldeak. ¿ Otsailak 8\, igandea. 11:30ean. Deustu. Erraldoien kalejira. Ondalan Erraldoien Konpartsa. ¿ Otsailak 8\, igandea. 12:00etan. San Felizisimo. Dantza-alardea. Bihotz Alai Dantza Taldea. ¿ Otsailak 21\, larunbata. 11:30ean. San Inazio. Erraldoien kalejira. Ondalan Erraldoien Konpartsa. ¿ Otsailak 21\, larunbata. 12:00etan. Santutxu. Lantzeko Ihauteria. Gaztedi Dantzari Taldea. ¿ Otsailak 21\, larunbata. 19:00etan. Basurtuko geltokia. Inauterietako dantzak. Beti Jai Alai Dantzari Taldea. ¿ Otsailak 28\, larunbata. 20:00etan. Santiago plaza (Alde Zaharra). Erromeria. Salbatzaile Dantza Taldea. ¿ Martxoak 13\, ostirala. 18:00etan. Deustu. Erraldoien kalejira. Ondalan Erraldoien Konpartsa. ¿ Martxoak 14\, larunbata. 20:00etan. San Pedro plaza (Deustu). Erromeria. Deustuko Folklore Taldeak. ¿ Martxoak 15\, igandea. 12:30ean. Plaza de La Casilla. Erromeria. Bizkaiko Dantzarien Biltzarra. ¿ Martxoak 22\, igandea. 12:30ean. Plaza Levante (San Inazio). Dantza-alardea. Goi Herri Dantza Taldea. ¿ Martxoak 28\, igandea. 20:00etan. Santiago plaza (Alde Zaharra). Erromeria. Salbatzaile Dantza Taldea. ¿ Apirilak 19\, igandea. 12:00etan. Siete Calles (Casco Viejo). Kalejira. Batasuna Arraizbide Dantza Taldea. ¿ Apirilak 25\, larunbata. 20:00etan. Santiago plaza (Alde Zaharra). Erromeria. Salbatzaile Dantza Taldea. ¿ Maiatzak 1\, ostirala. 12:00etan. Elorrieta. Dantza-alardea. Bihotz Alai Dantza Taldea. 3 / 10 ¿ Maiatzak 2\, larunbata. 11:30ean. Elorrieta. Erraldoien kalejira. Ondalan Erraldoien Konpartsa. ¿ Maiatzak 9\, larunbata. 13:00etan. Arangoiti. Dantza-alardea. Bihotz Alai Dantza Taldea. ¿ Maiatzak 9\, larunbata. 17:00etan. Erekalde plaza. Erromeria. Batasuna Arraizbide Dantza Taldea. ¿ Maiatzak 23\, larunbata. 20:00etan. Santiago plaza (Alde Zaharra). Erromeria. Salbatzaile Dantza Taldea. ¿ Maiatzak 29\, ostirala. 18:30ean. Solokoetxe auzoa. Solokoetxe dantzan. Gaztedi Dantzari Taldea. ¿ Maiatzak 29\, ostirala. 19:00etan. Solokoetxe auzoa. Erromeria Ibiltaria. Ibai Arte Dantza Taldea. ¿ Ekainak 5\, ostirala. 19:00etan. Osasun-profesionalen plaza (Intermodal). Erromeria. Bizkaiko Dantzarien Biltzarra. ¿ Ekainak 6\, larunbata. 18:30ean. Altamirako frontoia. Dantza-alardea. Irutasun Dantzari Taldea. ¿ Ekainak 6\, larunbata. 11:30ean. Ibarrekolanda. Erraldoien kalejira. Ondalan Erraldoien Konpartsa. ¿ Ekainak 7\, igandea. 12:00etan. Ibarrekolanda. Dantza-alardea. Bihotz Alai Dantza Taldea. ¿ Ekainak 13\, larunbata. 20:00etan. Areatza. XIV. Bilboko Larrain Dantza. Gaztedi Dantzari Taldea. ¿ Ekainak 14\, igandea. 13:00etan. Basurtuko geltokia. Umeen dantza ikuskizuna. Beti Jai Alai Dantzari Taldea. ¿ Ekainak 23\, asteartea. 20:00 horas. Basurtuko geltokia. Erromeria. Beti Jai Alai Dantzari Taldea. ¿ Ekainak 23\, asteartea. 20:00etan. San Pedro plaza (Deustu). Erromeria. Deustuko Folklore Taldeak. ¿ Ekainak 23\, asteartea. 21:00etan. Karmelo plaza (Santutxu). San Juan Gaueko erromeria. Gaztedi Dantzari Taldea. ¿ Ekainak 25\, osteguna. 19:00etan. Deustuibarra. Erraldoien kalejira. Ondalan Erraldoien Konpartsa. ¿ Ekainak 26\, ostirala. 19:00etan. Deustuibarra. Dantza-alardea. Bihotz Alai Dantza Taldea. ¿ Ekainak 27\, larunbata. 20:00etan. Santiago plaza (Alde Zaharra). Erromeria. Salbatzaile Dantza Taldea. 4 / 10 ¿ Uztailak 5\, igandea. 19:00etan. Arriaga plaza. Dantza-alardea. Gaztedi Dantzari Taldea. ¿ Uztailak 11\, larunbata. 19:00etan. Arriaga plaza. Dantza-alardea. Beti Jai Alai Dantzari Taldea. ¿ Uztailak 13\, astelehena. 19:00etan. Karmelo plaza (Santutxu). Dantza-alardea. Gaztedi Dantzari Taldea. ¿ Uztailak 18\, larunbata. 19:00etan. Arriaga plaza. Dantza-alardea. Batasuna Arraizbide Dantza Taldea\, Bihotz Alai Dantza Taldea\, Irutasun Dantzari Taldea y Goi-Herri Dantza Taldea. ¿ Uztailak 25\, larunbata. 19:00etan. Arriaga plaza. Dantza-alardea. Goi Alde Dantza Taldea. ¿ Uztailak 26\, igandea. 11:30ean. San Inazio. Erraldoien kalejira. Ondalan Erraldoien Konpartsa. ¿ Uztailak 26\, igandea. 13:00etan. Basurtuko geltokia. Dantza-alardea. Beti Jai Alai Dantzari Taldea. ¿ Uztailak 31\, ostirala. 13:00etan. Baztan plaza (San Inazio) Dantza-alardea. Goi-Herri Dantza Taldea. ¿ Irailak 13\, igandea. 13:00etan. Zumarraga plaza (Santutxu). Erromeria. Gaztedi Dantzari Taldea. ¿ Irailak 26\, larunbata. 11:30ean. Sarriko. Erraldoien kalejira. Ondalan Erraldoien Konpartsa. ¿ Irailak 26\, larunbata. 20:00etan. Santiago plaza (Alde Zaharra). Erromeria. Salbatzaile Dantza Taldea. ¿ Urriak 3\, igandea. 17:30ean. Zorrotzako frontoia. Dantza-alardea. Ibai Arte Dantza Taldea. ¿ Urriak 24\, igandea. 13:00etan. Basurtu. Kalejira. Beti Jai Alai Dantzari Taldea. ¿ Urriak 31\, igandea. 20:00etan. Santiago plaza (Alde Zaharra). Erromeria. Salbatzaile Dantza Taldea. ¿ Azaroak 8\, igandea. 12:30ean. San Pedro plaza (Deustu). Erromeria. Deustuko Folklore Taldeak. ¿ Azaroak 15\, igandea. 13:00etan.Basurtu. Umeen dantza ikuskizun ibiltaria. Beti Jai Alai Dantzari Taldea. ¿ Azaroak 28\, larunbata. 20:00etan. Santiago plaza (Alde Zaharra). Erromeria. Salbatzaile Dantza Taldea. 5 / 10 ¿ Abenduak 19\, larunbata. 18:00etan. Zorrotzako frontoia. Dantza-alardea. Ibai Arte Dantza Taldea. ¿ Abenduak 21\, astelehena. 18:30etan. San Inazio. Erraldoien kalejira. Ondalan Erraldoien Konpartsa. ¿ Abenduak 24\, osteguna. 17:00etan. Basarrate plaza (Santutxu). Erromeria. Gaztedi Dantzari Taldea. ¿ Abenduak 24\, osteguna. 18:00etan. Aita Donosti plaza (Basurtu). Erromeria. Beti Jai Alai Dantzari Taldea. ¿ Abenduak 26\, larunbata. 20:00etan. Santiago plaza (Alde Zaharra). Erromeria. Salbatzaile Dantza Taldea. ¿ Abenduak 26\, larunbata. 20:00etan. Altamira auzoa. Kalejira. Irutasun Dantzari Taldea. ¿ Abenduak 31\, osteguna. 11:30ean. Luzarra Kalea (Deustu). Erraldoien kalejira. Ondalan Erraldoien Konpartsa.
URL:https://herrikultura.eus/event/dantza-plazetan-2026-irutasun-dantzari-taldea/
LOCATION:Altamirako Frontoia\, Bilbao\, Bizkaia\, 020\, España
CATEGORIES:Dantza
ATTACH;FMTTYPE=image/jpeg:https://herrikultura.eus/wp-content/uploads/2026/01/dp26-22.jpg
END:VEVENT
BEGIN:VEVENT
DTSTART;VALUE=DATE:20260606
DTEND;VALUE=DATE:20260607
DTSTAMP:20260424T064309
CREATED:20260401T220200Z
LAST-MODIFIED:20260401T220200Z
UID:196086-1780704000-1780790399@herrikultura.eus
SUMMARY:Udabarri Euskal Dantzari Taldea: 60.urteurrena
DESCRIPTION:Aurten 60 urte betetzen ditu Udabarri Euskal Dantzari Taldeak\, harira\, askotariko jarduerez osatutako egitaraua prestatu du urte osoan zehar. Egitarauak dantza-saioak\, erakusketak\, kale-ekitaldiak eta jaialdi nagusiak jasotzen ditu\, herritarren parte-hartzea sustatuz eta euskal dantza kalera ateratzeko asmoz. Helburu nagusia da urteurrena herriarekin batera ospatzea eta euskal dantzaren transmisioa indartzea. \nUrteurrenaren harira antolatutako egitarauaren nondik norakoak gaur goizean aurkeztu dira prentsaurrekoan\, Ainhoa Salterain Amorebieta-Etxanoko alkatea\, Jesus Goiria taldeko lehendakariordea eta Igone Idigoras idazkaria bertan zirela. Aurkezpenean azpimarratu dutenez\, 60 urteko ibilbide hau hasiera-hasieratik taldearekin elkarlanean aritu diren Amorebieta-Etxanoko pertsona askoren lanari eta laguntzari esker izan da. Ospakizunak jasotako laguntza guztia ezkertu eta etorkizunera begirako transmisioa eta belaunaldi berrien parte-hartzea sustatzea du helburu. \nUrte osoan zehar antolatutako ekintzak\, herritar guztientzat irekita \nEgitaraua Aste Santuaren ostean hasiko da\, apirilaren 18an\, herriko dendetan jarriko den dantza-jantzien erakusketarekin. Egun berean\, Dantza Plazan saio irekia egingo da\, AIKO taldeak gidatuta eta herritar guztien parte-hartzera zabalik. Astebete geroago\, apirilaren 25ean\, Durangaldeko Ezpatadantzari Eguna ospatuko da lehen aldiz Amorebieta-Etxanon. \nEra berean\, maiatzaren 23an\, barriro ere Dantza Plazan saio irekia izango da\, oraingoan EINGO taldeak gidatuta. \nEkainaren 6an izango da urteurreneko ekitaldi nagusia\, frontoian egingo den dantza-ikuskizun handia\, 150 dantzariren parte-hartzearekin. Emanaldi berezi honetan Udabarriren 60 urteko ibilbidea omenduko da\, belaunaldi desberdinetako dantzariak elkartuz eta euskal dantzaren indarra\, transmisioa eta bizitasuna agerian jarriz. Hilabete berean\, ekainaren 27an\, Larrain Dantza egingo da herriko plazetan\, herritarrei irekita. \nUdako hilabeteetan ere jarraituko dute ospakizunek. Uztailaren 16an\, Karmen Egunean\, Larran egingo den ekitaldiarekin eta herriko jaietako euskal erromeriarekin izango dute jarraipena. \nIrailaren 19an\, larunbata\, goizean kalejira egingo da\, ondoren herri-bazkaria\, eta bazkalostean jaialdia izango da\, Patxi eta Konpainia taldearen eskutik. Azaroan\, dantza-ikuskizun berezi batek emango dio amaiera urteurreneko programari.
URL:https://herrikultura.eus/event/udabarri-euskal-dantzari-taldea-60-urteurrena/
LOCATION:Igeldo (Frontoia)\, Donostia / San Sebastián\, Gipuzkoa\, 069\, España
CATEGORIES:Dantza
ATTACH;FMTTYPE=image/jpeg:https://herrikultura.eus/wp-content/uploads/2026/04/Dantzak.jpg
END:VEVENT
END:VCALENDAR