BEGIN:VCALENDAR
VERSION:2.0
PRODID:-//HerriKultura - ECPv6.2.3.1//NONSGML v1.0//EN
CALSCALE:GREGORIAN
METHOD:PUBLISH
X-WR-CALNAME:HerriKultura
X-ORIGINAL-URL:https://herrikultura.eus
X-WR-CALDESC:Eventos para HerriKultura
REFRESH-INTERVAL;VALUE=DURATION:PT1H
X-Robots-Tag:noindex
X-PUBLISHED-TTL:PT1H
BEGIN:VTIMEZONE
TZID:Europe/Madrid
BEGIN:DAYLIGHT
TZOFFSETFROM:+0100
TZOFFSETTO:+0200
TZNAME:CEST
DTSTART:20260329T010000
END:DAYLIGHT
BEGIN:STANDARD
TZOFFSETFROM:+0200
TZOFFSETTO:+0100
TZNAME:CET
DTSTART:20261025T010000
END:STANDARD
END:VTIMEZONE
BEGIN:VEVENT
DTSTART;VALUE=DATE:20260611
DTEND;VALUE=DATE:20260612
DTSTAMP:20260424T122407
CREATED:20260323T230233Z
LAST-MODIFIED:20260323T230233Z
UID:194401-1781136000-1781222399@herrikultura.eus
SUMMARY:"Ultimatum"
DESCRIPTION:Led Silhouette konpainia nafarraren azken lana da Ultimatum. Dantza\, antzerkia eta zinema uztartu egiten dira kolapsotik sortutako proposamen honetan; emozionala\, klimatikoa eta politikoa.\n\n\nGizakiaren kontraesanak aztertzen ditu lanak\, baita isolamendua eta gainbehera soziala ere. Gure hauskortasunari buruzko hausnarketa bat\, suntsitzen ari dela dirudien mundu honetan. Orainari begiratzeko premiazko deia. \nDantza garaikideko Led Silhouette konpainia (RNEren Ojo Crítico de Danza saria\, 2024)\, Nafarroako iparraldean kokatua dago\, Lesakan. Jon Lopez eta Martxel Rodrigezek zuzentzen dute\, La Veronal konpainiako ohiko interprete eta kolaboratzaileak. Bikaintasun artistiko handia erakutsi dute euren ekoizpenetan\, eta kritikarien zein ikusleen laudorioak jasota. Ekarpen handia egin dute lurraldeko kultur munduan\, eta ondorioz\, konpainiak herrialdeko eszena artistikoa aberastu eta bidea ireki du Europa mailan \nFitxa artistikoa: \n\n\n\nEgilea: Led Silhouette\nIdeia eta zuzendaritza: Jon López\, Martxel Rodríguez\nDantzariak: Katalin Arana\, Beatriz Mira\, Edoardo Ramirez\, Marcos Martincano\, Jon López\, Martxel Rodriguez\nAholkularitza artistikoa: Marcos Morau\n\n\nZubiak bitartekaritza-proiektua \nHasi aurretik (18:30etan)\, ikuskizuna aurkezteko tailerra \nAmaieran\, topaketa publikoarekin \nIzen-emateak: larrualab@gmail.com  \nIkuskizun hau Udal Antzoki Sarearen 2026ko Udaberri-udako Programazioaren parte da.
URL:https://herrikultura.eus/event/ultimatum-3/
LOCATION:Félix Petite Antzokia – (Félix Petite Antzokia (Ibaiondo Gizarte Etxea))\, Landaberde\, 31\, Vitoria-Gasteiz\, Álava\, 059\, España
CATEGORIES:Dantza
ATTACH;FMTTYPE=image/jpeg:https://herrikultura.eus/wp-content/uploads/2026/03/6-2.jpg
END:VEVENT
BEGIN:VEVENT
DTSTART;VALUE=DATE:20260611
DTEND;VALUE=DATE:20260612
DTSTAMP:20260424T122407
CREATED:20260330T220215Z
LAST-MODIFIED:20260330T220215Z
UID:195787-1781136000-1781222399@herrikultura.eus
SUMMARY:LABO GO 2026: "Ô.UII"
DESCRIPTION:LABO GO 2026 jaialdiaren barne. \nBrechten El resistible ascenso de Arturo Ui sortze prozesua aurkezten du konpainiak\, kabaret-zirku gisa. Jardunaldi honetarako ikerketa ariketa gisa\, rolak trukatuko dituzte; aktorea akrobata izango da\, akrobata aktorea eta dantzaria musikariarekin elkarrizketan dago. \nFitxa artistikoa:  \n\nDantzaria\, koreografoa\, zuzendaria: Emilie Camacho \nAntzerkigilea\, aktorea\, zuzendaria: Thomas Resendes \n Akrobata\, koreografoa: Lucien Reynes \nPerkusionista\, konpositorea: Nouhem Charliac\n\nPrograma: \n\n18:30. Ateak irekitzea\n19:00. Sortze-prozesuaren erakustaldia (fisikoa eta akademikoa)\n19:40. Solasaldia\n\nIraupena: 60 minutu \nSarrera librea. Beharrezkoa erreserbatzea
URL:https://herrikultura.eus/event/labo-go-2026-o-uii/
LOCATION:Tabakalera – (KUTXA FUNDAZIOA KLUBA)\, Andre Zigarrogileen plaza\, 1\, Donostia / San Sebastián\, Gipuzkoa\, 069\, España
CATEGORIES:Dantza
ATTACH;FMTTYPE=image/jpeg:https://herrikultura.eus/wp-content/uploads/2026/03/59-5.jpg
END:VEVENT
BEGIN:VEVENT
DTSTART;VALUE=DATE:20260611
DTEND;VALUE=DATE:20260612
DTSTAMP:20260424T122407
CREATED:20260412T220309Z
LAST-MODIFIED:20260412T220309Z
UID:198196-1781136000-1781222399@herrikultura.eus
SUMMARY:Hiroaki Umeda: "Split Flow" + "Assimilating"
DESCRIPTION:Programak 20 minutuko bi dantza pieza ditu\, bien artean 10 minutuko atsedenaldiarekin\n\nHiroaki Umeda koreografo japoniar ospetsuak bere praktikaren ikuspegi holistikoa eta berritzailea erakusten duten bi solo aurkeztuko ditu Azkuna Zentroan\, dantza arte digitalekin\, argiztapenaren diseinuarekin\, proiekzioarekin\, mapping-arekin eta soinu eta ikusizko sorkuntzarekin uztartuz. \nSplit Flow izen bera duen eta Herbehereetako Van Abbe Museoak 2011n enkargatu zuen argi-instalazioaren bertsio koreografikoa da. Bertan\, Umedak abiadura\, indar eta eskala desberdinetako mugimenduak sartzen ditu dantza jarraitu eta leunduko fluxu batean. Split Flow soloak giza pertzepzio bisualaren mugak desafiatzen ditu\, eta murgiltze-esperientzia bat eskaintzen dio publikoari. Artistaren mugimendu fisikoaren bidez bistaratutako abiadurak bestela ikusezin izango litzatekeen errealitate bat ikusgarri egiten du. \nOndoren\, Umedak bere azken lanetako bat taularatuko du\, Assimilating. Solo horretan\, gorputz-mugimenduak modu integralean elkarreragiten du ikus\, soinu eta espazio-denborazko elementuekin. Umedak argiztapen-diseinu dramatiko bat\, abangoardiako bideo-proiekzioak eta soinu-paisaia elektronikoak erabiltzen ditu\, esperientzia sentsorial bizia eta murgiltzailea sortzeko publikoarentzat. \nSINOPSIA \nSplit Flow? \nDantza optikoko pieza honetan\, artistak bi baldintza fisiko desberdin –dinamiko eta estatikoa– uztartzen ditu\, errealitatean dagoen dualtasuna bistaratzeko. Pieza\, hasiera batean\, Herbehereetako Van Abbe Museoak agindutako argi-instalazio bat zen\, abiadura argi-marren bidez adierazteko esperimentu bat. Split Flow lanaren bertsio koreografikoan\, Umedak\, lehenik eta behin\, abiadura\, indar eta eskala desberdineko mugimenduak txertatzen ditu\, eta\, gero\, etenik gabe garatzen den fluxu koreografiko araztu bat garatzen du. Beste era batera esanda\, eszenatoki gainean Umedak bere mugimenduen bidez nabarmentzen duen errealitate dualak\, alde batetik\, zati mikrokosmikoak ditu\, eta\, bestetik\, jarraitutasun makrokosmikoa. Espazio-denborazko hainbat egiturarekin geruzatutako mugimendu aberatsen bidez\, ikusleek zentzumenez sumatzen dute ingurunea dentsitate desberdineko bitartekoez betetzen dela une batzuetan\, hala nola urez\, olioz eta airez. Split flow lanean\, publikoak aurkitzen dituen errealitateak soilik ikus daitezke dantzariaren gorpuztasun emankorraren bidez. \nAssimilating \n2023an sortutako lan hau da Hiroakiren bakarkako lanik berriena. Bertan sorkuntza-prozesua bere gain hartu zuen osorik. Iraupena\, gutxi gorabehera: 20 minutu. \n«Umedarentzat\, dantza eta giza gorputza fenomeno naturalak dira\, hainbat faktoreren arteko harremanetik eratorriak. Simulazio fisikoen bidez sortutako irudi grafiko organiko eta jariakorrak eta giza gorputza mugimenduaren bidez lotzen dira\, hizkuntza komun balitz bezala. Hiroaki Umedaren azken lan honetan gorputza aldi berean hedatzen eta desagertzen da\, eta artistak gorputzaren eta mugimenduaren izaerari buruz duen ikuspegiaren eta pentsamenduaren adierazpena da». \nFITXA ARTISTIKOA \n\nSplit Flow \nKoreografia eta dantza: Hiroaki UmedaSoinuaren eta argiztapenaren diseinua: S20Ekoizpena: S20Koprodukzioa: Théâtre Louis Aragon\, Tremblay-en-Franceko dantzarako hitzartutako eszenaUrtea: 2013\, 2014 \nAssimilating \nPortaeraren eta dantzaren diseinua: Hiroaki UmedaSoinuaren diseinua: Hiroaki UmedaDiseinu bisuala eta programazioa: Hiroaki UmedaProdukzioa: S20Koprodukzioa: Yokohama Red Brick Warehouse No. 1Ekoizlea: Suzuko Tanoiri
URL:https://herrikultura.eus/event/hiroaki-umeda-split-flow-assimilating/
LOCATION:AZ Azkuna Zentroa – (Bastida Aretoa)\, Arriquibar Plaza\, 4\, Bilbao\, Bizkaia\, 020\, España
CATEGORIES:Dantza
ATTACH;FMTTYPE=image/jpeg:https://herrikultura.eus/wp-content/uploads/2026/04/hiroaki.jpg
END:VEVENT
END:VCALENDAR