BEGIN:VCALENDAR
VERSION:2.0
PRODID:-//HerriKultura - ECPv6.2.3.1//NONSGML v1.0//EN
CALSCALE:GREGORIAN
METHOD:PUBLISH
X-ORIGINAL-URL:https://herrikultura.eus
X-WR-CALDESC:Eventos para HerriKultura
REFRESH-INTERVAL;VALUE=DURATION:PT1H
X-Robots-Tag:noindex
X-PUBLISHED-TTL:PT1H
BEGIN:VTIMEZONE
TZID:Europe/Madrid
BEGIN:DAYLIGHT
TZOFFSETFROM:+0100
TZOFFSETTO:+0200
TZNAME:CEST
DTSTART:20260329T010000
END:DAYLIGHT
BEGIN:STANDARD
TZOFFSETFROM:+0200
TZOFFSETTO:+0100
TZNAME:CET
DTSTART:20261025T010000
END:STANDARD
END:VTIMEZONE
BEGIN:VEVENT
DTSTART;VALUE=DATE:20260911
DTEND;VALUE=DATE:20260912
DTSTAMP:20260424T110025
CREATED:20260415T220326Z
LAST-MODIFIED:20260415T220326Z
UID:198649-1789084800-1789171199@herrikultura.eus
SUMMARY:Dantza Plazan 2026
DESCRIPTION:19:30 \n Florida Parkean ( Kioskoa) \n Publiko guztiak \n\n \n\nLuis Aramburu Udal Folklore Eskolak dantzaren zentsu ludikoaz gozatzera gonbidatzen ditu gasteiztarrak. Publikoak dantza tradizional ezberdinak ikasi eta dantzatzeko aukera izango du. \nMaiatzak 8 Floridako Kioskoa  \nMaiatzak 15 Arca Plaza  \nMaiatzak 22 Santa Barbara Plaza  \nMaiatzak 29 Espainia Plaza  \nEkainak 5 Santa Barbara Plaza \nEkainak 12 Floridako Kioskoa  \nEkainak 19 Espainia Plaza \nAbuztuak 9 Santa María Plaza \nIrailak 11 Floridako Kioskoa \nIrailak  18 Arca Plaza \nIrailak 25 Espainia Plaza \nOrdua: 19:30etan  \n\n\n\nSarbidea\n\n\nSarrera doan
URL:https://herrikultura.eus/event/dantza-plazan-2026/
LOCATION:Florida Parkean ( Kioskoa)\, Vitoria-Gasteiz\, Álava\, 059\, España
CATEGORIES:Dantza
END:VEVENT
END:VCALENDAR