BEGIN:VCALENDAR
VERSION:2.0
PRODID:-//HerriKultura - ECPv6.2.3.1//NONSGML v1.0//EN
CALSCALE:GREGORIAN
METHOD:PUBLISH
X-WR-CALNAME:HerriKultura
X-ORIGINAL-URL:https://herrikultura.eus
X-WR-CALDESC:Eventos para HerriKultura
REFRESH-INTERVAL;VALUE=DURATION:PT1H
X-Robots-Tag:noindex
X-PUBLISHED-TTL:PT1H
BEGIN:VTIMEZONE
TZID:Europe/Madrid
BEGIN:DAYLIGHT
TZOFFSETFROM:+0100
TZOFFSETTO:+0200
TZNAME:CEST
DTSTART:20260329T010000
END:DAYLIGHT
BEGIN:STANDARD
TZOFFSETFROM:+0200
TZOFFSETTO:+0100
TZNAME:CET
DTSTART:20261025T010000
END:STANDARD
END:VTIMEZONE
BEGIN:VEVENT
DTSTART;VALUE=DATE:20261020
DTEND;VALUE=DATE:20261021
DTSTAMP:20260425T024827
CREATED:20260327T230238Z
LAST-MODIFIED:20260327T230238Z
UID:195248-1792454400-1792540799@herrikultura.eus
SUMMARY:Ballet de Kiev: "El lago de los cisnes"
DESCRIPTION:2022ko Kieveko Baletaren bira tinta gorriz markatu zen oroimenean\, eta tinta horrek\, trazu lodiz\, ordutik bizi den egoera deskribatzen du. 2022ko lehen bira horretatik\, Viktor Ishchuken Kieveko Balleta arrakasta handiz ari da Estatuko antzoki eta auditorio nagusiak zeharkatzen. 2026an eszenatoki ospetsuenetan ibiliko dira berriro. Kieveko Balleteko dantzariek\, Ishchuken zuzendaritzapean\, Beltxargen Lakuaren bertsio zirraragarri\, zirraragarri eta sinestezina eskaintzen digute. \n\nKieveko Balletak bere helburu nagusien artean mantentzen du ballet klasiko garbienaren tradizioak eta esentzia zaintzea. Antzezpen bakoitza zentzumenentzako festa bat da\, koreografien soiltasunagatik\, lerro guzti-guztien perfekzioagatik\, bakarlarien birtuosismoagatik eta dekoratuen eta jantzien ikusgarritasun eta handitasunagatik\, guztiak ere Kieveko tailerretako maisu onenek diseinatuak.\n 
URL:https://herrikultura.eus/event/ballet-de-kiev-el-lago-de-los-cisnes/
LOCATION:Gayarre Antzokia – (Plaza)\, Carlos III. etorbidea\, 1\, Pamplona/Iruña\, Navarra\, 201\, España
CATEGORIES:Dantza
ATTACH;FMTTYPE=image/jpeg:https://herrikultura.eus/wp-content/uploads/2026/03/54-1.jpg
END:VEVENT
END:VCALENDAR