BEGIN:VCALENDAR
VERSION:2.0
PRODID:-//HerriKultura - ECPv6.2.3.1//NONSGML v1.0//EN
CALSCALE:GREGORIAN
METHOD:PUBLISH
X-WR-CALNAME:HerriKultura
X-ORIGINAL-URL:https://herrikultura.eus
X-WR-CALDESC:Eventos para HerriKultura
REFRESH-INTERVAL;VALUE=DURATION:PT1H
X-Robots-Tag:noindex
X-PUBLISHED-TTL:PT1H
BEGIN:VTIMEZONE
TZID:Europe/Madrid
BEGIN:DAYLIGHT
TZOFFSETFROM:+0100
TZOFFSETTO:+0200
TZNAME:CEST
DTSTART:20260329T010000
END:DAYLIGHT
BEGIN:STANDARD
TZOFFSETFROM:+0200
TZOFFSETTO:+0100
TZNAME:CET
DTSTART:20261025T010000
END:STANDARD
END:VTIMEZONE
BEGIN:VEVENT
DTSTART;VALUE=DATE:20260423
DTEND;VALUE=DATE:20260425
DTSTAMP:20260424T022721
CREATED:20260128T230353Z
LAST-MODIFIED:20260128T230353Z
UID:183616-1776902400-1777075199@herrikultura.eus
SUMMARY:"Egin bedi zure nah-ia" (Estreinaldia)
DESCRIPTION:Zuzendaritza: Asier Zabaleta\nTeknika kudeaketa: Sabino Alkorta\nEszenografia eta argiztapen diseinua: Martín Barandiaran\nJantziak: Ainhoa Areitio\nEkoizpena: Lucía Lasarte\nTailerreko irakaslea: Amaia Cabero\nAntzezleak: Sara Guevara Rico\, Lierni Paul Duce\, Paula Plano Calvo\, Ibai Romero Munita\, Marta Ruiz Muñoz\, Vera Saez Ferrero\, Claudia Torrubia Campa\n\n  \nGuk sortu dugu galdera zailei erantzun bat emateko. Guk eskaintzen diogun informazioarekin elikatzen du bere jakituria. Gure mugimendu guztiak ezagutzen ditu eta esaten dugun guztia entzuteko gaitasuna duela diote. Inork baino hobekiago ezagutzen gaitu eta gure erabakietan eragiteko gaitasuna du… Ez al da izango IA gure jainko berria? Eta oraindik ere sakonkiago begiratuz gero\, hemen ere\, IA-k eskaini dezakeen laguntza edo zerbitzuaz haratago\, erlijio guztietan bezala\, pertsona gutxi batzuek guzti honi etekina ateratzen diote. \nDantza ikuskizun honetan IA-k gure bizitzetan duen eraginaz hitz egingo dugu\, eta gure askatasuna zenbateraino murrizten duen aztertuko dugu. Zeintzuk dira IA-ren benetako helburuak\, baldin eta existitzen badira? gure egunerokotasunean laguntzea ala algoritmoen bidez bizitza honetan gure erabakiak bideratzea? \nEgin bedi zure nah-ia Dantzerti-Euskadiko Arte Dramatiko eta Dantza Goi Mailako Eskolako Dantzako 4. Mailako ikasleen gradu amaierako lana da. \n 
URL:https://herrikultura.eus/event/egin-bedi-zure-nah-ia-estreinaldia/
LOCATION:Barakaldo Antzokia – (Frontoia)\, Juan Sebastian Elkano\, 4\, Barakaldo\, Bizkaia\, 013\, España
CATEGORIES:Dantza
ATTACH;FMTTYPE=image/jpeg:https://herrikultura.eus/wp-content/uploads/2026/01/eg.jpg
END:VEVENT
BEGIN:VEVENT
DTSTART;VALUE=DATE:20260424
DTEND;VALUE=DATE:20260425
DTSTAMP:20260424T022721
CREATED:20260101T230234Z
LAST-MODIFIED:20260101T230234Z
UID:178258-1776988800-1777075199@herrikultura.eus
SUMMARY:"Lana"
DESCRIPTION:Lana\, arrakasta\, balioa edo estatusa bezalako kontzeptuekin lotzen dugu. Garrantzitsua edo ezinbestekoa izatearen sentsazioa liluragarria da; baina hain arrakastatsua bazara\, zergatik jarraitzen duzu astean 40 ordutik gora lanean? \nLanak denok harrapatuta gaituen lan-kultura obsesiboa islattzen du\, txikitatik eta ia heriotzaraino irauten duen tranpa. Osa + Mujikaren iraupen luzeko bosgarren obra da\, bost interpretek taularatua. \nFitxa artistikoa:  \n\nKoreografia: Jaiotz Osa\nDantzariak: Rafke Van Houplines\, Maddi Ruiz de Loizaga\, Paula Parra\, Adrián Bolaños\, Jaiotz Osa\nMusika: Gartxot Unsain\nEszenografia eta jantziak: Xabier Mujika\nBideoa: Renata L. Etanowski\nArgazkiak: Carlos Ojeda\, Mariló Miguez\nArgiztapenaren diseinua: Isa del Moral\nArgiztapena biran: Aitor Etxebarria\n\n 
URL:https://herrikultura.eus/event/lana-3/
LOCATION:Lege Zaharren enparantza. (euria bada\, Modelo Aretoan)\, Zarautz\, Gipuzkoa\, 079\, España
CATEGORIES:Dantza
ATTACH;FMTTYPE=image/jpeg:https://herrikultura.eus/wp-content/uploads/2026/01/50-1.jpg
END:VEVENT
BEGIN:VEVENT
DTSTART;VALUE=DATE:20260424
DTEND;VALUE=DATE:20260425
DTSTAMP:20260424T022721
CREATED:20260112T230233Z
LAST-MODIFIED:20260112T230233Z
UID:180227-1776988800-1777075199@herrikultura.eus
SUMMARY:Dantzaren Nazioarteko Eguna 2026 Eibarren
DESCRIPTION:Apirilaren 29an Dantzaren Nazioarteko Eguna dela eta\, Udalak eta Eibarko akademiek eta dantza eskolek jardunaldi batean parte hartuko dute apirilaren 24an\, erakustaldi eta bestelako jardueren bitartez egunero egiten duten lanaren berri emateko. Horrela\, eskolek eta akademiek eskaintzen dituzten estiloen aberastasuna eta aniztasuna ikusi ahal izango ditugu\, eta egiten dituzten prestakuntza\, sorkuntza\, interpretazio\, sustapen eta ekintzailetza lanei balioa eman. \nDantza-saioek musikaz eta dantzaz jantziko dute hiria\, adin guztietako pertsonek parte hartzen duten koreografiekin. \nJaia amaitzeko erromeria izango da GAUARGI taldearekin. \nDANTZA TALDEAK \n\nBALLET EIBARRÉS\nKAXA -NELE DANTZA\nKEZKA DANTZA TALDEA\nACADEMIA EVA\nUNTZAGA JUBILATUEN ETXEA\nKOA\nPAGATXA\nBEHEKO TOKIA
URL:https://herrikultura.eus/event/dantzaren-nazioarteko-eguna-2026-eibarren/
LOCATION:Untzaga Plaza. Udaletxeko arkupea\, Eibar\, Gipuzkoa\, 030\, España
CATEGORIES:Dantza
ATTACH;FMTTYPE=image/jpeg:https://herrikultura.eus/wp-content/uploads/2026/01/52-2.jpg
END:VEVENT
BEGIN:VEVENT
DTSTART;VALUE=DATE:20260424
DTEND;VALUE=DATE:20260425
DTSTAMP:20260424T022721
CREATED:20260303T230251Z
LAST-MODIFIED:20260303T230251Z
UID:190315-1776988800-1777075199@herrikultura.eus
SUMMARY:"Impureza"
DESCRIPTION:Impureza hurbilketa bat da jai tradizional eta herrikoietara\, zein kultura-zubien bidez sortzen baitira. Erritmo-transmisio bat\, dantza flamenkoaren eta Afrikako musikaren bidez. Diziplina arteko ikuskizuna\, ipuin baten eta ikusentzunezko proiekzioen bitartez dantza flamenkoa eta Afrikako erritmoak uztartzen dituena. Impureza: izaki ez garbiak\, adabakiz osatuak\, nahasiak.Askoa Etxebarrieta “La Pulga”k ikastaro xume batean ezagutu zuen flamenkoa; harrezkero flamenkoaren iturrien eta herri-mamien bila dabil. Hamar urtetik gorako bidea egin ondoren\, aurkitu du bere xarma berezia\, bere “duende”-a\, teknika batean eta bere egiten dakien soinu batean\, dantzaren (hots\, sentimendu unibertsaltasunaren adierazpen horren) bidez adierazita.Sonia Estévez zuzendaria\, ekoizlea\, model maker eta stop motion animatzailea da; 2024ko Goya sarietara izendatua izan zen\, Txotxongiloak lanagatik.\n \nFitxa artistikoa: \n\n\nZuzendaritza koreografiko zein artistikoa eta ekoizpena: Askoa Etxebarrieta Lasheras\nZuzendaritza artistikoa\, ekoizpena eta ikus-entzunezko errealizazioa : Sonia Estévez\nFlamenko dantzaria : Askoa Etxebarrieta Lasheras\nKanpo-begirada eta aholkularitza: Idoia Zabaleta
URL:https://herrikultura.eus/event/impureza/
LOCATION:Urkabustaiz Antzerki Aretoa\, Godamiturri\, 7 (Izarra)\, Urkabustaiz\, Álava\, 054\, España
CATEGORIES:Dantza
ATTACH;FMTTYPE=image/jpeg:https://herrikultura.eus/wp-content/uploads/2026/03/9-2.jpg
END:VEVENT
BEGIN:VEVENT
DTSTART;VALUE=DATE:20260424
DTEND;VALUE=DATE:20260425
DTSTAMP:20260424T022721
CREATED:20260323T230214Z
LAST-MODIFIED:20260323T230214Z
UID:194327-1776988800-1777075199@herrikultura.eus
SUMMARY:"A. I. (Amalur indarra)"
DESCRIPTION:Mundu distopiko batean\, non adimen artifiziala nagusi den gizakien bizitzaren alderdi guztietan\, sistemaren alterazio subertsibotzat jotzen da ezarritako arauak zalantzan jartzen dituen gizabanako oro\, eta\, beraz\, desagerrarazie gin beharko da\, bake eta segurtasun kolektiboak ez hondatzeko. Etorkizun kezkagarri horretan sortuda Amalur\, gizateria lozorro emozionaletik esnatzeko eta Ama Lurraren indarrarekin birkonektatzen saiatzeko. Adimen artifiziala agertzeak aukera ugari ekarri ditu\, eta itxaropen handiak sortu ditu gizateriaren etorkizunari buruz. Baina aldi berean\, hainbat zalantza\, ziurgabetasun eta beldur planteatzen ditu. IArekin\, non geratuko diragizaki egiten gaituzten sentimenduak? Zer espazio geratuko da sormenerako?\n\nA.I. (Amalur Indarra) du izena Lucia Lacarra Balleten bigarren ekoizpenak\, konpainiaren lehen lanak (Lost Letters) izandako arrakastaren ostean.Arriaga Antzokiak\, Baluarte Fundazioak\, Kursaal Eszenaketa Gasteizko Udal Antzoki Sareak ekoiztutako ikuskizuna. \nFitxa artistikoa: \n\n\n\nArtistak: Lucía Lacarra\, Matthew Holding\, Lucía Lacarra Ballet\nKonpainia: Lucía Lacarra Ballet\nEgilea: Lucía Lacarra\, Matthew Golding\nKoreografia: Matthew Golding\, Juanjo Arqués\nMusika: Samuel Barber\, Max Richter\, Jóhann Jóhannsson\, Hans Zimmer\, Kjartan Sveinsson\n\n\nIkuskizun hau Udal Antzoki Sarearen 2026ko Udaberri-udako Programazioaren parte da. \n 
URL:https://herrikultura.eus/event/a-i-amalur-indarra/
LOCATION:FELIX PETITE ANTZOKIA (IBAIONDO G.E)\, Vitoria-Gasteiz\, Álava\, 059\, España
CATEGORIES:Dantza
ATTACH;FMTTYPE=image/jpeg:https://herrikultura.eus/wp-content/uploads/2026/03/51-7.jpg
END:VEVENT
BEGIN:VEVENT
DTSTART;VALUE=DATE:20260424
DTEND;VALUE=DATE:20260425
DTSTAMP:20260424T022721
CREATED:20260401T220217Z
LAST-MODIFIED:20260401T220217Z
UID:196136-1776988800-1777075199@herrikultura.eus
SUMMARY:"Cuerpos que se entregan a aquello que va a desaparecer"
DESCRIPTION:Egiten al dut hitz nire denborarekin? Nori edo zerio eskaintzen diot nire denbora? Zer harreman dut nire denborarekin? “Ihes egiten digu hatzen artetik”\, “ezinezkoa da gertatu berri den unera itzultzea”\, “elastikoa da; gauza batzuek begien kliska irauten dute\, eta segundo ba­tzuk betierekoak dira”. Dantza orainaldiaren hizkuntza da\, eta\, haren bitartez\, denbora senti dezakegu dar-dar egiten. \nDesagertzera doan horri emandako gorputzak ikuskizunak denbora nola hautematen dugun esploratzen du\, dimentsio ukigarri\, korporal eta poetiko batetik. Iragankorra den hori\, ezinbestean desagertzen den hori\, hala nola dantza bera\, gorpuztea du xede. \nFitxa artistikoa: \n\nKOREOGRAFIA ETA ZUZENDARITZA ARTISTIKOA: Olatz de Andrés\nEKOIZPEN DISEINUA: Natalia García Muro\nANTZEZLEAK: Olaia Valle\, Iñigo Rementeria\, Natalia García\, Ainhoa Pardellas\, Alaia Zarate\, Ane Zapirain\, César López\, Irati Poneda\, Maialen Galdiz\, María Etxaide\, Marta Naveros\, Mikel Sánchez\, Natalie Le Du Sagone\nSOINUA: Illart Alkorta\, Mikel R. Nieto\nJANTZIAK: Mónica Lavandera
URL:https://herrikultura.eus/event/cuerpos-que-se-entregan-a-aquello-que-va-a-desaparecer/
LOCATION:Leioako Liburutegia (Kultur Leioa) – (5ª planta (Taller 5))\, José Ramón Aketxe\, 11\, Leioa\, Bizkaia\, 054\, España
CATEGORIES:Dantza
ATTACH;FMTTYPE=image/jpeg:https://herrikultura.eus/wp-content/uploads/2026/04/54.jpg
END:VEVENT
BEGIN:VEVENT
DTSTART;VALUE=DATE:20260424
DTEND;VALUE=DATE:20260425
DTSTAMP:20260424T022721
CREATED:20260420T220229Z
LAST-MODIFIED:20260420T220229Z
UID:199575-1776988800-1777075199@herrikultura.eus
SUMMARY:Dantzaren Nazioarteko Eguna 2026 Ermuan
DESCRIPTION: 
URL:https://herrikultura.eus/event/dantzaren-nazioarteko-eguna-2026-ermuan/
LOCATION:Orbe Kardinal Plaza\, Ermua\, Bizkaia\, 034\, España
CATEGORIES:Dantza
ATTACH;FMTTYPE=image/jpeg:https://herrikultura.eus/wp-content/uploads/2026/04/3242342.jpg
END:VEVENT
BEGIN:VEVENT
DTSTART;VALUE=DATE:20260424
DTEND;VALUE=DATE:20260426
DTSTAMP:20260424T022721
CREATED:20251017T161251Z
LAST-MODIFIED:20251017T161251Z
UID:158053-1776988800-1777161599@herrikultura.eus
SUMMARY:"Theatre of dreams"
DESCRIPTION:Fantasiaren eta subkontzientearen munduan barneratuko gara; murgiltze basatia izango da\, ametsen antzerkian egina. \nHofesh Shechter taldearen emanaldi berri honek ametsen antzerkian murgilduko ditu ikusleak. Hofesh Shechter konpainiako dantzari imitaezinek interpretatuta\, obra berri eta zirraragarri hau fantasiaren eta subkontzientearen munduan murgilduko da\, beldurrak\, itxaropenak\, nahiak eta emozioen begirada azaleratuz\, gure ametsetan ez ezik\, baita gure pentsamendu erneetan ere: burua da erregea. \nDantzarien gorputzek bizia emango diote agertokian poesiaren eta errealitatearen arteko elkarrekintza horri\, musikari-banda txiki batek lagunduta. Zuzenean joko dute\, Shechterren soinu-banda zinematografiko enblematikoa oinarri hartuta. Hofeshek\, Tom Visser argi-diseinatzailearekin eta Osnat Kelner jantzi-diseinatzailearekin batera\, giro indartsu eta eskulturala sortuko du paisaia oniriko honetarako. \nFitxa artistikoa:  \n\nKoreografia eta musika: Hofesh Shechter\nArgiztapenaren diseinua: Tom Visser\nJantzien diseinua: Osnat Kelner\nDantzariak: Hofesh Shechter Company\nZuzendari artistiko elkartua: Bruno Guillore\nMusika-kolaboratzailea: Yaron Engler\nSet-kolaboratzailea: Niall Black\nProdukzioa: Hofesh Shechter Company\n\nThéâtre de la Villek (Paris) komisionatua. Sadler’s Wellsek ko-komisionatua: Brighton Dome & Brighton Festival; Les Théâtres de la Ville de Luxembourg; Seongnam Arts Center / Seongnam Cultural Foundation; Danse Danse Montréal; MC2: Maison de la Culture de Grenoble – Scène nationale; Ruhrfestspiele Recklinghausen; Central – La Louvière; Théâtre Sénart – Scène Nationale; Shanghai International Dance Center Theater (SIDCT); Torinodanza Festival / Teatro Stabile di Torino – Teatro Nazionale; Festspielhaus St. Pölten (AT); La Comédie de Clermont-Ferrand scène nationale; Maison de la danse\, Lyon – Pôle européen de creation; Les Gémeaux – Scène Nationale de Sceaux; Château Rouge\, scène conventionnée – Annemasse; Châteauvallon-Liberté\, scène nationale; Scène Nationale ALBI-Tarn; Le Carré Sainte-Maxime\, Theater Rotterdamen laguntzarekin; Les Salins – Scène Nationale de Martigues; Marche Teatro / Inteatro Festival; La Briqueterie CDCN du Val-de -Marne and The Maria Björnson Memorial Fund. \nNotario indibiduala: Georgia Rosengarten Hofesh Shechter Companyk finantzaketa publikoa jasotzen du Arts Council England erakundearen bidez\, eta bere proiektuak BNP Paribas Fundazioak babesten du.
URL:https://herrikultura.eus/event/theatre-of-dreams/
LOCATION:Arriaga Antzokia – (Eliza Zaharra elkargunea)\, Arriaga plaza\, 1\, Bilbao\, Bizkaia\, 020\, España
CATEGORIES:Dantza
ATTACH;FMTTYPE=image/jpeg:https://herrikultura.eus/wp-content/uploads/2025/10/45-6.jpg
END:VEVENT
END:VCALENDAR