BEGIN:VCALENDAR
VERSION:2.0
PRODID:-//HerriKultura - ECPv6.2.3.1//NONSGML v1.0//EN
CALSCALE:GREGORIAN
METHOD:PUBLISH
X-WR-CALNAME:HerriKultura
X-ORIGINAL-URL:https://herrikultura.eus
X-WR-CALDESC:Eventos para HerriKultura
REFRESH-INTERVAL;VALUE=DURATION:PT1H
X-Robots-Tag:noindex
X-PUBLISHED-TTL:PT1H
BEGIN:VTIMEZONE
TZID:Europe/Madrid
BEGIN:DAYLIGHT
TZOFFSETFROM:+0100
TZOFFSETTO:+0200
TZNAME:CEST
DTSTART:20260329T010000
END:DAYLIGHT
BEGIN:STANDARD
TZOFFSETFROM:+0200
TZOFFSETTO:+0100
TZNAME:CET
DTSTART:20261025T010000
END:STANDARD
END:VTIMEZONE
BEGIN:VEVENT
DTSTART;VALUE=DATE:20261129
DTEND;VALUE=DATE:20261130
DTSTAMP:20260424T080757
CREATED:20260215T230344Z
LAST-MODIFIED:20260215T230344Z
UID:187167-1795910400-1795996799@herrikultura.eus
SUMMARY:danZálava 2026: Topaketa X. Urteurrena
DESCRIPTION:Sarrera librea lekua bete arte.
URL:https://herrikultura.eus/event/danzalava-2026-topaketa-x-urteurrena/
LOCATION:Letren Fakultatea (UPV/EHU)\, Montehermoso Kulturunea\, UNED Gasteiz\, Artium Museoa\, Jimmy Jazz Aretoa\, Florida Zinemak\, Bakh\, Euneiz eta Buesa Arena.\, Vitoria-Gasteiz\, Álava\, 059\, España
CATEGORIES:Hitzaldia
ATTACH;FMTTYPE=image/jpeg:https://herrikultura.eus/wp-content/uploads/2026/02/32-1.jpg
END:VEVENT
END:VCALENDAR