BEGIN:VCALENDAR
VERSION:2.0
PRODID:-//HerriKultura - ECPv6.2.3.1//NONSGML v1.0//EN
CALSCALE:GREGORIAN
METHOD:PUBLISH
X-WR-CALNAME:HerriKultura
X-ORIGINAL-URL:https://herrikultura.eus
X-WR-CALDESC:Eventos para HerriKultura
REFRESH-INTERVAL;VALUE=DURATION:PT1H
X-Robots-Tag:noindex
X-PUBLISHED-TTL:PT1H
BEGIN:VTIMEZONE
TZID:Europe/Madrid
BEGIN:DAYLIGHT
TZOFFSETFROM:+0100
TZOFFSETTO:+0200
TZNAME:CEST
DTSTART:20250330T010000
END:DAYLIGHT
BEGIN:STANDARD
TZOFFSETFROM:+0200
TZOFFSETTO:+0100
TZNAME:CET
DTSTART:20251026T010000
END:STANDARD
BEGIN:DAYLIGHT
TZOFFSETFROM:+0100
TZOFFSETTO:+0200
TZNAME:CEST
DTSTART:20260329T010000
END:DAYLIGHT
BEGIN:STANDARD
TZOFFSETFROM:+0200
TZOFFSETTO:+0100
TZNAME:CET
DTSTART:20261025T010000
END:STANDARD
END:VTIMEZONE
BEGIN:VEVENT
DTSTART;VALUE=DATE:20251021
DTEND;VALUE=DATE:20260520
DTSTAMP:20260424T034830
CREATED:20251021T100634Z
LAST-MODIFIED:20251021T100634Z
UID:163144-1761004800-1779235199@herrikultura.eus
SUMMARY:Liburu Baby Kluba: Aldakonea
DESCRIPTION:Liburu Baby Kluba jarduera ludiko eta didaktikoa da. Bere helburu nagusia\, haurtzaro goiztiarrean eta familiengan literatura\, musika\, artea eta naturarekiko interesa bultzatzea da. Jarduera kulturaniztuna da\, euskal kultura eta munduko kultura ezberdinak sustatzen dituena.  \nEkintza hau 0-3 urte bitarteko haurreri zuzenduta dago\, heldu baten laguntza beharrezkoa da. Euskara\, gaztelania eta ingelesa tartekatuko dira. Mestiza Elkartea izango da ekitaldiaren dinamizatzaile. \nAurreikusten den egutegia hau da: \n\nurriak 21\nazaroak 18\nabenduak 16\nurtarrilak 20\notsailak 17\nmartxoak 17\napirilak 21\nmaiatzak 19\n\n  \nSaio independienteak dira eta aurrez izena eman beharko da ekitaldi bakoitzerako. Jarduerak aforo mugatua du. Plazarik lortzen ez duenak itxaron zerrendan eman dezake izena. Hurrengo saiorako izen emateak\, hilabete bateko ekitaldia bukatu eta ondorengo ostiralean*\, 12:00etatik aurrera irekiko dira\, hemen:  \n\nhttp://sarrerak.errenteria.eus  \nBaita presentzialki Lekuona Fabrikan eta Aldakoneako Liburutegian.\nTelefonoz 943 44 96 35 eta 943 44 96 99 zenbakian edota 647 673 451 zenbakian WhatsApp bitartez.\n\n*SALBUESPENA: Azaroko saioan izena emateko data: urriak 24. Martxoko saioan izena emateko data: otsailak 20. \nLekuona Fabrikako Liburutegiaren eskutik.
URL:https://herrikultura.eus/event/liburu-baby-kluba-aldakonea/
LOCATION:Errenteriako Liburutegia\, Magdalena\, 27-29\, Errenteria\, Gipuzkoa\, 067\, España
CATEGORIES:Hitzaldia
ATTACH;FMTTYPE=image/jpeg:https://herrikultura.eus/wp-content/uploads/2025/10/43-25.jpg
END:VEVENT
BEGIN:VEVENT
DTSTART;VALUE=DATE:20260114
DTEND;VALUE=DATE:20260514
DTSTAMP:20260424T034830
CREATED:20260101T230226Z
LAST-MODIFIED:20260101T230226Z
UID:178224-1768348800-1778716799@herrikultura.eus
SUMMARY:Irakurketa txokoa: "Gurasoak ere ipuin kontalari"
DESCRIPTION:«Gurasoak ere ipuin kontalari» irakurketa txokoa Miriam Mendozaren eskutik. \nDatak\, 17:30ean: \n\nUrtarrilak 14\nOtsailak 11\nMartxoak 11\nApirilak 15\nMaiatzak 13\n\nEdukiera mugatua. \nGonbidapenak haur liburutegian banatuko dira 16:00etatik aurrera
URL:https://herrikultura.eus/event/irakurketa-txokoa-gurasoak-ere-ipuin-kontalari/
LOCATION:Sanz Enea Zarauzko Udal Liburutegia\, Nafarroa\, 22\, Zarautz\, Gipuzkoa\, 079\, España
CATEGORIES:Hitzaldia
ATTACH;FMTTYPE=image/jpeg:https://herrikultura.eus/wp-content/uploads/2026/01/12-1.jpg
END:VEVENT
BEGIN:VEVENT
DTSTART;VALUE=DATE:20260115
DTEND;VALUE=DATE:20260506
DTSTAMP:20260424T034830
CREATED:20260114T230333Z
LAST-MODIFIED:20260114T230333Z
UID:180797-1768435200-1778025599@herrikultura.eus
SUMMARY:Zinemagileen arteko elkarrizketak Zikloa 2026
DESCRIPTION:Gipuzkoako Foru Aldundiaren Kultura Departamentuak 2026ko urtarriletik ekainera bitartean hartuko du Koldo Mitxelena Kulturunean Zinemagileen Elkarrizketak programaren bosgarren edizioa. Zinemako hogei profesional inguru bilduko dira zortzi topaketatan\, Donostiako Zinemaldiaren urte osoko jaialdia den Z365ekin eta Elías Querejeta Zine Eskolarekin elkarlanean antolatutako ekimen honetan. Saioak Parte Zaharreko Santa Teresa komentuan egingo dira\, eta interpretazioa\, ez-fikzioa\, muntaketa\, literatura eta nazioarteko koprodukzioak izango dituzte ardatz. \nPrograma anitza eta kolektiboa \nProgramazioa urtarrilaren 15ean irekiko da\, zinemagile eta argazki-zuzendari Ion de Sosa eta konpositore\, abeslari eta aktore Christina Rosenvinge elkarrizketan arituko direlarik. Biak Balearic filmean aritu dira elkarlanean\, Locarnon eta Sitgesen aurkeztua. \nUrtarrilaren 27an\, Asier Urbieta  (Faisaien irla / Pheasant Island) eta Koldo Almandoz (Zeru ahoak / Mouths of Sky) zuzendariak fikzioan generoaren erabileraz arituko dira Generozko fikzioak saioan. \nOtsailaren 16an\, José Luis Guerin (Historias del buen valle) eta Isaki Lacuesta (Flores para Antonio) ez-fikzioaren formak izango dituzte hizpide. Ekainean\, oraindik zehaztu gabe\, Elena Molina eta Alba Flores arituko dira Autobiografía y no ficción gaiaz hausnartzen. \nZikloak Alauda Ruiz de Azúa zuzendaria eta Blanca Soroa aktorea ere izango ditu protagonista\, Los domingos filmeko esperientziatik abiatuta Zinema eta interpretazioa aztertzeko\, martxoaren 5ean. \nMartxoaren 16an\, Carla Simón zinemagileak\, María Zamora ekoizleak eta Olimpia Pont Cháfer nazioarteko koprodukzioei buruzko esperientzia partekatuko dute Romería filmaren harira\, Canneseko Sail Ofizialean lehiatu zena. Saio hau 18:00etan hasiko da; gainerakoak\, berriz\, 19:00etan. \nApirilaren 14an\, Jaume Clareten lehen film luzea den Estrany Riu / Strange River muntaketa izango da ardatza\, María Castán eta Meritxell Colell muntatzaileekin batera. \nAzkenik\, maiatzaren 5ean\, Manuel Gutiérrez Aragónek eta Luis López Carrascok zinema eta literaturaren arteko loturak aztertuko dituzte. Biak Herralde Saria jaso dute\, hurrenez hurren\, La vida antes de marzo eta El desierto blanco eleberriengatik. \nEkimenaren presentzialtasuna eta topaleku izateko jomuga errazteko\, saioak ez dira streaming bidez emango\, baina grabazioak Koldo Mitxelenaren eta Donostia Zinemaldiaren webguneetan egongo dira ikusgai denboraldiaren amaieran. 
URL:https://herrikultura.eus/event/zinemagileen-arteko-elkarrizketak-zikloa-2026/
LOCATION:KMK ekitaldi aretoa (Santa Teresa komentua)\, Elbira Zipitria\, 1\, Donostia / San Sebastián\, Gipuzkoa\, 069\, España
CATEGORIES:Hitzaldia
ATTACH;FMTTYPE=image/jpeg:https://herrikultura.eus/wp-content/uploads/2026/01/18-7.jpg
END:VEVENT
BEGIN:VEVENT
DTSTART;VALUE=DATE:20260303
DTEND;VALUE=DATE:20260506
DTSTAMP:20260424T034830
CREATED:20260202T230304Z
LAST-MODIFIED:20260202T230304Z
UID:184530-1772496000-1778025599@herrikultura.eus
SUMMARY:"Viñetas" komikien irakurketa kluba
DESCRIPTION:«Viñetas» komikien irakurketa kluba \n\nOtsailak 3: «El cielo en la cabeza»\n\n\nMartxoak 3: «La tierra yerma»\n\n\nApirilak 14: «La feria de los inmortales»\n\n\nMaiatzak 5: «Fahrenheit 451»
URL:https://herrikultura.eus/event/vinetas-komikien-irakurketa-kluba/
LOCATION:Ermuko Liburutegia\, Goienkale\, z/g\, Ermua\, Bizkaia\, 034\, España
CATEGORIES:Hitzaldia
ATTACH;FMTTYPE=image/jpeg:https://herrikultura.eus/wp-content/uploads/2026/02/73.jpg
END:VEVENT
END:VCALENDAR