BEGIN:VCALENDAR
VERSION:2.0
PRODID:-//HerriKultura - ECPv6.2.3.1//NONSGML v1.0//EN
CALSCALE:GREGORIAN
METHOD:PUBLISH
X-ORIGINAL-URL:https://herrikultura.eus
X-WR-CALDESC:Eventos para HerriKultura
REFRESH-INTERVAL;VALUE=DURATION:PT1H
X-Robots-Tag:noindex
X-PUBLISHED-TTL:PT1H
BEGIN:VTIMEZONE
TZID:Europe/Madrid
BEGIN:DAYLIGHT
TZOFFSETFROM:+0100
TZOFFSETTO:+0200
TZNAME:CEST
DTSTART:20250330T010000
END:DAYLIGHT
BEGIN:STANDARD
TZOFFSETFROM:+0200
TZOFFSETTO:+0100
TZNAME:CET
DTSTART:20251026T010000
END:STANDARD
BEGIN:DAYLIGHT
TZOFFSETFROM:+0100
TZOFFSETTO:+0200
TZNAME:CEST
DTSTART:20260329T010000
END:DAYLIGHT
BEGIN:STANDARD
TZOFFSETFROM:+0200
TZOFFSETTO:+0100
TZNAME:CET
DTSTART:20261025T010000
END:STANDARD
END:VTIMEZONE
BEGIN:VEVENT
DTSTART;VALUE=DATE:20251021
DTEND;VALUE=DATE:20260520
DTSTAMP:20260424T051815
CREATED:20251021T100634Z
LAST-MODIFIED:20251021T100634Z
UID:163144-1761004800-1779235199@herrikultura.eus
SUMMARY:Liburu Baby Kluba: Aldakonea
DESCRIPTION:Liburu Baby Kluba jarduera ludiko eta didaktikoa da. Bere helburu nagusia\, haurtzaro goiztiarrean eta familiengan literatura\, musika\, artea eta naturarekiko interesa bultzatzea da. Jarduera kulturaniztuna da\, euskal kultura eta munduko kultura ezberdinak sustatzen dituena.  \nEkintza hau 0-3 urte bitarteko haurreri zuzenduta dago\, heldu baten laguntza beharrezkoa da. Euskara\, gaztelania eta ingelesa tartekatuko dira. Mestiza Elkartea izango da ekitaldiaren dinamizatzaile. \nAurreikusten den egutegia hau da: \n\nurriak 21\nazaroak 18\nabenduak 16\nurtarrilak 20\notsailak 17\nmartxoak 17\napirilak 21\nmaiatzak 19\n\n  \nSaio independienteak dira eta aurrez izena eman beharko da ekitaldi bakoitzerako. Jarduerak aforo mugatua du. Plazarik lortzen ez duenak itxaron zerrendan eman dezake izena. Hurrengo saiorako izen emateak\, hilabete bateko ekitaldia bukatu eta ondorengo ostiralean*\, 12:00etatik aurrera irekiko dira\, hemen:  \n\nhttp://sarrerak.errenteria.eus  \nBaita presentzialki Lekuona Fabrikan eta Aldakoneako Liburutegian.\nTelefonoz 943 44 96 35 eta 943 44 96 99 zenbakian edota 647 673 451 zenbakian WhatsApp bitartez.\n\n*SALBUESPENA: Azaroko saioan izena emateko data: urriak 24. Martxoko saioan izena emateko data: otsailak 20. \nLekuona Fabrikako Liburutegiaren eskutik.
URL:https://herrikultura.eus/event/liburu-baby-kluba-aldakonea/
LOCATION:Errenteriako Liburutegia\, Magdalena\, 27-29\, Errenteria\, Gipuzkoa\, 067\, España
CATEGORIES:Hitzaldia
ATTACH;FMTTYPE=image/jpeg:https://herrikultura.eus/wp-content/uploads/2025/10/43-25.jpg
END:VEVENT
BEGIN:VEVENT
DTSTART;VALUE=DATE:20260114
DTEND;VALUE=DATE:20260514
DTSTAMP:20260424T051815
CREATED:20260101T230226Z
LAST-MODIFIED:20260101T230226Z
UID:178224-1768348800-1778716799@herrikultura.eus
SUMMARY:Irakurketa txokoa: "Gurasoak ere ipuin kontalari"
DESCRIPTION:«Gurasoak ere ipuin kontalari» irakurketa txokoa Miriam Mendozaren eskutik. \nDatak\, 17:30ean: \n\nUrtarrilak 14\nOtsailak 11\nMartxoak 11\nApirilak 15\nMaiatzak 13\n\nEdukiera mugatua. \nGonbidapenak haur liburutegian banatuko dira 16:00etatik aurrera
URL:https://herrikultura.eus/event/irakurketa-txokoa-gurasoak-ere-ipuin-kontalari/
LOCATION:Sanz Enea Zarauzko Udal Liburutegia\, Nafarroa\, 22\, Zarautz\, Gipuzkoa\, 079\, España
CATEGORIES:Hitzaldia
ATTACH;FMTTYPE=image/jpeg:https://herrikultura.eus/wp-content/uploads/2026/01/12-1.jpg
END:VEVENT
BEGIN:VEVENT
DTSTART;VALUE=DATE:20260409
DTEND;VALUE=DATE:20260515
DTSTAMP:20260424T051815
CREATED:20260101T230231Z
LAST-MODIFIED:20260101T230231Z
UID:178244-1775692800-1778803199@herrikultura.eus
SUMMARY:Tertulias literarias: "El cantar del profeta" (Paul Lynch)
DESCRIPTION:Literatur Solasaldiak (Tertulias Literarias) gaztelaniaz Slawka Grabowskaren gidaritzapean. \nApirilaren 9 eta 30ean eta maiatzaren 14an\, Paul Lynch idazlearen El cantar del profeta liburuari buruzko solasaldiak egingo dira.
URL:https://herrikultura.eus/event/tertulias-literarias-el-cantar-del-profeta-paul-lynch/
LOCATION:Sanz Enea Zarauzko Udal Liburutegia\, Nafarroa\, 22\, Zarautz\, Gipuzkoa\, 079\, España
CATEGORIES:Hitzaldia
ATTACH;FMTTYPE=image/jpeg:https://herrikultura.eus/wp-content/uploads/2026/01/20-2.jpg
END:VEVENT
BEGIN:VEVENT
DTSTART;VALUE=DATE:20260414
DTEND;VALUE=DATE:20260527
DTSTAMP:20260424T051815
CREATED:20260401T220203Z
LAST-MODIFIED:20260401T220203Z
UID:196090-1776124800-1779839999@herrikultura.eus
SUMMARY:Charlas Musicales de Primavera 2026 en Durango
DESCRIPTION:Musika Eskolak musika zabaltzeko ohiko programazioarekin jarraitzen du Musika Hitzaldien XXIX. Zikloarekin. Hurrengo gaia Udaberriarekin lotuta egongo da. Urtero bezala Kurutzesantun izango dira asteartero 19:00etan.  \nBertaratzeko aldez aurretik izena eman behar da Musika Eskola.
URL:https://herrikultura.eus/event/charlas-musicales-de-primavera-2026-en-durango/
LOCATION:Kurutzesantu Museoa\, Kurutziaga\, 38\, Durango\, Bizkaia\, 027\, España
CATEGORIES:Hitzaldia
ATTACH;FMTTYPE=image/jpeg:https://herrikultura.eus/wp-content/uploads/2026/04/30.jpg
END:VEVENT
BEGIN:VEVENT
DTSTART;VALUE=DATE:20260505
DTEND;VALUE=DATE:20260507
DTSTAMP:20260424T051815
CREATED:20251020T071057Z
LAST-MODIFIED:20251020T071057Z
UID:161970-1777939200-1778111999@herrikultura.eus
SUMMARY:"Cita con el libro" literatur tailerra: "La vegetariana"
DESCRIPTION:Gaztelaniaz. Bi talde\, astearte eta asteazkenetan\, hilean tailer bat 16:15-17:45 ordutegian. Koordinatzailea: Yurre Ugarte. \n\nPrograma 2025 / 26\n\n\n2025 \n\nUrriak 7 eta 8: Un detalle menor / Adania Shibli\nAzaroak 4 eta 5: Nosotros no ahorcamos a nadie / Unai Elorriaga\nAbenduak 2 eta 3: Maddi y las fronteras / Edurne Portela\n\n2026 \n\nUrtarrilak 13 eta 14: De qué hablamos cuando hablamos de amor / Raymon Carver\nOtsailak 3 eta 4: Paradais / Fernanda Melchor\nMartxoak 3 eta 4: Las pequeñas virtudes / Natalia Ginzburg\nApirilak 7 eta 8: La metamorfosis / Franz Kafka\nMaiatzak 5 eta 6: La vegetariana / Han Kang\nEkainak 2 eta 3: Biografía para encontrarme / Mario Benedetti
URL:https://herrikultura.eus/event/cita-con-el-libro-literatur-tailerra-la-vegetariana/
LOCATION:Hondarribiko Liburutegia (Zuloaga Etxea) – (Maeztuko Ludoteka)\, Zuloaga Etxea. Kale Nagusia\, 8\, Hondarribia\, Gipuzkoa\, 036\, España
CATEGORIES:Hitzaldia
ATTACH;FMTTYPE=image/jpeg:https://herrikultura.eus/wp-content/uploads/2025/10/21-17.jpg
END:VEVENT
BEGIN:VEVENT
DTSTART;VALUE=DATE:20260505
DTEND;VALUE=DATE:20260527
DTSTAMP:20260424T051815
CREATED:20260408T220349Z
LAST-MODIFIED:20260408T220349Z
UID:197508-1777939200-1779839999@herrikultura.eus
SUMMARY:Hitzaldi-zikloa "Udaberri beltza" 2026
DESCRIPTION:Egitaraua: \n\nMaiatzaren 5a 18:30etan. El género negro llevado al cine: de Estados Unidos a Euskadi. María Eugenia Salaverri.\nMaiatzaren 12a\, 18:30etan. Heriotza eta hilketa eleberri beltzan. Haizea López.\nMaiatzaren 19a\, 18:30etan. Mujeres que matan: la creación de asesinas fuera de estereotipos. Xandra Bilbao.\nMaiatzaren 26a\, 18:30etan. El rural noir. O cómo el entorno geográfico influye en la novela negra. Txemi Parra\n\nHizkuntzak: \nGaztelania/euskara \nTokia: \nBizkaiko Foru Liburutegia. Sotoa (Prentsa Aretoa) \nDatak eta ordutegia: \nMaiatzaren 5etik 26ra\, asteartetan\, 18:30etatik 20:00etara \nAurkezpena: \nAlex Oviedo \nArgibideak: \n\n946082487\nkulturjarduerak@bizkaia.eus\n\nIragarkia bistaratzea. \nOharrak: \n\nSarrera librea da\, jarleku kopurua bete arte (aurretiko erretserbarik gabe). Streaming bidezko zuzeneko emanaldia ondoko esteka honetan: \nwww.bizkaia.eus/kultura/foru_liburutegia/moduluak/streaming.asp?Tem_Codigo=4611&Idioma=EU
URL:https://herrikultura.eus/event/hitzaldi-zikloa-udaberri-beltza-2026/
LOCATION:Sala BBK\, CRAI Liburutegia eta Bizkaiko Foru Liburutegia\, Bilbao\, Bizkaia\, 020\, España
CATEGORIES:Hitzaldia
ATTACH;FMTTYPE=image/jpeg:https://herrikultura.eus/wp-content/uploads/2026/04/31-16.jpg
END:VEVENT
BEGIN:VEVENT
DTSTART;VALUE=DATE:20260506
DTEND;VALUE=DATE:20260507
DTSTAMP:20260424T051815
CREATED:20251211T230240Z
LAST-MODIFIED:20251211T230240Z
UID:174121-1778025600-1778111999@herrikultura.eus
SUMMARY:"MIÉRCOLES DE CLUB" irakurketa-kluba: "Huntington beach"
DESCRIPTION:Dinamizatzailea: MÓNICA QUIJANO VARGAS\n \n\nAsteazkenetako irakurketa klubak bidaia literario bat proposatzen du\, non irakurketa partekatuaren abantailak deskubrituko diren. Liburu sorta baten bidez irakurketa hausnartua eta kontzientea egingo dugu\, sentimenduak\, bizipenak\, errealitateak arakatu eta besteekin partekatzeko aukera emango diguna. Liburu bakoitza tresna bat izango da\, munduaz dugun esperientzia zabalduko duena\, pentsamendu kritikoa eta tolerantzia sustatuko dituena. \nLiburu baten orrialdeen artean ezkutatzen den barietatea ulertu eta gozatzea\, beste batzuek eta besteek idatzitako istorioetan harrapatuta geratzea\, oso urrutitik hitz egiten diguten hitzen artean murgiltzea. \nHilean behin.Asteazkenetan: \n\nURR 1 Bajo la red | Iris Murdoch\n\n\nAZA 5 El antropólogo inocente | Nigel Barley\n\n\nABE 3 La roca de Tanis | Amin Maalouf\n\n\nURT 7 Yeguas exhaustas | Bibiana Collado\n\n\nOTS 4 La única certeza | Donald Ryan\n\n\nMAR 4 Tan poca vida | Hanya Yanagihara\n\n\nAPI 15 Érase un río | Bonnie Jo Campbell\n\n\nMAI 6 Huntington beach | Kem Nunn\n\n\nEKA 3 Taldeak aukeratuako du | Lo elegirá el grupo
URL:https://herrikultura.eus/event/miercoles-de-club-irakurketa-kluba-huntington-beach/
LOCATION:Bizenta Mogel Liburutegia (Durango)\, Komentu\, 8\, Durango\, Bizkaia\, 027\, España
CATEGORIES:Hitzaldia
ATTACH;FMTTYPE=image/jpeg:https://herrikultura.eus/wp-content/uploads/2025/12/343513512-4.jpg
END:VEVENT
BEGIN:VEVENT
DTSTART;VALUE=DATE:20260506
DTEND;VALUE=DATE:20260507
DTSTAMP:20260424T051815
CREATED:20260205T230333Z
LAST-MODIFIED:20260205T230333Z
UID:185158-1778025600-1778111999@herrikultura.eus
SUMMARY:Literatura topaketa: "Idazteaz beste: fikzioa eta historia"
DESCRIPTION:Literatura eta memoria historikoaren arrastoari jarraiki\, iragana orainera ekartzen saiatuko gara. Horretarako\, Katixa Agirreren Barne zerbitzuak eleberria abiapuntutzat hartu eta Cira Crespo historialariaren ikuspuntu eta ekarpenekin aberastuko dugu saioa.\n\n\nIdazteaz beste Mikel Ayerbek zuzendutako euskal literaturari buruzko elkarrizketa-saioetan datza. \nMikel Ayerbe Sudupe Literatura Konparatuan eta Literatur ikasketetan Doktorea eta EHUko irakaslea da\, literatura-kritikaria eta literaturaren inguruko hainbat ekimenen partaidea\, besteak beste. Baina horien guztien aurretik eta ondoren\, irakurlea; irakurle porrokatua. \n\n 
URL:https://herrikultura.eus/event/literatura-topaketa-idazteaz-beste-fikzioa-eta-historia/
LOCATION:Lakua Gizarte Etxeko Liburutegia\, Etxanobetarren Zidorra\, 2\, Vitoria-Gasteiz\, Álava\, 059\, España
CATEGORIES:Hitzaldia
ATTACH;FMTTYPE=image/jpeg:https://herrikultura.eus/wp-content/uploads/2026/02/60-2.jpg
END:VEVENT
BEGIN:VEVENT
DTSTART;VALUE=DATE:20260506
DTEND;VALUE=DATE:20260507
DTSTAMP:20260424T051815
CREATED:20260224T230023Z
LAST-MODIFIED:20260224T230023Z
UID:188859-1778025600-1778111999@herrikultura.eus
SUMMARY:Berrizko Irakurle Kluba: KONTULEKUAK
DESCRIPTION:Plaza mugatuak: 10 familia inguru gehienez. \nUmeak\, beraientzat erreferentea den heldu batekin etorriko dira. Kultur Etxeko Sarrimendi aretoan izango da (3.solairuan). \n\nBerrizko Irakurle Kluba (pdf)
URL:https://herrikultura.eus/event/berrizko-irakurle-kluba-kontulekuak/
LOCATION:Berrizko Udal Liburutegia\, Geltoki\, 3\, Berriz\, Bizkaia\, 019\, España
CATEGORIES:Hitzaldia
ATTACH;FMTTYPE=image/jpeg:https://herrikultura.eus/wp-content/uploads/2026/02/kulturklikagenda-1.jpg
END:VEVENT
BEGIN:VEVENT
DTSTART;VALUE=DATE:20260506
DTEND;VALUE=DATE:20260507
DTSTAMP:20260424T051815
CREATED:20260329T220218Z
LAST-MODIFIED:20260329T220218Z
UID:195590-1778025600-1778111999@herrikultura.eus
SUMMARY:"Diagnostikoa bularreko minbizia denean"
DESCRIPTION:JAKINTZAREN KAPSULAK 2026: Erresistentzian dauden gorputzak: osasuna\, indarkeria eta emakumeen eskubideak. \n1 Kapsula: Diagnostikoa bularreko minbizia denean \n1. Bularreko minbizia zer den\, nola garatzen den\, arrisku-faktoreak zein diren eta nola detektatu eta tratatu daitekeen jakiteko informazio argia eta zehatza ematea.2. Emakumeak azterketa erregularrak egitera motibatzea\, hala nola mamografiara\, eta bularretan aldaketaren bat antzemanez gero\, arreta medikoa bilatzera.3. Bularreko minbiziari buruzko ohiko galderei erantzutea eta uste okerrak gezurtatzea.
URL:https://herrikultura.eus/event/diagnostikoa-bularreko-minbizia-denean/
LOCATION:Clara Campoamor Kultura Etxea\, Gernikako Arbola\, 41\, Barakaldo\, Bizkaia\, 013\, España
CATEGORIES:Hitzaldia
ATTACH;FMTTYPE=image/png:https://herrikultura.eus/wp-content/uploads/2026/03/CAUNDOELDIAGNoSTICOESCaNCERDEMAMA.png
END:VEVENT
BEGIN:VEVENT
DTSTART;VALUE=DATE:20260506
DTEND;VALUE=DATE:20260507
DTSTAMP:20260424T051815
CREATED:20260330T220208Z
LAST-MODIFIED:20260330T220208Z
UID:195764-1778025600-1778111999@herrikultura.eus
SUMMARY:"El desafío de la Orquesta Mondragón"
DESCRIPTION:Javier Gurruchaga\, Cheli Lanzagorta eta Gregorio Gálvezen arteko mahai-ingurua\, Ricardo Aldarondo kazetariak gidatuko duena: Desafío de la Orquesta Mondragón en la Donostia de los años 70. Ekitaldia Oharra: artistak ez du bisitarik nahi erakusketarekin dago lotuta. \nOrquesta Mondragónen jaiotzaren 50. urteurrena betetzean\, bandaren hastapen haiek gogora ekarriko dira\, frankismotik irteten hasia zen Donostian adin nagusitasuna ozta-ozta bete zuten hainbat gazterekin. Ayestaran anaien etxebizitza babesgune eta Donostiako underground-aren kuartel nagusi gisa\, Javier Gurruchaga\, Popotxo eta hamar bat musikari eta performerrek Gregorio Galvezen Herri Irratiko saioan eta ikastetxe erlijiosoetako ekitaldi-aretoetan egindako lehen agerraldiek desafiatu egin zituzten artearen eta dekorazioaren arau guztiak. \nIkonoklastak\, surrealistak\, zirikatzaileak\, rock & rolla eta swinga\, irrati-parodiak eta erreferentzia zinematografikoak nahastu zituzten\, eta hastapenetatik Orquesta Mondragónen nortasun paregabea El pollo de Carlitos eta El chorizo de Johnny Zimbel ikuskizunekin definitu zuten. \nEkitaldian soinu eta ikusizko dokumentu argitaragabe batzuk berreskuratuko dira\, bost hamarkadatan zehar Espainian izan den musika herrikoiaren eta eszenaren talde enblematikoenetako baten industria diskografikora jauzi egin aurretik. \nOharra:  \n\nGonbidapenak egunean bertan banatuko dira\, 18:00etatik aurrera Okendo Kultur Etxean.
URL:https://herrikultura.eus/event/el-desafio-de-la-orquesta-mondragon/
LOCATION:Aiete Kultur Etxea + Okendo Kultur Etxea\, Donostia / San Sebastián\, Gipuzkoa\, 069\, España
CATEGORIES:Hitzaldia
ATTACH;FMTTYPE=image/jpeg:https://herrikultura.eus/wp-content/uploads/2026/03/49-1.jpg
END:VEVENT
BEGIN:VEVENT
DTSTART;VALUE=DATE:20260506
DTEND;VALUE=DATE:20260507
DTSTAMP:20260424T051815
CREATED:20260402T220251Z
LAST-MODIFIED:20260402T220251Z
UID:196444-1778025600-1778111999@herrikultura.eus
SUMMARY:Ezagutzak Partekatuz 2026: Marta Selva
DESCRIPTION:2026ko Ezagutzak Partekatuz zikloaren barne. \nHistorialaria eta zineman aditua. Unibertsitateko irakasle eta analista\, Emakumeen Filmen Bartzelonako Nazioarteko Erakusketaren zuzendarikidea eta Drac Màgic kooperatibako kidea izan da. 2003 eta 2010 artean\, Kataluniako Emakumeen Institutuko buru izan zen\, eta funtsezko politikak bultzatu zituen\, hala nola indarkeria matxistaren aurkako legea. Zinemari\, pedagogiari eta komunikabideei buruzko hainbat lan egin ditu.
URL:https://herrikultura.eus/event/ezagutzak-partekatuz-2026-marta-selva/
LOCATION:Arkabia\, Calle Postas\, 13\, Vitoria-Gasteiz\, Álava\, 059\, España
CATEGORIES:Hitzaldia
ATTACH;FMTTYPE=image/jpeg:https://herrikultura.eus/wp-content/uploads/2026/04/35-6.jpg
END:VEVENT
BEGIN:VEVENT
DTSTART;VALUE=DATE:20260506
DTEND;VALUE=DATE:20260507
DTSTAMP:20260424T051815
CREATED:20260420T220249Z
LAST-MODIFIED:20260420T220249Z
UID:199650-1778025600-1778111999@herrikultura.eus
SUMMARY:Literatur solasaldiak: "El sueño chino" (Ma Jian)
DESCRIPTION:Liss Evermorek gidatutako zientzia fikziozko literatur solasaldian Ma Jian idazlearen El sueño chino liburua izango da hizpide. \nLiburua eskuragarri dago Donostia Kulturako liburutegietan.
URL:https://herrikultura.eus/event/literatur-solasaldiak-el-sueno-chino-ma-jian/
LOCATION:Alondegia Kultur Etxea (Oxford Aretoa) – (Alondegiko Moila Gelan)\, Erribera\, 23\, Zumaia\, Gipuzkoa\, 081\, España
CATEGORIES:Hitzaldia
ATTACH;FMTTYPE=image/jpeg:https://herrikultura.eus/wp-content/uploads/2026/04/37-7.jpg
END:VEVENT
END:VCALENDAR