BEGIN:VCALENDAR
VERSION:2.0
PRODID:-//HerriKultura - ECPv6.2.3.1//NONSGML v1.0//EN
CALSCALE:GREGORIAN
METHOD:PUBLISH
X-ORIGINAL-URL:https://herrikultura.eus
X-WR-CALDESC:Eventos para HerriKultura
REFRESH-INTERVAL;VALUE=DURATION:PT1H
X-Robots-Tag:noindex
X-PUBLISHED-TTL:PT1H
BEGIN:VTIMEZONE
TZID:Europe/Madrid
BEGIN:DAYLIGHT
TZOFFSETFROM:+0100
TZOFFSETTO:+0200
TZNAME:CEST
DTSTART:20250330T010000
END:DAYLIGHT
BEGIN:STANDARD
TZOFFSETFROM:+0200
TZOFFSETTO:+0100
TZNAME:CET
DTSTART:20251026T010000
END:STANDARD
BEGIN:DAYLIGHT
TZOFFSETFROM:+0100
TZOFFSETTO:+0200
TZNAME:CEST
DTSTART:20260329T010000
END:DAYLIGHT
BEGIN:STANDARD
TZOFFSETFROM:+0200
TZOFFSETTO:+0100
TZNAME:CET
DTSTART:20261025T010000
END:STANDARD
END:VTIMEZONE
BEGIN:VEVENT
DTSTART;VALUE=DATE:20251021
DTEND;VALUE=DATE:20260520
DTSTAMP:20260424T051814
CREATED:20251021T100634Z
LAST-MODIFIED:20251021T100634Z
UID:163144-1761004800-1779235199@herrikultura.eus
SUMMARY:Liburu Baby Kluba: Aldakonea
DESCRIPTION:Liburu Baby Kluba jarduera ludiko eta didaktikoa da. Bere helburu nagusia\, haurtzaro goiztiarrean eta familiengan literatura\, musika\, artea eta naturarekiko interesa bultzatzea da. Jarduera kulturaniztuna da\, euskal kultura eta munduko kultura ezberdinak sustatzen dituena.  \nEkintza hau 0-3 urte bitarteko haurreri zuzenduta dago\, heldu baten laguntza beharrezkoa da. Euskara\, gaztelania eta ingelesa tartekatuko dira. Mestiza Elkartea izango da ekitaldiaren dinamizatzaile. \nAurreikusten den egutegia hau da: \n\nurriak 21\nazaroak 18\nabenduak 16\nurtarrilak 20\notsailak 17\nmartxoak 17\napirilak 21\nmaiatzak 19\n\n  \nSaio independienteak dira eta aurrez izena eman beharko da ekitaldi bakoitzerako. Jarduerak aforo mugatua du. Plazarik lortzen ez duenak itxaron zerrendan eman dezake izena. Hurrengo saiorako izen emateak\, hilabete bateko ekitaldia bukatu eta ondorengo ostiralean*\, 12:00etatik aurrera irekiko dira\, hemen:  \n\nhttp://sarrerak.errenteria.eus  \nBaita presentzialki Lekuona Fabrikan eta Aldakoneako Liburutegian.\nTelefonoz 943 44 96 35 eta 943 44 96 99 zenbakian edota 647 673 451 zenbakian WhatsApp bitartez.\n\n*SALBUESPENA: Azaroko saioan izena emateko data: urriak 24. Martxoko saioan izena emateko data: otsailak 20. \nLekuona Fabrikako Liburutegiaren eskutik.
URL:https://herrikultura.eus/event/liburu-baby-kluba-aldakonea/
LOCATION:Errenteriako Liburutegia\, Magdalena\, 27-29\, Errenteria\, Gipuzkoa\, 067\, España
CATEGORIES:Hitzaldia
ATTACH;FMTTYPE=image/jpeg:https://herrikultura.eus/wp-content/uploads/2025/10/43-25.jpg
END:VEVENT
BEGIN:VEVENT
DTSTART;VALUE=DATE:20260114
DTEND;VALUE=DATE:20260514
DTSTAMP:20260424T051814
CREATED:20260101T230226Z
LAST-MODIFIED:20260101T230226Z
UID:178224-1768348800-1778716799@herrikultura.eus
SUMMARY:Irakurketa txokoa: "Gurasoak ere ipuin kontalari"
DESCRIPTION:«Gurasoak ere ipuin kontalari» irakurketa txokoa Miriam Mendozaren eskutik. \nDatak\, 17:30ean: \n\nUrtarrilak 14\nOtsailak 11\nMartxoak 11\nApirilak 15\nMaiatzak 13\n\nEdukiera mugatua. \nGonbidapenak haur liburutegian banatuko dira 16:00etatik aurrera
URL:https://herrikultura.eus/event/irakurketa-txokoa-gurasoak-ere-ipuin-kontalari/
LOCATION:Sanz Enea Zarauzko Udal Liburutegia\, Nafarroa\, 22\, Zarautz\, Gipuzkoa\, 079\, España
CATEGORIES:Hitzaldia
ATTACH;FMTTYPE=image/jpeg:https://herrikultura.eus/wp-content/uploads/2026/01/12-1.jpg
END:VEVENT
BEGIN:VEVENT
DTSTART;VALUE=DATE:20260409
DTEND;VALUE=DATE:20260515
DTSTAMP:20260424T051814
CREATED:20260101T230231Z
LAST-MODIFIED:20260101T230231Z
UID:178244-1775692800-1778803199@herrikultura.eus
SUMMARY:Tertulias literarias: "El cantar del profeta" (Paul Lynch)
DESCRIPTION:Literatur Solasaldiak (Tertulias Literarias) gaztelaniaz Slawka Grabowskaren gidaritzapean. \nApirilaren 9 eta 30ean eta maiatzaren 14an\, Paul Lynch idazlearen El cantar del profeta liburuari buruzko solasaldiak egingo dira.
URL:https://herrikultura.eus/event/tertulias-literarias-el-cantar-del-profeta-paul-lynch/
LOCATION:Sanz Enea Zarauzko Udal Liburutegia\, Nafarroa\, 22\, Zarautz\, Gipuzkoa\, 079\, España
CATEGORIES:Hitzaldia
ATTACH;FMTTYPE=image/jpeg:https://herrikultura.eus/wp-content/uploads/2026/01/20-2.jpg
END:VEVENT
BEGIN:VEVENT
DTSTART;VALUE=DATE:20260414
DTEND;VALUE=DATE:20260527
DTSTAMP:20260424T051814
CREATED:20260401T220203Z
LAST-MODIFIED:20260401T220203Z
UID:196090-1776124800-1779839999@herrikultura.eus
SUMMARY:Charlas Musicales de Primavera 2026 en Durango
DESCRIPTION:Musika Eskolak musika zabaltzeko ohiko programazioarekin jarraitzen du Musika Hitzaldien XXIX. Zikloarekin. Hurrengo gaia Udaberriarekin lotuta egongo da. Urtero bezala Kurutzesantun izango dira asteartero 19:00etan.  \nBertaratzeko aldez aurretik izena eman behar da Musika Eskola.
URL:https://herrikultura.eus/event/charlas-musicales-de-primavera-2026-en-durango/
LOCATION:Kurutzesantu Museoa\, Kurutziaga\, 38\, Durango\, Bizkaia\, 027\, España
CATEGORIES:Hitzaldia
ATTACH;FMTTYPE=image/jpeg:https://herrikultura.eus/wp-content/uploads/2026/04/30.jpg
END:VEVENT
BEGIN:VEVENT
DTSTART;VALUE=DATE:20260505
DTEND;VALUE=DATE:20260527
DTSTAMP:20260424T051814
CREATED:20260408T220349Z
LAST-MODIFIED:20260408T220349Z
UID:197508-1777939200-1779839999@herrikultura.eus
SUMMARY:Hitzaldi-zikloa "Udaberri beltza" 2026
DESCRIPTION:Egitaraua: \n\nMaiatzaren 5a 18:30etan. El género negro llevado al cine: de Estados Unidos a Euskadi. María Eugenia Salaverri.\nMaiatzaren 12a\, 18:30etan. Heriotza eta hilketa eleberri beltzan. Haizea López.\nMaiatzaren 19a\, 18:30etan. Mujeres que matan: la creación de asesinas fuera de estereotipos. Xandra Bilbao.\nMaiatzaren 26a\, 18:30etan. El rural noir. O cómo el entorno geográfico influye en la novela negra. Txemi Parra\n\nHizkuntzak: \nGaztelania/euskara \nTokia: \nBizkaiko Foru Liburutegia. Sotoa (Prentsa Aretoa) \nDatak eta ordutegia: \nMaiatzaren 5etik 26ra\, asteartetan\, 18:30etatik 20:00etara \nAurkezpena: \nAlex Oviedo \nArgibideak: \n\n946082487\nkulturjarduerak@bizkaia.eus\n\nIragarkia bistaratzea. \nOharrak: \n\nSarrera librea da\, jarleku kopurua bete arte (aurretiko erretserbarik gabe). Streaming bidezko zuzeneko emanaldia ondoko esteka honetan: \nwww.bizkaia.eus/kultura/foru_liburutegia/moduluak/streaming.asp?Tem_Codigo=4611&Idioma=EU
URL:https://herrikultura.eus/event/hitzaldi-zikloa-udaberri-beltza-2026/
LOCATION:Sala BBK\, CRAI Liburutegia eta Bizkaiko Foru Liburutegia\, Bilbao\, Bizkaia\, 020\, España
CATEGORIES:Hitzaldia
ATTACH;FMTTYPE=image/jpeg:https://herrikultura.eus/wp-content/uploads/2026/04/31-16.jpg
END:VEVENT
BEGIN:VEVENT
DTSTART;VALUE=DATE:20260507
DTEND;VALUE=DATE:20260508
DTSTAMP:20260424T051814
CREATED:20260409T220349Z
LAST-MODIFIED:20260409T220349Z
UID:197694-1778112000-1778198399@herrikultura.eus
SUMMARY:"Populismos\, polarización y preservación de la democracia"
DESCRIPTION:Inboluzio demokratikoaren fenomenoari buruz hausnartuko dute eta proposamenak egingo dituzte kalitate demokratikoa eta erakundeekiko konfiantza zibikoki birkonkistatzeko. \nParte hartuko dute: Ander Gurrutxaga\, Eva Silván \nModeratzailea: Juanjo Álvarez \n\nOharra \n\nHitzaldi hau streaming bidez eskainiko da
URL:https://herrikultura.eus/event/populismos-polarizacion-y-preservacion-de-la-democracia/
LOCATION:San Telmo Museoa – (Eliza)\, Zuloaga Enparantza\, 1\, Donostia / San Sebastián\, Gipuzkoa\, 069\, España
CATEGORIES:Hitzaldia
ATTACH;FMTTYPE=image/jpeg:https://herrikultura.eus/wp-content/uploads/2026/04/Hitzaldia.jpg
END:VEVENT
BEGIN:VEVENT
DTSTART;VALUE=DATE:20260507
DTEND;VALUE=DATE:20260508
DTSTAMP:20260424T051814
CREATED:20260412T220322Z
LAST-MODIFIED:20260412T220322Z
UID:198251-1778112000-1778198399@herrikultura.eus
SUMMARY:Mahai ingurua: Bi ilunabarren eguna
DESCRIPTION:17:30 – 19:30 \n Ataria \n Publiko guztiak \n Gaztelania \n\n \n\nJakinaldia – Eklipsea \n2026ko eguzki eklipse osoaren inguruko topaketa\, profil zientifikoak bilduko dituena hainbat ikuspegitatik lantzeko\, ikerketa eta dibulgazioa uztartuz.Silvia Bonoli astrofisikako ikertzailea da\, galaxien eta zulo beltzen sorreran eta bilakaeran oinarrituta\, unibertsoaren eta fenomeno astronomikoen ikuspegi zabala emanez.Jose Felix Rojas fisikaria eta ikertzailea da planeta-zientzietan\, Jupiter eta Saturnoren atmosferak aztertzen eta irudia aztertzeko eta tresna optikoak erabiltzeko tekniketan espezializatua\, eta dibulgazio zientifikoari lotutako ibilbidea du.Saioa Eusko Jaurlaritzako Zientzia\, Unibertsitate eta Berrikuntza Saileko Onintze Salazarrek gidatuko du. \nHizlaria: Silvia Bonoli eta Jose Felix Rojas. \nModeratzailea: Onintze Salazar \n\n\n\nSarbidea\n\n\nSarrera librea lekuak bete arte.
URL:https://herrikultura.eus/event/mahai-ingurua-bi-ilunabarren-eguna/
LOCATION:Santa Maria elizako ataria\, Tafalla\, Navarra\, 227\, España
CATEGORIES:Hitzaldia
END:VEVENT
BEGIN:VEVENT
DTSTART;VALUE=DATE:20260507
DTEND;VALUE=DATE:20260508
DTSTAMP:20260424T051814
CREATED:20260420T220242Z
LAST-MODIFIED:20260420T220242Z
UID:199621-1778112000-1778198399@herrikultura.eus
SUMMARY:"LadyHalcón. El encantamiento de un eclipse total de Sol"
DESCRIPTION:PONENTE MARÍA ÁLVAREZ RODRIGUEZ: “Y a la hora exacta\, el sol se tapó\, las gallinas se recogieron\, refrescó\, el día se volvió noche y se vieron planetas y estrellas…tierra y cielo mudaron de color como por encantamiento…y hubo gritos\, luego silencio\, lágrimas en los ojos y aplausos… ¡Aquellos astrónomos habían acertado!”  \nViajaremos por el espacio-tiempo de la aventura de los eclipses totales de sol\, entre el temor\, la maravilla y la ciencia\, con la valiosa aportación de las vivencias de la gente sencilla y de los observadores que contribuyeron con sus anotaciones\, dibujos\, placas de vidrio\, recuerdos\, emociones…al registro histórico de un fenómeno celeste único en la vida.
URL:https://herrikultura.eus/event/ladyhalcon-el-encantamiento-de-un-eclipse-total-de-sol/
LOCATION:Ibaiondoko Gizarte Etxea – (Plaza)\, Landaberde\, 31\, Vitoria-Gasteiz\, Álava\, 059\, España
CATEGORIES:Hitzaldia
END:VEVENT
BEGIN:VEVENT
DTSTART;VALUE=DATE:20260507
DTEND;VALUE=DATE:20260508
DTSTAMP:20260424T051814
CREATED:20260420T220242Z
LAST-MODIFIED:20260420T220242Z
UID:199622-1778112000-1778198399@herrikultura.eus
SUMMARY:"Instrucciones para observar el Eclipse total de Sol 12 de agosto de 2026"
DESCRIPTION:ALBERTO ANCIN: \nUn eclipse total de sol es el fenómeno astronómico más espectacular que podemos observar\, pero… ¿Qué es un eclipse de sol? ¿Cuándo se produce? ¿En qué debemos fijarnos? Anillo de diamantes\, perlas de Bailly\, las fases del eclipse\, las sombras… ¡la corona solar! ¡La luna nueva! \nHablaremos de cómo observarlo con seguridad y poder disfrutar sin peligro: con gafas de eclipse homologadas\, filtros solares\, el método de proyección… \nUn evento maravilloso que ningún ser humano puede perderse\, sobre todo\, si tiene la oportunidad de presenciarlo y vivirlo “sin moverse de casa” para poder contar después… “yo vi el del 26”.
URL:https://herrikultura.eus/event/instrucciones-para-observar-el-eclipse-total-de-sol-12-de-agosto-de-2026/
LOCATION:Ibaiondoko Gizarte Etxea – (Plaza)\, Landaberde\, 31\, Vitoria-Gasteiz\, Álava\, 059\, España
CATEGORIES:Hitzaldia
END:VEVENT
BEGIN:VEVENT
DTSTART;VALUE=DATE:20260507
DTEND;VALUE=DATE:20260508
DTSTAMP:20260424T051814
CREATED:20260420T220250Z
LAST-MODIFIED:20260420T220250Z
UID:199652-1778112000-1778198399@herrikultura.eus
SUMMARY:Aztarnak ipuin laburren lehiaketa 2026: Kontakizun laburren emanaldia
DESCRIPTION:Aztarnak ipuin laburren X. lehiaketaren irabazleek\, baita nahi duen orok\, kontakizun laburrak jendaurrean kontatzekio ekitaldia\, auzoari irekia.
URL:https://herrikultura.eus/event/aztarnak-ipuin-laburren-lehiaketa-2026-kontakizun-laburren-emanaldia/
LOCATION:Ernest Lluch Kultur Etxea – (Ernest Lluch K.E.)\, DK. Anoeta pasealekua\, 7\, Donostia / San Sebastián\, Gipuzkoa\, 069\, España
CATEGORIES:Hitzaldia
ATTACH;FMTTYPE=image/jpeg:https://herrikultura.eus/wp-content/uploads/2026/04/36-1.jpg
END:VEVENT
BEGIN:VEVENT
DTSTART;VALUE=DATE:20260507
DTEND;VALUE=DATE:20260508
DTSTAMP:20260424T051814
CREATED:20260420T220250Z
LAST-MODIFIED:20260420T220250Z
UID:199654-1778112000-1778198399@herrikultura.eus
SUMMARY:"Else Lasker-Schüler: Estigiatik piano urdinera"
DESCRIPTION:Eli Tolaretxipi idazlearen hitzaldia Else Lasker-Schüler idazleari buruz\, Literatura jazarriak zikloaren barruan. \nElse Lasker-Schüler (Eberfeld 1869-Jerusalem 1954). Poeta espresionista\, bere bizitzaren zati handi bat Berlinen eman zuen\, non bere bizitza kultural eferbeszentean parte hartu baitzuen. Gottfried Benn poetaren maitalea izan zen eta Karl Kraus\, Franz Merc eta Georg Trakl-en laguna. Berlindik ihes egin behar izan zuen\, eta orduan hasi zen bere gorabeherez betetako bidaia\, Zürichera lehenik eta Jerusalemera azkenik eraman zuena. Bere liburuen artean La Estigia eta Mi piano azul nabarmentzen dira. Erlijioak eta zibilizazioak nahasten zituen mundu utopiko batekin amets egiteko adorea eta originaltasuna izan zituen\, eta bere idazkera askea eta erabat eszentrikoa eta pertsonala izan zen\, bere bizitza bohemiarra bezala. Lasker-Schüler\, zoritxarrez\, gizakiak mundu krudelean bizitzeko duen ezintasunaren beste adibide bat da\, non bakoitzaren eromena eta berezitasuna errespetazen ez diren. \nEli Tolaretxipi (Donostia\, 1962). Poeta\, itzultzaile eta irakaslea da. Bere azken lanak Cuerpos Pasajeros (Trea\, 2025) Clapotis (Trea\, 2022) eta Ojo suelto (Gato encerrado\, 2023) dira. Itzlulitako poeten artean aipatzekoak dira Tess Gallagher eta Menna Elfyn. Itzultzaile gisa egin duen azken lana Odessa dantzan\, Ilya Kaminskiren poesia bilduma (Balea Zuria\, 2024). Gipuzkoako Ateneoko La espiral poesía tertuliaren antolatzailea da.
URL:https://herrikultura.eus/event/else-lasker-schuler-estigiatik-piano-urdinera/
LOCATION:Liburutegi Nagusia – Ekitaldi aretoa (San Jerónimo)\, San Jerónimo\, z/g\, Donostia / San Sebastián\, Gipuzkoa\, 069\, España
CATEGORIES:Hitzaldia
ATTACH;FMTTYPE=image/jpeg:https://herrikultura.eus/wp-content/uploads/2026/04/35-1.jpg
END:VEVENT
END:VCALENDAR