BEGIN:VCALENDAR
VERSION:2.0
PRODID:-//HerriKultura - ECPv6.2.3.1//NONSGML v1.0//EN
CALSCALE:GREGORIAN
METHOD:PUBLISH
X-WR-CALNAME:HerriKultura
X-ORIGINAL-URL:https://herrikultura.eus
X-WR-CALDESC:Eventos para HerriKultura
REFRESH-INTERVAL;VALUE=DURATION:PT1H
X-Robots-Tag:noindex
X-PUBLISHED-TTL:PT1H
BEGIN:VTIMEZONE
TZID:Europe/Madrid
BEGIN:DAYLIGHT
TZOFFSETFROM:+0100
TZOFFSETTO:+0200
TZNAME:CEST
DTSTART:20250330T010000
END:DAYLIGHT
BEGIN:STANDARD
TZOFFSETFROM:+0200
TZOFFSETTO:+0100
TZNAME:CET
DTSTART:20251026T010000
END:STANDARD
BEGIN:DAYLIGHT
TZOFFSETFROM:+0100
TZOFFSETTO:+0200
TZNAME:CEST
DTSTART:20260329T010000
END:DAYLIGHT
BEGIN:STANDARD
TZOFFSETFROM:+0200
TZOFFSETTO:+0100
TZNAME:CET
DTSTART:20261025T010000
END:STANDARD
END:VTIMEZONE
BEGIN:VEVENT
DTSTART;VALUE=DATE:20251021
DTEND;VALUE=DATE:20260520
DTSTAMP:20260424T051709
CREATED:20251021T100634Z
LAST-MODIFIED:20251021T100634Z
UID:163144-1761004800-1779235199@herrikultura.eus
SUMMARY:Liburu Baby Kluba: Aldakonea
DESCRIPTION:Liburu Baby Kluba jarduera ludiko eta didaktikoa da. Bere helburu nagusia\, haurtzaro goiztiarrean eta familiengan literatura\, musika\, artea eta naturarekiko interesa bultzatzea da. Jarduera kulturaniztuna da\, euskal kultura eta munduko kultura ezberdinak sustatzen dituena.  \nEkintza hau 0-3 urte bitarteko haurreri zuzenduta dago\, heldu baten laguntza beharrezkoa da. Euskara\, gaztelania eta ingelesa tartekatuko dira. Mestiza Elkartea izango da ekitaldiaren dinamizatzaile. \nAurreikusten den egutegia hau da: \n\nurriak 21\nazaroak 18\nabenduak 16\nurtarrilak 20\notsailak 17\nmartxoak 17\napirilak 21\nmaiatzak 19\n\n  \nSaio independienteak dira eta aurrez izena eman beharko da ekitaldi bakoitzerako. Jarduerak aforo mugatua du. Plazarik lortzen ez duenak itxaron zerrendan eman dezake izena. Hurrengo saiorako izen emateak\, hilabete bateko ekitaldia bukatu eta ondorengo ostiralean*\, 12:00etatik aurrera irekiko dira\, hemen:  \n\nhttp://sarrerak.errenteria.eus  \nBaita presentzialki Lekuona Fabrikan eta Aldakoneako Liburutegian.\nTelefonoz 943 44 96 35 eta 943 44 96 99 zenbakian edota 647 673 451 zenbakian WhatsApp bitartez.\n\n*SALBUESPENA: Azaroko saioan izena emateko data: urriak 24. Martxoko saioan izena emateko data: otsailak 20. \nLekuona Fabrikako Liburutegiaren eskutik.
URL:https://herrikultura.eus/event/liburu-baby-kluba-aldakonea/
LOCATION:Errenteriako Liburutegia\, Magdalena\, 27-29\, Errenteria\, Gipuzkoa\, 067\, España
CATEGORIES:Hitzaldia
ATTACH;FMTTYPE=image/jpeg:https://herrikultura.eus/wp-content/uploads/2025/10/43-25.jpg
END:VEVENT
BEGIN:VEVENT
DTSTART;VALUE=DATE:20260114
DTEND;VALUE=DATE:20260514
DTSTAMP:20260424T051709
CREATED:20260101T230226Z
LAST-MODIFIED:20260101T230226Z
UID:178224-1768348800-1778716799@herrikultura.eus
SUMMARY:Irakurketa txokoa: "Gurasoak ere ipuin kontalari"
DESCRIPTION:«Gurasoak ere ipuin kontalari» irakurketa txokoa Miriam Mendozaren eskutik. \nDatak\, 17:30ean: \n\nUrtarrilak 14\nOtsailak 11\nMartxoak 11\nApirilak 15\nMaiatzak 13\n\nEdukiera mugatua. \nGonbidapenak haur liburutegian banatuko dira 16:00etatik aurrera
URL:https://herrikultura.eus/event/irakurketa-txokoa-gurasoak-ere-ipuin-kontalari/
LOCATION:Sanz Enea Zarauzko Udal Liburutegia\, Nafarroa\, 22\, Zarautz\, Gipuzkoa\, 079\, España
CATEGORIES:Hitzaldia
ATTACH;FMTTYPE=image/jpeg:https://herrikultura.eus/wp-content/uploads/2026/01/12-1.jpg
END:VEVENT
BEGIN:VEVENT
DTSTART;VALUE=DATE:20260409
DTEND;VALUE=DATE:20260515
DTSTAMP:20260424T051709
CREATED:20260101T230231Z
LAST-MODIFIED:20260101T230231Z
UID:178244-1775692800-1778803199@herrikultura.eus
SUMMARY:Tertulias literarias: "El cantar del profeta" (Paul Lynch)
DESCRIPTION:Literatur Solasaldiak (Tertulias Literarias) gaztelaniaz Slawka Grabowskaren gidaritzapean. \nApirilaren 9 eta 30ean eta maiatzaren 14an\, Paul Lynch idazlearen El cantar del profeta liburuari buruzko solasaldiak egingo dira.
URL:https://herrikultura.eus/event/tertulias-literarias-el-cantar-del-profeta-paul-lynch/
LOCATION:Sanz Enea Zarauzko Udal Liburutegia\, Nafarroa\, 22\, Zarautz\, Gipuzkoa\, 079\, España
CATEGORIES:Hitzaldia
ATTACH;FMTTYPE=image/jpeg:https://herrikultura.eus/wp-content/uploads/2026/01/20-2.jpg
END:VEVENT
BEGIN:VEVENT
DTSTART;VALUE=DATE:20260414
DTEND;VALUE=DATE:20260527
DTSTAMP:20260424T051709
CREATED:20260401T220203Z
LAST-MODIFIED:20260401T220203Z
UID:196090-1776124800-1779839999@herrikultura.eus
SUMMARY:Charlas Musicales de Primavera 2026 en Durango
DESCRIPTION:Musika Eskolak musika zabaltzeko ohiko programazioarekin jarraitzen du Musika Hitzaldien XXIX. Zikloarekin. Hurrengo gaia Udaberriarekin lotuta egongo da. Urtero bezala Kurutzesantun izango dira asteartero 19:00etan.  \nBertaratzeko aldez aurretik izena eman behar da Musika Eskola.
URL:https://herrikultura.eus/event/charlas-musicales-de-primavera-2026-en-durango/
LOCATION:Kurutzesantu Museoa\, Kurutziaga\, 38\, Durango\, Bizkaia\, 027\, España
CATEGORIES:Hitzaldia
ATTACH;FMTTYPE=image/jpeg:https://herrikultura.eus/wp-content/uploads/2026/04/30.jpg
END:VEVENT
BEGIN:VEVENT
DTSTART;VALUE=DATE:20260505
DTEND;VALUE=DATE:20260527
DTSTAMP:20260424T051709
CREATED:20260408T220349Z
LAST-MODIFIED:20260408T220349Z
UID:197508-1777939200-1779839999@herrikultura.eus
SUMMARY:Hitzaldi-zikloa "Udaberri beltza" 2026
DESCRIPTION:Egitaraua: \n\nMaiatzaren 5a 18:30etan. El género negro llevado al cine: de Estados Unidos a Euskadi. María Eugenia Salaverri.\nMaiatzaren 12a\, 18:30etan. Heriotza eta hilketa eleberri beltzan. Haizea López.\nMaiatzaren 19a\, 18:30etan. Mujeres que matan: la creación de asesinas fuera de estereotipos. Xandra Bilbao.\nMaiatzaren 26a\, 18:30etan. El rural noir. O cómo el entorno geográfico influye en la novela negra. Txemi Parra\n\nHizkuntzak: \nGaztelania/euskara \nTokia: \nBizkaiko Foru Liburutegia. Sotoa (Prentsa Aretoa) \nDatak eta ordutegia: \nMaiatzaren 5etik 26ra\, asteartetan\, 18:30etatik 20:00etara \nAurkezpena: \nAlex Oviedo \nArgibideak: \n\n946082487\nkulturjarduerak@bizkaia.eus\n\nIragarkia bistaratzea. \nOharrak: \n\nSarrera librea da\, jarleku kopurua bete arte (aurretiko erretserbarik gabe). Streaming bidezko zuzeneko emanaldia ondoko esteka honetan: \nwww.bizkaia.eus/kultura/foru_liburutegia/moduluak/streaming.asp?Tem_Codigo=4611&Idioma=EU
URL:https://herrikultura.eus/event/hitzaldi-zikloa-udaberri-beltza-2026/
LOCATION:Sala BBK\, CRAI Liburutegia eta Bizkaiko Foru Liburutegia\, Bilbao\, Bizkaia\, 020\, España
CATEGORIES:Hitzaldia
ATTACH;FMTTYPE=image/jpeg:https://herrikultura.eus/wp-content/uploads/2026/04/31-16.jpg
END:VEVENT
BEGIN:VEVENT
DTSTART;VALUE=DATE:20260512
DTEND;VALUE=DATE:20260527
DTSTAMP:20260424T051709
CREATED:20251211T230237Z
LAST-MODIFIED:20251211T230237Z
UID:174111-1778544000-1779839999@herrikultura.eus
SUMMARY:"Dímelo hilando" irakurketa-kluba: Mamá
DESCRIPTION:Dinamizatzailea: MARIJOSE MARTÍN REDONDO\n \n\nDímelo hilando kultura- eta artisautza-proiektua da\, hitza eta haria\, testua eta ehuna\, irakurketa eta eskulana elkarri josiz. Proiektu hau biziaren erritmo geldoaren balioa berreskuratzeko desiotik sortu da; elkarrizketa partekatuaren gozamena eta gu lotzen gaituzten hari literario zein ehungintzakoak berreskuratzeko nahitik. \nTailer izpiritua duen irakurketa-klub baten bidez\, «ehungintzazko» gaiak jorratzen dituzten liburuen unibertso narratiboa esploratzeko gonbita luzatzen du egitasmo honek. Aldi berean\, artilea\, oihala eta papera josteko lurralde bihurtzen dira: bertan jantziak\, sinboloak eta emozioak ehuntzen dira\, hitzen hari finekin batera. \nDímelo hilando izenburua esaera herrikoi batek inspiratzen du: «Dímelo hilando\, buena hilandera»\, hau da\, solasean ari den bitartean eskuak gelditu gabe lanean jarraitzen dituen emakumearen irudia dakarkigun esamoldea. Hitzaren eta keinuaren\, pentsamenduaren eta sorkuntzaren arteko ehundura da proiektu osoaren oinarri: irakurri josten den bitartean\, josi kontatzen den bitartean\, eta hitzez zein hariz komunitatea ehundu. \nHamabostean behin\, asteartetan: \n\nURR 07 | 21 Aurkezpena\n\n\nAZA 04 | 18 El hijo de la costurera | Nacho Montes\n\n\nABE 02| 16 Las recolectoras de hilos | Alyson Richman\n\n\nURT 16 | 27 La niña del sombrero azul | Ana Lena Rivera\n\n\nOTS 10 | 24 Punto letal | Sally Goldenbaum\n\n\nMAR 10 | 24 La villa de la seda | Tabea Bach\n\n\nAPI 14 | 28 Cinco hermanas | Cinzia Giorgio\n\n\nMAI 12 | 26 Mamá | Edmundo Diaz Conde
URL:https://herrikultura.eus/event/dimelo-hilando-irakurketa-kluba-mama/
LOCATION:Bizenta Mogel Liburutegia (Durango)\, Komentu\, 8\, Durango\, Bizkaia\, 027\, España
CATEGORIES:Hitzaldia
ATTACH;FMTTYPE=image/jpeg:https://herrikultura.eus/wp-content/uploads/2025/12/213212-4.jpg
END:VEVENT
BEGIN:VEVENT
DTSTART;VALUE=DATE:20260513
DTEND;VALUE=DATE:20260514
DTSTAMP:20260424T051709
CREATED:20251212T230233Z
LAST-MODIFIED:20251212T230233Z
UID:174297-1778630400-1778716799@herrikultura.eus
SUMMARY:"IRAKURKETA LABANA BAT DA" irakurketa-kluba: "Amorante frantsesa"
DESCRIPTION:Dinamizatzailea: LEIRE BILBAO BARRUETABEÑA\n \n\nIrakurketak plazeretik du batez ere. Baina batzuetan irakurketa labana bat da. Labana distiratsu arriskutsua\, plazer zorrotzetik duena. Begirada zorrozten du mingainarekin batera. Eta kontuz labanaren ahoarekin belarrira xuxurlatzen hasten bazaizu\, ea ze tentazio pizten dizun. \nIrakurketa labana bat da. Ez baitago labanaren ahoan norbere burua islatuta ikustea baino gauza kitzikagarriagorik. \nLaztan literario bat jaso nahi baduzu\, batzuetan labana\, beste batzuetan kotoia\, hauxe da zuretzako leku egokia. Euskaraz sortutako eta euskarara itzulitako literatura aztertzen dugu hemen: narratiba\, saiakera\, komikia\, poesia\, literatura unibertsala… Utzi ezazu euskarazko letra zorrotzek laztan zaitzaten. Arriskatu eta sar zaitez literatura orrien barnean. \nHilean behin\, asteazkenetan: \n\nURR 8  Iturria | Unai Elorriaga\n\n\nAZA 12 Detaile xume bat | Adania Shibili ABE\n\n\nABE 10 Hetero | Uxue Alberdi\n\n\nURT 14  Idazketa labana bat da | Annie Ernaux\n\n\nOTS 11 Fun home | Alison Bechdel\n \nMAR 11 Trilogia | Jon Fosse\n\n\nAPI 22  Lur gainean\, itzal azpian | Leire Milikua\n\n\nMAI 13 Amorante frantsesa | Miren Agur Meab\n\n\nEKA 10 Ulu egiteko poemak | Harkaitz Cano
URL:https://herrikultura.eus/event/irakurketa-labana-bat-da-irakurketa-kluba-amorante-frantsesa/
LOCATION:Bizenta Mogel Liburutegia (Durango)\, Komentu\, 8\, Durango\, Bizkaia\, 027\, España
CATEGORIES:Hitzaldia
ATTACH;FMTTYPE=image/jpeg:https://herrikultura.eus/wp-content/uploads/2025/12/324324-5.jpg
END:VEVENT
BEGIN:VEVENT
DTSTART;VALUE=DATE:20260513
DTEND;VALUE=DATE:20260514
DTSTAMP:20260424T051709
CREATED:20260104T230232Z
LAST-MODIFIED:20260104T230232Z
UID:178835-1778630400-1778716799@herrikultura.eus
SUMMARY:Komiki kluba: "Fun home: familia-istorio tragikomiko bat"
DESCRIPTION:Programazioa 2025-2026\n\nOtsailak 11\, eguaztena: ‘Zimurrak’\, Paco Roca\nMartxoak 11\, eguaztena: ‘Utzi azalari’\, Ainara Azpiazu «Axpi»\nApirilak 15\, eguaztena: ‘Hodeien gaineko aldean’\, Sandra Garayoa\, Bertol Arrieta\nMaiatzak 13\, eguaztena: ‘Fun home: familia-istorio tragikomiko bat’\, Alison Bechdel\n\nOrdutegia: 18:00-20:00Koordinatzailea: Amaia Mariezkurrena \nKlubaren funtzionamendua\nHilero taldeko partaideak elkartzen dira\, aldez aurretik irakurri duten liburu baten gainean berba egiteko. Koordinatzaile batek saioak bideratzen ditu\, eta batzuetan liburuen egileek ere parte hartzen dute. Biblioteka saiatzen da aukeratutako liburuaren hainbat ale lortzen\, taldekideek maileguan eraman ditzaten. \nSolasaldiek aukera ematen dute egile eta estilo literario desberdinak ezagutzeko. Orokorrean\, taldeko iritziek asko aberasten dute norberak liburua irakurri duenean jasotako inpresioa. Jakin ezazu ez zaudela behartuta berba egitera\, eta liburua bukatu barik ere etorri zaitezkeela. \nDoako jarduera honetan aldez aurretik izena eman behar da. Plaza mugatuak daude\, hemen dituzu argibideak.
URL:https://herrikultura.eus/event/komiki-kluba-fun-home-familia-istorio-tragikomiko-bat/
LOCATION:Arrasateko Liburutegia\, Azoka Kalea\, 1\, Arrasate / Mondragón\, Gipuzkoa\, 055\, España
CATEGORIES:Hitzaldia
ATTACH;FMTTYPE=image/jpeg:https://herrikultura.eus/wp-content/uploads/2026/01/332324-3.jpg
END:VEVENT
BEGIN:VEVENT
DTSTART;VALUE=DATE:20260513
DTEND;VALUE=DATE:20260514
DTSTAMP:20260424T051709
CREATED:20260205T230345Z
LAST-MODIFIED:20260205T230345Z
UID:185206-1778630400-1778716799@herrikultura.eus
SUMMARY:"Introducción al arte románico en el País Vasco"\, Ander Gondra-rekin (Álava Medieval)
DESCRIPTION:Euskal Herriko ondare erromanikoari begirada bat\, bere ezaugarri eta elementu bereizgarriekin\, Arabako adibide nabarmenenetan eta bere bilakaera historikoan fokua jarriz.\n\n\nEgilea: Álava Medieval \n\n\nhttps://x.com/AlavaMedieval \nhttps://www.facebook.com/alavamedieval/ \nhttps://www.instagram.com/alavamedieval/ \n\nJarduera hau Udal Liburutegi Sareko 2026ko otsailetik maiatzera bitarteko programazioaren parte da. Kontsultatu jarduera guztiak liburutegien agendan. \n\n\n 
URL:https://herrikultura.eus/event/introduccion-al-arte-romanico-en-el-pais-vasco-ander-gondra-rekin-alava-medieval/
LOCATION:Abetxukuko Liburutegia\, Kooperatiba Enparantza\, 8\, Vitoria-Gasteiz\, Álava\, 059\, España
CATEGORIES:Hitzaldia
ATTACH;FMTTYPE=image/jpeg:https://herrikultura.eus/wp-content/uploads/2026/02/37-4.jpg
END:VEVENT
BEGIN:VEVENT
DTSTART;VALUE=DATE:20260513
DTEND;VALUE=DATE:20260514
DTSTAMP:20260424T051709
CREATED:20260402T220205Z
LAST-MODIFIED:20260402T220205Z
UID:196301-1778630400-1778716799@herrikultura.eus
SUMMARY:Liburu-aurkezpena: "Instantes poéticamente impredecibles" (Txabi Anuzita)
DESCRIPTION:INSTANTES\, poéticamente impredecibles ez da azkar irakurtzeko liburu bat. Gelditzeko\, begiratzeko eta sentitzeko esperientzia da. Hitzaren eta irudiaren arteko elkarrizketa intimoa\, oharkabean igaro ohi dena finkatzen duena: une bateko dardara\, denboraren aztarna minimoa. Sua\, Airea\, Ura\, Lurra\, Kintaesentzia eta amaierako atalasean egituratuta «utzi joaten\, jarraitu»\, une bakoitzean nola bizi aukeratzera gonbidatzen du. Liburu hau istorio bat baino zerbait gehiago bilatzen dutenentzat pentsatuta dago\, eta esperientzia bat eraman nahi dutenentzat.
URL:https://herrikultura.eus/event/liburu-aurkezpena-instantes-poeticamente-impredecibles-txabi-anuzita/
LOCATION:Romo Kultur Etxea (RKE) – (Romo Kultur Etxea)\, Santa Eugenia plaza\, 1\, Getxo\, Bizkaia\, 044\, España
CATEGORIES:Hitzaldia
ATTACH;FMTTYPE=image/jpeg:https://herrikultura.eus/wp-content/uploads/2026/04/12-1.jpg
END:VEVENT
BEGIN:VEVENT
DTSTART;VALUE=DATE:20260513
DTEND;VALUE=DATE:20260514
DTSTAMP:20260424T051709
CREATED:20260409T220350Z
LAST-MODIFIED:20260409T220350Z
UID:197696-1778630400-1778716799@herrikultura.eus
SUMMARY:"Agenda feminista y Derechos Humanos"
DESCRIPTION:Hizlariak aztertuko du zer suposatzen duen agenda feministarentzat emakumeen eskubideak Giza Eskubide izateak\, eta zein izan diren prozesua eta lorpenak Giza Eskubideen Deklaraziotik eta lehen Emakumearen Nazioarteko Batzarretik gaur egungo agenda feministara. \nArantza Campos\, EHUko irakaslea Zuzenbide fakultatean. \nOharra \n\nSaio hau streaming bidez emango da
URL:https://herrikultura.eus/event/agenda-feminista-y-derechos-humanos/
LOCATION:San Telmo Museoa – (Eliza)\, Zuloaga Enparantza\, 1\, Donostia / San Sebastián\, Gipuzkoa\, 069\, España
CATEGORIES:Hitzaldia
ATTACH;FMTTYPE=image/jpeg:https://herrikultura.eus/wp-content/uploads/2026/04/42-9.jpg
END:VEVENT
BEGIN:VEVENT
DTSTART;VALUE=DATE:20260513
DTEND;VALUE=DATE:20260514
DTSTAMP:20260424T051709
CREATED:20260412T220324Z
LAST-MODIFIED:20260412T220324Z
UID:198259-1778630400-1778716799@herrikultura.eus
SUMMARY:Prohibido morir aquí
DESCRIPTION:Javier Minak gaztelaniaz gidatutako literatur solasaldia Elizabeth Taylor idazlearen Prohibido morir aquí liburuaren inguruan. \nLiburua eskuragarri dago Donostia Kulturako liburutegietan.
URL:https://herrikultura.eus/event/prohibido-morir-aqui/
LOCATION:Ernest Lluch Kultur Etxea – (Ernest Lluch K.E.)\, DK. Anoeta pasealekua\, 7\, Donostia / San Sebastián\, Gipuzkoa\, 069\, España
CATEGORIES:Hitzaldia
END:VEVENT
BEGIN:VEVENT
DTSTART;VALUE=DATE:20260513
DTEND;VALUE=DATE:20260514
DTSTAMP:20260424T051709
CREATED:20260415T220337Z
LAST-MODIFIED:20260415T220337Z
UID:198681-1778630400-1778716799@herrikultura.eus
SUMMARY:Literatur-solasaldia: Liburu sorpresa
DESCRIPTION:Ana Merinok dinamizatutako literatur solasaldia. Asmoa liburu bati buruz hitz egitea da. \nKasu honetan\, egunean bertan izango dute irakurleek liburuaren berri.
URL:https://herrikultura.eus/event/literatur-solasaldia-liburu-sorpresa/
LOCATION:Casares-Tomasene Kultur Etxea – (Larres Parkea (Tomasene atzekaldean))\, Darieta bidea\, 1\, Donostia / San Sebastián\, Gipuzkoa\, 069\, España
CATEGORIES:Hitzaldia
ATTACH;FMTTYPE=image/jpeg:https://herrikultura.eus/wp-content/uploads/2026/04/Liburuak-6.jpg
END:VEVENT
END:VCALENDAR