BEGIN:VCALENDAR
VERSION:2.0
PRODID:-//HerriKultura - ECPv6.2.3.1//NONSGML v1.0//EN
CALSCALE:GREGORIAN
METHOD:PUBLISH
X-ORIGINAL-URL:https://herrikultura.eus
X-WR-CALDESC:Eventos para HerriKultura
REFRESH-INTERVAL;VALUE=DURATION:PT1H
X-Robots-Tag:noindex
X-PUBLISHED-TTL:PT1H
BEGIN:VTIMEZONE
TZID:Europe/Madrid
BEGIN:DAYLIGHT
TZOFFSETFROM:+0100
TZOFFSETTO:+0200
TZNAME:CEST
DTSTART:20260329T010000
END:DAYLIGHT
BEGIN:STANDARD
TZOFFSETFROM:+0200
TZOFFSETTO:+0100
TZNAME:CET
DTSTART:20261025T010000
END:STANDARD
END:VTIMEZONE
BEGIN:VEVENT
DTSTART;VALUE=DATE:20260414
DTEND;VALUE=DATE:20260527
DTSTAMP:20260424T051815
CREATED:20260401T220203Z
LAST-MODIFIED:20260401T220203Z
UID:196090-1776124800-1779839999@herrikultura.eus
SUMMARY:Charlas Musicales de Primavera 2026 en Durango
DESCRIPTION:Musika Eskolak musika zabaltzeko ohiko programazioarekin jarraitzen du Musika Hitzaldien XXIX. Zikloarekin. Hurrengo gaia Udaberriarekin lotuta egongo da. Urtero bezala Kurutzesantun izango dira asteartero 19:00etan.  \nBertaratzeko aldez aurretik izena eman behar da Musika Eskola.
URL:https://herrikultura.eus/event/charlas-musicales-de-primavera-2026-en-durango/
LOCATION:Kurutzesantu Museoa\, Kurutziaga\, 38\, Durango\, Bizkaia\, 027\, España
CATEGORIES:Hitzaldia
ATTACH;FMTTYPE=image/jpeg:https://herrikultura.eus/wp-content/uploads/2026/04/30.jpg
END:VEVENT
BEGIN:VEVENT
DTSTART;VALUE=DATE:20260505
DTEND;VALUE=DATE:20260527
DTSTAMP:20260424T051815
CREATED:20260408T220349Z
LAST-MODIFIED:20260408T220349Z
UID:197508-1777939200-1779839999@herrikultura.eus
SUMMARY:Hitzaldi-zikloa "Udaberri beltza" 2026
DESCRIPTION:Egitaraua: \n\nMaiatzaren 5a 18:30etan. El género negro llevado al cine: de Estados Unidos a Euskadi. María Eugenia Salaverri.\nMaiatzaren 12a\, 18:30etan. Heriotza eta hilketa eleberri beltzan. Haizea López.\nMaiatzaren 19a\, 18:30etan. Mujeres que matan: la creación de asesinas fuera de estereotipos. Xandra Bilbao.\nMaiatzaren 26a\, 18:30etan. El rural noir. O cómo el entorno geográfico influye en la novela negra. Txemi Parra\n\nHizkuntzak: \nGaztelania/euskara \nTokia: \nBizkaiko Foru Liburutegia. Sotoa (Prentsa Aretoa) \nDatak eta ordutegia: \nMaiatzaren 5etik 26ra\, asteartetan\, 18:30etatik 20:00etara \nAurkezpena: \nAlex Oviedo \nArgibideak: \n\n946082487\nkulturjarduerak@bizkaia.eus\n\nIragarkia bistaratzea. \nOharrak: \n\nSarrera librea da\, jarleku kopurua bete arte (aurretiko erretserbarik gabe). Streaming bidezko zuzeneko emanaldia ondoko esteka honetan: \nwww.bizkaia.eus/kultura/foru_liburutegia/moduluak/streaming.asp?Tem_Codigo=4611&Idioma=EU
URL:https://herrikultura.eus/event/hitzaldi-zikloa-udaberri-beltza-2026/
LOCATION:Sala BBK\, CRAI Liburutegia eta Bizkaiko Foru Liburutegia\, Bilbao\, Bizkaia\, 020\, España
CATEGORIES:Hitzaldia
ATTACH;FMTTYPE=image/jpeg:https://herrikultura.eus/wp-content/uploads/2026/04/31-16.jpg
END:VEVENT
BEGIN:VEVENT
DTSTART;VALUE=DATE:20260512
DTEND;VALUE=DATE:20260527
DTSTAMP:20260424T051815
CREATED:20251211T230237Z
LAST-MODIFIED:20251211T230237Z
UID:174111-1778544000-1779839999@herrikultura.eus
SUMMARY:"Dímelo hilando" irakurketa-kluba: Mamá
DESCRIPTION:Dinamizatzailea: MARIJOSE MARTÍN REDONDO\n \n\nDímelo hilando kultura- eta artisautza-proiektua da\, hitza eta haria\, testua eta ehuna\, irakurketa eta eskulana elkarri josiz. Proiektu hau biziaren erritmo geldoaren balioa berreskuratzeko desiotik sortu da; elkarrizketa partekatuaren gozamena eta gu lotzen gaituzten hari literario zein ehungintzakoak berreskuratzeko nahitik. \nTailer izpiritua duen irakurketa-klub baten bidez\, «ehungintzazko» gaiak jorratzen dituzten liburuen unibertso narratiboa esploratzeko gonbita luzatzen du egitasmo honek. Aldi berean\, artilea\, oihala eta papera josteko lurralde bihurtzen dira: bertan jantziak\, sinboloak eta emozioak ehuntzen dira\, hitzen hari finekin batera. \nDímelo hilando izenburua esaera herrikoi batek inspiratzen du: «Dímelo hilando\, buena hilandera»\, hau da\, solasean ari den bitartean eskuak gelditu gabe lanean jarraitzen dituen emakumearen irudia dakarkigun esamoldea. Hitzaren eta keinuaren\, pentsamenduaren eta sorkuntzaren arteko ehundura da proiektu osoaren oinarri: irakurri josten den bitartean\, josi kontatzen den bitartean\, eta hitzez zein hariz komunitatea ehundu. \nHamabostean behin\, asteartetan: \n\nURR 07 | 21 Aurkezpena\n\n\nAZA 04 | 18 El hijo de la costurera | Nacho Montes\n\n\nABE 02| 16 Las recolectoras de hilos | Alyson Richman\n\n\nURT 16 | 27 La niña del sombrero azul | Ana Lena Rivera\n\n\nOTS 10 | 24 Punto letal | Sally Goldenbaum\n\n\nMAR 10 | 24 La villa de la seda | Tabea Bach\n\n\nAPI 14 | 28 Cinco hermanas | Cinzia Giorgio\n\n\nMAI 12 | 26 Mamá | Edmundo Diaz Conde
URL:https://herrikultura.eus/event/dimelo-hilando-irakurketa-kluba-mama/
LOCATION:Bizenta Mogel Liburutegia (Durango)\, Komentu\, 8\, Durango\, Bizkaia\, 027\, España
CATEGORIES:Hitzaldia
ATTACH;FMTTYPE=image/jpeg:https://herrikultura.eus/wp-content/uploads/2025/12/213212-4.jpg
END:VEVENT
BEGIN:VEVENT
DTSTART;VALUE=DATE:20260514
DTEND;VALUE=DATE:20260522
DTSTAMP:20260424T051815
CREATED:20260101T230226Z
LAST-MODIFIED:20260101T230226Z
UID:178226-1778716800-1779407999@herrikultura.eus
SUMMARY:Solasaldiak Euskaraz: "Pleibak" (Miren Amuriza)
DESCRIPTION:Solasaldiak Euskaraz Nerea Loiolaren gidaritzapean. \nMaiatzaren 14 eta 21ean\, Miren Amurizaren Pleibak liburuari buruzko solasaldia egingo da. \nSinopsia:  \nNerabe paisaia rural-poligonero bat\, institutuko korridore atenporalak\, Morora busean jaistea eta belodromora motorrean igotzea\, Hemendik At\, Chenoa\, Su Ta\, lokaleko maromoak eta txosnetako Goi Gerlariak\, Largo eta Beda Agarreko sukaldean\, erantzun gabeko perdidak\, behor hezurrak\, istripu bat. \nUmezaroa elkarren itzalean zabuka igaro ostean\, gaur da eguna kalean gurutzatu eta batak bestea ignoratzen dutena. Distantzia horrek sorrarazten dion amorrazio retroaktiboak sakatuta zuzentzen zaio Jone Pollyri; neskatotan\, ahoak nola-hala estali eta eskugaina eskugainaren kontra igurtziaz musukatzen zuen txaleteko bizilagunari. \nEzer gertatu ez zenean gertatu zen guztia jasotzen du Miren Amurizaren bigarren nobelak\, egonezin primario bat\, partekatua izan zen bide baten adarkatzea. Sasoi baten erretratua da kontakizun hau\, belaunaldi bat ordezkatzen duten erreferentzia ugarirekin eta zikinak jandako hizkuntza batekin eraikia.
URL:https://herrikultura.eus/event/solasaldiak-euskaraz-pleibak-miren-amuriza/
LOCATION:Sanz Enea Zarauzko Udal Liburutegia\, Nafarroa\, 22\, Zarautz\, Gipuzkoa\, 079\, España
CATEGORIES:Hitzaldia
ATTACH;FMTTYPE=image/jpeg:https://herrikultura.eus/wp-content/uploads/2026/01/Pleibak.jpg
END:VEVENT
BEGIN:VEVENT
DTSTART;VALUE=DATE:20260521
DTEND;VALUE=DATE:20260522
DTSTAMP:20260424T051815
CREATED:20251019T220157Z
LAST-MODIFIED:20251019T220157Z
UID:160610-1779321600-1779407999@herrikultura.eus
SUMMARY:Literatura erromantikoaren irakurketa kluba (2025-2026): "Todo final es un comienzo"
DESCRIPTION:Klub honetan erromantikoa irakurriko dugu\, irentsi\, gozatu eta beren istorio liluragarriekin eszena literarioa konkistatu duten egileak deskubrituko ditugu\, eta eleberri erromantikoa estereotipoetatik haratago doala ohartuko gara. \nDinamizatzailea:  Marta Lobo. \nSaioi guztiak arratsaldeko 7etan dira. \nTodo final es un comienzo. Dolly Alderton 2026-05-21 \n  \nAndy\, hogeita hamabost urteko bakarrizketa-egilea\, Jenekin zeukan harremana prozesatzen saiatzen da lau urteko harremana ondoren.
URL:https://herrikultura.eus/event/literatura-erromantikoaren-irakurketa-kluba-2025-2026-todo-final-es-un-comienzo/
LOCATION:Ignacio Aldecoa Kultur Etxea – (Micaela Portilla Ikergunea)\, Paseo de la Florida\, 9\, Vitoria-Gasteiz\, Álava\, 059\, España
CATEGORIES:Hitzaldia
ATTACH;FMTTYPE=image/jpeg:https://herrikultura.eus/wp-content/uploads/2025/10/da-2.jpg
END:VEVENT
BEGIN:VEVENT
DTSTART;VALUE=DATE:20260521
DTEND;VALUE=DATE:20260522
DTSTAMP:20260424T051815
CREATED:20251212T230239Z
LAST-MODIFIED:20251212T230239Z
UID:174317-1779321600-1779407999@herrikultura.eus
SUMMARY:"MADRES E HIJAS QUE CUENTAN" irakurketa-kluba: "Malasangre"
DESCRIPTION:Dinamizatzailea: IRATI DIEZ VIRTO\n \n\nLiburuak eta beste baliabide batzuk irakurriz\, gizakien eta naturaren arteko harreman konplexua aztertuko dugu. Lotura hori nekazaritza\, abeltzaintza edo arrantza bezalako jardueretan agertzen da\, baina baita esperientzia pertsonaletan ere\, hala nola aisialdian. Historian zehar eta hainbat kulturatan\, nabarmen aldatu da harreman hori. \nProposatutako irakurketen bidez\, aldaketa horiei buruz hausnartuko dugu\, ikuspegi zientifikotik eta gaur egungo gai garrantzitsuenei begira. \nHilean behin\, ostegunetan: \n\nURR 9 El viejo y el mar | Ernest Hemingway\n\n\nAZA 13 Primavera silenciosa | Rachel Carson\n\n\nABE 11 Un cambio de verdad | Gabi Martínez\n\n\nURT 15 Cobalto rojo | Siddharth Kara\n\n\nOTS 12 El Año del Diluvio | Margaret Atwood\n\n\nMAR 12 El agua prometida | Alberto Vázquez-Figueroa
URL:https://herrikultura.eus/event/madres-e-hijas-que-cuentan-irakurketa-kluba-malasangre/
LOCATION:Bizenta Mogel Liburutegia (Durango)\, Komentu\, 8\, Durango\, Bizkaia\, 027\, España
CATEGORIES:Hitzaldia
ATTACH;FMTTYPE=image/jpeg:https://herrikultura.eus/wp-content/uploads/2025/12/342-5.jpg
END:VEVENT
BEGIN:VEVENT
DTSTART;VALUE=DATE:20260521
DTEND;VALUE=DATE:20260522
DTSTAMP:20260424T051815
CREATED:20260116T230324Z
LAST-MODIFIED:20260116T230324Z
UID:181163-1779321600-1779407999@herrikultura.eus
SUMMARY:"Jueves lector" irakurketa-kluba: "El verano sin hombres"
DESCRIPTION:S. Hustvedt idazlearen El verano sin hombres liburua landuko da. \nDinamizatzailea: Mireia Delgado \nPlaza kopurua: 16
URL:https://herrikultura.eus/event/jueves-lector-irakurketa-kluba-el-verano-sin-hombres/
LOCATION:Basauriko Liburutegia (Pozokoetxe)\, Erronkari Ibarra\, z/g\, Basauri\, Bizkaia\, 015\, España
CATEGORIES:Hitzaldia
ATTACH;FMTTYPE=image/jpeg:https://herrikultura.eus/wp-content/uploads/2026/01/73-3.jpg
END:VEVENT
BEGIN:VEVENT
DTSTART;VALUE=DATE:20260521
DTEND;VALUE=DATE:20260522
DTSTAMP:20260424T051815
CREATED:20260319T230254Z
LAST-MODIFIED:20260319T230254Z
UID:193627-1779321600-1779407999@herrikultura.eus
SUMMARY:"Elebitasuna haur eta nerabeengan ele bakarreko irakaskuntzan: perspektiba andana bat"
DESCRIPTION:Cécile de Cat Linguistika irakaslearen mintzaldia \nElebitasuna continuum jariakor gisa hobeto ulertzen da\, hizkuntza gehigarri batekilako esposizio oso txiki batetik\, hizkuntza horretan nagusitasun handia izateraino\, etiketa finko edo bitar gisa baino. Mintzaldi horretan\, esperientzia elebidunak haur eta nerabeen hizkuntza gaitasunaren alderdi anitz nola moldatzen dituen azalduko dut. Gaitasun sorta zabala aztertuko dut\, besteak beste ezagutzen duten hitz kopurua eta ezagutza horren sakontasuna\, hitz horiek erranaldietan konbinatzeko duten gaitasuna\, eta baita irakurtzen edo entzuten duten hori interpretatzeko behar den fintasuna ere — erran gabe adierazia dena desfrizatzeko gaitasuna barne. Ofizialki elebakarrak diren herrialdeetan (Frantzia\, Erresuma Batua eta Herbehereak) eskolatuak diren haur elebidunen hizkuntza garapenean oinarrituz\, haien hizkuntza gaitasunaren adierazgailu nagusiak identifikatzea eta irakatsitako hizkuntzan noiz benetan elebakarrak « berriz harrapatzen » dituzten finkatzea garrantzitsua dela erakutsiko dut. Epe horiek aipatuz elebitasuna defizit gisa aurkeztu gabe\, guraso eta eskolek egin ditzaketen ekintza eraikitzaileetan zentra gaitezke\, haur horiek beren ahalmen osoa beren bi hizkuntzetan lortzeko gisan. \nHizlariaren biografia laburra \nJatorriz Belgikakoa\, Cécile de Cat Linguistika irakaslea da Leeds-eko unibertsitatean (Inglaterra). Bradford herrian kokatua den Center for Applied Research-eko Speech and Language Action Group zuzentzen du.
URL:https://herrikultura.eus/event/elebitasuna-haur-eta-nerabeengan-ele-bakarreko-irakaskuntzan-perspektiba-andana-bat/
LOCATION:Musée Basque (Baionako Euskal Museoa)\, 37\, quai des Corsaires\, Bayonne\, 568\, Francia
CATEGORIES:Hitzaldia
ATTACH;FMTTYPE=image/jpeg:https://herrikultura.eus/wp-content/uploads/2026/03/Hitzaldia2-1.jpg
END:VEVENT
BEGIN:VEVENT
DTSTART;VALUE=DATE:20260521
DTEND;VALUE=DATE:20260522
DTSTAMP:20260424T051815
CREATED:20260401T220214Z
LAST-MODIFIED:20260401T220214Z
UID:196126-1779321600-1779407999@herrikultura.eus
SUMMARY:Irakurketa kluba: "Jende normala" (Sally Rooney)
DESCRIPTION:«Jende normala«\, Sally Rooney \nHizkuntza: Euskaraz \nYurre Ugartek dinamizatuta
URL:https://herrikultura.eus/event/irakurketa-kluba-jende-normala-sally-rooney/
LOCATION:Leioako Liburutegia (Kultur Leioa) – (5ª planta (Taller 5))\, José Ramón Aketxe\, 11\, Leioa\, Bizkaia\, 054\, España
CATEGORIES:Hitzaldia
ATTACH;FMTTYPE=image/jpeg:https://herrikultura.eus/wp-content/uploads/2026/04/48.jpg
END:VEVENT
BEGIN:VEVENT
DTSTART;VALUE=DATE:20260521
DTEND;VALUE=DATE:20260522
DTSTAMP:20260424T051815
CREATED:20260402T220207Z
LAST-MODIFIED:20260402T220207Z
UID:196305-1779321600-1779407999@herrikultura.eus
SUMMARY:Literatura-solasaldia: "Me fui como una tormenta" (Isabel Herrera Peralta)
DESCRIPTION:‘Me fui como una tormenta’ liburuari buruzko literatura-solasaldia Algortako Kasinoan. \n\n\n\n\n\n\nMe fui como una tormenta nobela bat da\, eta bidaia bat -bidaia guztiak egia esan- itzultzeko. Ukimenari buruzko nobela bat ere bada\, eta beldurrari eta porrotari buruzko nobela bat\, lekualdatutako artistek aipatzen duten no man’s land horri buruzkoa. Sara Herrera Peraltak\, bere bigarren eleberrian\, Louise Bourgeoisen lanaren bidez eta bere genealogiaren bidez\, idazketaren keinuaren eta brodatuaren keinuaren inguruko hausnarketa egiten du\, artista frantziarraren obran egindako bilaketak alde batetik bere obra literarioaren jarraipen gisa balioko balu bezala (eta memorian behin eta berriz errepikatze hori\, barrukoa eta kolektiboa)\, eta\, bestetik\, orratzaren edo arkatzaren bidez sortuz beti itzalean egon direnei ahotsa emateko. \n\n\n\n\n\n\n 
URL:https://herrikultura.eus/event/literatura-solasaldia-me-fui-como-una-tormenta-isabel-herrera-peralta/
LOCATION:Algortako Kasinoa – (Plaza)\, Getxo\, Bizkaia\, 044\, España
CATEGORIES:Hitzaldia
ATTACH;FMTTYPE=image/jpeg:https://herrikultura.eus/wp-content/uploads/2026/04/17-2.jpg
END:VEVENT
BEGIN:VEVENT
DTSTART;VALUE=DATE:20260521
DTEND;VALUE=DATE:20260522
DTSTAMP:20260424T051815
CREATED:20260410T220336Z
LAST-MODIFIED:20260410T220336Z
UID:197865-1779321600-1779407999@herrikultura.eus
SUMMARY:Liburu-aurkezpena: "LA PRESTAMISTA"
DESCRIPTION:María del mar Rodríguez Pérezen «Relatos de unas ilas desemparadas» trilogiako «LA PRESTAMISTA» liburuaren aurkezpena. \n\n 
URL:https://herrikultura.eus/event/liburu-aurkezpena-la-prestamista/
LOCATION:Santa Clara Kultur Zentroa\, Casilda Iturriza\, 10\, Portugalete\, Bizkaia\, 078\, España
CATEGORIES:Hitzaldia
ATTACH;FMTTYPE=image/jpeg:https://herrikultura.eus/wp-content/uploads/2026/04/Liburuak-2.jpg
END:VEVENT
BEGIN:VEVENT
DTSTART;VALUE=DATE:20260521
DTEND;VALUE=DATE:20260522
DTSTAMP:20260424T051815
CREATED:20260421T220234Z
LAST-MODIFIED:20260421T220234Z
UID:199779-1779321600-1779407999@herrikultura.eus
SUMMARY:Liburu-aurkezpena: "Atlas Emocional del Urumea"
DESCRIPTION:Helga Massetani eta María José Noainek Atlas Emocional del Urumea. Los diez afluentes sentimentales liburua aurkeztuko dute.  \nLiburua Cristina Enea Fundazioak gidatutako proiektu baten emaitza da. Urte batez\, Urumeatik gertu bizi eta elkarbizi diren pertsonak partaidetza-prozesu batean murgildu dira bizkarrezur likido honen ertzean bizitako pasadizoak\, bizipenak eta esperientziak partekatzeko. Hala\, Urumeako Atlas Emozionala definitu dute. Proiektuaren ikertzaileek ekimenaren emaitzak partekatuko dituzte\, argitalpenean jasotakoak plazaratuz. 
URL:https://herrikultura.eus/event/liburu-aurkezpena-atlas-emocional-del-urumea/
LOCATION:San Telmo Museoa – (Eliza)\, Zuloaga Enparantza\, 1\, Donostia / San Sebastián\, Gipuzkoa\, 069\, España
CATEGORIES:Hitzaldia
ATTACH;FMTTYPE=image/jpeg:https://herrikultura.eus/wp-content/uploads/2026/04/20.jpg
END:VEVENT
BEGIN:VEVENT
DTSTART;VALUE=DATE:20260521
DTEND;VALUE=DATE:20260522
DTSTAMP:20260424T051815
CREATED:20260421T220234Z
LAST-MODIFIED:20260421T220234Z
UID:199777-1779321600-1779407999@herrikultura.eus
SUMMARY:"Chaves Nogales\, exiliado pero no vencido"
DESCRIPTION:María Isabel Cintas Guillén unibertsitate irakaslearen hitzaldia Manuel Chaves Nogales idazleari buruz\, Literatura jazarriak zikloaren barruan. \n1936aren amaieran\, Espainiako Gerra Zibilaren hasieran\, Manuel Chaves Nogales kazetaria erbesteratu egin zen bere familiarekin eta Pirinioak zeharkatu zituen baldintza oso kaskarretan\, beste hainbeste espainiarrek bezala\, eta beti eutsi zien Bigarren Errepublikaren printzipioei Francoren estatu-kolpearen aurrean. Frantzian\, Emery Revesekin batera lan egin zuen egunkari aurrerakoietan\, eta hark lagundu zion Ingalaterrara joaten Frantziaren erorketaren eta Pétain-en erregimenaren ondoren. Londresen\, familiatik bananduta\, Havas eta Reuters agentziekin kolaboratu zuen\, eta Hego Amerikako prentsan parte hartu zuen\, Ingalaterra faxismoaren aurrean Europako azken gotorleku demokratiko gisa defendatuz; gainera\, bere agentzia sortu zuen\, Atlantic Pacific Press\, eta aliatuen garaipenean sinetsi zuen. 1944an hil zen\, berrogeita sei urte zituela\, gerra amaitu baino pixka bat lehenago. Frankismoak kondenatu eta bere obra debekatu zuen\, hamarkadetan ahaztuta egon zena\, geroago berreskuratua izan arte\, XX. mendeko Espainiako kazetaritzaren figura handienetako bat gisa aitortua izan delarik. \nMaría Isabel Cintas Guillén\, Sevillako Bécquer Institutuko Gaztelania eta Literatura Saileko katedraduna eta burua\, erretiratua. Bere ikerketa nagusia Manuel Chaves Nogales kazetari sevillarraren bizitza eta obran oinarritzen da\, 1998an doktore-tesia eskaini baitzion. Hiru hamarkada baino gehiago eman ditu bere obra osoa berreskuratzen eta bere biografia egiten. Lan horren emaitza\, Chaves Nogales. El oficio de contar liburuarengatik 2011n jaso zuen Domínguez Ortiz saria izan zen.Hainbat argitaletxetan argitaratu ditu bere lanak\, Espainian zein atzerrian. Halaber\, ikerketa eta dibulgazio lan handia egin du nazioartean. 2021ean biografiaren edizio zabal bat argitaratu zuen\, Chaves Nogales. Andar y contar. izenekoa. 
URL:https://herrikultura.eus/event/chaves-nogales-exiliado-pero-no-vencido/
LOCATION:Liburutegi Nagusia – Ekitaldi aretoa (San Jerónimo)\, San Jerónimo\, z/g\, Donostia / San Sebastián\, Gipuzkoa\, 069\, España
CATEGORIES:Hitzaldia
ATTACH;FMTTYPE=image/jpeg:https://herrikultura.eus/wp-content/uploads/2026/04/21.jpg
END:VEVENT
END:VCALENDAR