BEGIN:VCALENDAR
VERSION:2.0
PRODID:-//HerriKultura - ECPv6.2.3.1//NONSGML v1.0//EN
CALSCALE:GREGORIAN
METHOD:PUBLISH
X-ORIGINAL-URL:https://herrikultura.eus
X-WR-CALDESC:Eventos para HerriKultura
REFRESH-INTERVAL;VALUE=DURATION:PT1H
X-Robots-Tag:noindex
X-PUBLISHED-TTL:PT1H
BEGIN:VTIMEZONE
TZID:Europe/Madrid
BEGIN:DAYLIGHT
TZOFFSETFROM:+0100
TZOFFSETTO:+0200
TZNAME:CEST
DTSTART:20260329T010000
END:DAYLIGHT
BEGIN:STANDARD
TZOFFSETFROM:+0200
TZOFFSETTO:+0100
TZNAME:CET
DTSTART:20261025T010000
END:STANDARD
END:VTIMEZONE
BEGIN:VEVENT
DTSTART;VALUE=DATE:20260528
DTEND;VALUE=DATE:20260529
DTSTAMP:20260424T051814
CREATED:20251020T071050Z
LAST-MODIFIED:20251020T071050Z
UID:161948-1779926400-1780012799@herrikultura.eus
SUMMARY:Literatura solasaldia: "Pleibak"
DESCRIPTION:Izen ematea: irailaren 15etik 21era. Izena emateko klikatu hemen. \nProgramazioa 2025-2026 \n\nUrriak 30\, eguena: ‘Hamahiru ipuin’\, Luisa Carnés\nAzaroak 20\, eguena: ‘Francesco Pasqualeren bosgarren arima’\, Unai Elorriaga\nAbenduak 18\, eguena: ‘Fiesta: eguzkia jaikitzen da’\, Ernest Hemingway\nUrtarrilak 22\, eguena: ‘Berbelitzen hiztegia’\, Anjel Lertxundi\nOtsailak 19\, eguena: ‘Puskak’\, Irene Pujadas\nMartxoak 26\, eguena: ‘Farorantz’\, Virginia Woolf\nApirilak 23\, eguena: ‘Argia\, lurra\, zuhaitza\, zerua’ eta ‘Izena eta izana’\, Jon Gerediaga\nMaiatzak 28\, eguena: ‘Pleibak’\, Miren Amuriza\n\nOrdutegia: 18:00-20:00 Koordinatzailea: Alex Gurrutxaga \nLiteratura solasaldien funtzionamendua \nHilero taldeko partaideak elkartzen dira\, aldez aurretik irakurri duten liburu baten gainean berba egiteko. Koordinatzaile batek saioak bideratzen ditu\, eta batzuetan liburuen egileek ere parte hartzen dute. Biblioteka saiatzen da aukeratutako liburuaren hainbat ale lortzen\, taldekideek maileguan eraman ditzaten. \nSolasaldiek aukera ematen dute egile eta estilo literario desberdinak ezagutzeko. Orokorrean\, taldeko iritziek asko aberasten dute norberak liburua irakurri duenean jasotako inpresioa. Jakin ezazu ez zaudela behartuta berba egiten\, eta liburua bukatu barik ere etorri zaitezkeela. \nDoako jarduera honetan aldez aurretik izena eman behar da. Plaza mugatuak daude\, hemen dituzu argibideak. \n Historikoa \n>> Solasaldiak euskaraz <<
URL:https://herrikultura.eus/event/literatura-solasaldia-pleibak/
LOCATION:Arotz plaza (eguraldiaren arabera Kulturate)\, Arrasate / Mondragón\, Gipuzkoa\, 055\, España
CATEGORIES:Hitzaldia
ATTACH;FMTTYPE=image/jpeg:https://herrikultura.eus/wp-content/uploads/2025/10/0e4e7ffbf8a545b4990c035f4b69f400-10.jpg
END:VEVENT
BEGIN:VEVENT
DTSTART;VALUE=DATE:20260528
DTEND;VALUE=DATE:20260529
DTSTAMP:20260424T051814
CREATED:20251021T080939Z
LAST-MODIFIED:20251021T080939Z
UID:162622-1779926400-1780012799@herrikultura.eus
SUMMARY:Gasteizko Irakurle Kluba: "Antzinako berri-berriak"
DESCRIPTION:Irakurketaren jolasa da helburua Gasteizko Irakurle Klubean; izan ere\, hori baino ez da egiten: liburuak irakurri eta liburuez hitz egin. Ez dira literatur lanen azterketa jakintsuak bilatzen\, irakurleen esperientzia zuzena elkarrekin konpartitzea baizik. \nIban Zalduak koordinatzen du jarduera hau eta berak osatzen du urteko liburuen zerrenda. Hilean behin biltzen da\, beti ere euskaraz idatzitako edo euskarara itzulitako liburuen inguruan eta\, kasuan kasu\, idazleak edo itzultzaileak ere hurbiltzen dira saioetara. Saioak Ignacio Aldecoa Kultura Etxean egiten dira. \nHarremana: irakurlekluba@geuelkartea.eusTwitter: @gastirakluba \n2025-26 ikasturteko egitaraua: \n \n\n\n\n 
URL:https://herrikultura.eus/event/gasteizko-irakurle-kluba-antzinako-berri-berriak/
LOCATION:Ignacio Aldecoa Kultur Etxea – (Micaela Portilla Ikergunea)\, Paseo de la Florida\, 9\, Vitoria-Gasteiz\, Álava\, 059\, España
CATEGORIES:Hitzaldia
ATTACH;FMTTYPE=image/jpeg:https://herrikultura.eus/wp-content/uploads/2025/10/234-7.jpg
END:VEVENT
BEGIN:VEVENT
DTSTART;VALUE=DATE:20260528
DTEND;VALUE=DATE:20260529
DTSTAMP:20260424T051814
CREATED:20260101T230231Z
LAST-MODIFIED:20260101T230231Z
UID:178246-1779926400-1780012799@herrikultura.eus
SUMMARY:Tertulias literarias: "Flor Fané" (Sara Morante)
DESCRIPTION:Literatur Solasaldiak (Tertulias Literarias) gaztelaniaz Slawka Grabowskaren gidaritzapean. \nSara Montare idazlearen Flor fané liburuari buruzko solasaldia egingo da. Gainera\, idazlea bertan izango da. \nSinopsia:  \nFlor fané nos sumerge en el universo de Olga\, una niña que vive una situación familiar asfixiante con un padre controlador en un hogar donde los días tranquilos pertenecen al pasado. Su poderosa imaginación\, unida a su instinto de supervivencia\, la acompañarán hasta la adolescencia. Sara Morante -ilustradora de larga y fructífera trayectoria que firma con Flor fané su segunda obra como autora completa tras La vida de las paredes (Lumen\, 2015)- narra esta historia desde la mirada subjetiva de la protagonista\, en primera persona\, dejando que el lector haga sus propias reflexiones. En palabras de Morante\, «he querido explorar el efecto de la violencia y cómo contrarrestarla a través de la creación\, de la imaginación\, que es el refugio de la protagonista\, pero dándole todo el espacio a quien la sufre\, no a quien la ejerce». \nEn Flor fané\, texto\, ilustración y cómic forman parte de la misma narración. «He podido hacer algo que hacía tiempo que quería -continúa Morante-: contar una escena a través de secuencias de dibujos. Darle movimiento. Para los dibujos\, he utilizado todas las técnicas que conozco evitando lo digital: lápices\, gouache y acuarela\, collage de dibujos… Ha sido como volver al principio\, cuando empecé en la ilustración e incluso más allá\, al dibujo de la infancia. Es algo intencionado: he encontrado el trazo suelto que me ha dado más libertad para contar esta historia«.
URL:https://herrikultura.eus/event/tertulias-literarias-flor-fane-sara-morante/
LOCATION:Sanz Enea Zarauzko Udal Liburutegia\, Nafarroa\, 22\, Zarautz\, Gipuzkoa\, 079\, España
CATEGORIES:Hitzaldia
ATTACH;FMTTYPE=image/jpeg:https://herrikultura.eus/wp-content/uploads/2026/01/21.jpg
END:VEVENT
BEGIN:VEVENT
DTSTART;VALUE=DATE:20260528
DTEND;VALUE=DATE:20260529
DTSTAMP:20260424T051814
CREATED:20260116T230326Z
LAST-MODIFIED:20260116T230326Z
UID:181173-1779926400-1780012799@herrikultura.eus
SUMMARY:Ostegunetan irakurle: "Rosa Valverde eta kutxak"
DESCRIPTION:M. Lujanbio eta A. Rodríguez idazleen Rosa Valverde eta kutxak liburua landuko da. \nDinamizatzailea: Mireia Delgado \nPlaza kopurua: 16
URL:https://herrikultura.eus/event/ostegunetan-irakurle-rosa-valverde-eta-kutxak/
LOCATION:Basauriko Liburutegia (Pozokoetxe)\, Erronkari Ibarra\, z/g\, Basauri\, Bizkaia\, 015\, España
CATEGORIES:Hitzaldia
ATTACH;FMTTYPE=image/jpeg:https://herrikultura.eus/wp-content/uploads/2026/01/78.jpg
END:VEVENT
BEGIN:VEVENT
DTSTART;VALUE=DATE:20260528
DTEND;VALUE=DATE:20260529
DTSTAMP:20260424T051814
CREATED:20260401T220212Z
LAST-MODIFIED:20260401T220212Z
UID:196120-1779926400-1780012799@herrikultura.eus
SUMMARY:Irakurketa kluba: "La vacuna contra la insensatez" (José Antonio Marina)
DESCRIPTION:Adimen emozionalari buruzko irakurketa kluba. Giovanni Pecorarok dinamizatuta. \n«La vacuna contra la insensatez«\, José Antonio Marina.Hizkuntza: Gaztelaniaz.
URL:https://herrikultura.eus/event/irakurketa-kluba-la-vacuna-contra-la-insensatez-jose-antonio-marina/
LOCATION:Leioako Liburutegia (Kultur Leioa) – (5ª planta (Taller 5))\, José Ramón Aketxe\, 11\, Leioa\, Bizkaia\, 054\, España
CATEGORIES:Hitzaldia
ATTACH;FMTTYPE=image/jpeg:https://herrikultura.eus/wp-content/uploads/2026/04/46-1.jpg
END:VEVENT
BEGIN:VEVENT
DTSTART;VALUE=DATE:20260528
DTEND;VALUE=DATE:20260529
DTSTAMP:20260424T051814
CREATED:20260410T220337Z
LAST-MODIFIED:20260410T220337Z
UID:197869-1779926400-1780012799@herrikultura.eus
SUMMARY:Irakurketa-kluba: "PURA VIDA" (José María Mendiluce)
DESCRIPTION:José María Mendiluce idazlearen PURA VIDA liburuaren irakurketa-kluba egingo da. \nInformazio gehiago liburutegian.
URL:https://herrikultura.eus/event/irakurketa-kluba-pura-vida-jose-maria-mendiluce/
LOCATION:Portugaleteko Liburutegia\, Travesía Salazar\, z/g\, Portugalete\, Bizkaia\, 078\, España
CATEGORIES:Hitzaldia
ATTACH;FMTTYPE=image/jpeg:https://herrikultura.eus/wp-content/uploads/2026/04/62-3.jpg
END:VEVENT
BEGIN:VEVENT
DTSTART;VALUE=DATE:20260528
DTEND;VALUE=DATE:20260529
DTSTAMP:20260424T051814
CREATED:20260410T220338Z
LAST-MODIFIED:20260410T220338Z
UID:197871-1779926400-1780012799@herrikultura.eus
SUMMARY:Irakurketa-kluba: "FIESTA" (Ernest Hemingway)
DESCRIPTION:Ernest Hemingway idazlearen FIESTA liburuaren irakurketa-kluba egingo da. \nInformazio gehiago liburutegian.
URL:https://herrikultura.eus/event/irakurketa-kluba-fiesta-ernest-hemingway/
LOCATION:Portugaleteko Liburutegia\, Travesía Salazar\, z/g\, Portugalete\, Bizkaia\, 078\, España
CATEGORIES:Hitzaldia
ATTACH;FMTTYPE=image/jpeg:https://herrikultura.eus/wp-content/uploads/2026/04/63.jpg
END:VEVENT
BEGIN:VEVENT
DTSTART;VALUE=DATE:20260528
DTEND;VALUE=DATE:20260529
DTSTAMP:20260424T051814
CREATED:20260421T220237Z
LAST-MODIFIED:20260421T220237Z
UID:199791-1779926400-1780012799@herrikultura.eus
SUMMARY:Liburu-aurkezpena: "Palestina. La existencia negada" (Teresa Aranguren)
DESCRIPTION:Palestina. La existencia negada liburuaren aurkezpena Teresa Aranguren kazetariaren eskutik. Nire istorioa kontatzeko erakusketarekin lotutako jarduera. \nGatazka-guneetako berriemaile beteranoak laburpen zehatza eta argia eskaintzen du\, Palestinaren auziak Palestinaren genozidioa nola ekarri duen azaltzeko. Egilearekin batera\, Palestinako herriaren historiara eta eguneroko errealitatera hurbiltzeko\, giza eskubideei buruz hausnartzeko eta publikoarekin elkarrizketarako gune bat irekitzeko topaketa.
URL:https://herrikultura.eus/event/liburu-aurkezpena-palestina-la-existencia-negada-teresa-aranguren/
LOCATION:Aiete Kultur Etxea + Okendo Kultur Etxea\, Donostia / San Sebastián\, Gipuzkoa\, 069\, España
CATEGORIES:Hitzaldia
ATTACH;FMTTYPE=image/jpeg:https://herrikultura.eus/wp-content/uploads/2026/04/17-7.jpg
END:VEVENT
BEGIN:VEVENT
DTSTART;VALUE=DATE:20260528
DTEND;VALUE=DATE:20260529
DTSTAMP:20260424T051814
CREATED:20260421T220238Z
LAST-MODIFIED:20260421T220238Z
UID:199795-1779926400-1780012799@herrikultura.eus
SUMMARY:"La vida de la escritora Irène Némirovsky"
DESCRIPTION:Mathilde Tremblais unibertsitateko irakaslearen hitzaldia Irène Némirovsky idazleari buruz\, Literatura jazarriak zikloaren barruan. Hitzaldiaren izenburu osoa: La vida de la escritora Irène Némirovsky\, el destino novelesco de una mujer perseguida. \nIrène Némirovsky (1903-1942) Ukrainan familia judu burges batean jaiotako idazlea da; 1919an Parisen finkatu zen familia\, Errusiako iraultzatik ihes egin ondoren. Frantziako hiriburuan\, Irène Némirovskyk bere idazle ibilbidea garatuko du. Bere lanen artean\, David Golder (1929)\, Le Bal (1930)\, Les Mouches d ‘automne (1931) eleberria eta Le Vin de solitude (1935) kontakizun autobiografikoa nabarmentzen dira. Auschwitzera deportatu zuten 1942ko uztailean\, eta han hil zen hurrengo hilabetean. Hil osteko Suite française lanak arrakasta handia izan zuen nazioartean. \nUniversité Tours-eko François Rabelais-en ikasketak egin ondoren\, Mathilde Tremblaisek Literatura eta Literatura Zientzia izeneko doktorego-programa egin zuen EHUn\, eta unibertsitate horretan defendatu zuen bere nazioarteko tesia. Gaur egun\, Nafarroako Unibertsitate Publikoko Giza eta Hezkuntza Zientzien Departamentuko Frantses Filologia plaza betetzen du. Mathilde Tremblais-ek 30 bat testu zientifiko idatzi ditu. Bere artikulu batzuk Georges Batailleren literatur obrari buruz dira. Bere ikerketak literatura intimoen ereduen\, niaren idazkeren\, disidentziaren ahots femeninoen eta genero-azterketen inguruan ere zentratzen dira.
URL:https://herrikultura.eus/event/la-vida-de-la-escritora-irene-nemirovsky/
LOCATION:Liburutegi Nagusia – Ekitaldi aretoa (San Jerónimo)\, San Jerónimo\, z/g\, Donostia / San Sebastián\, Gipuzkoa\, 069\, España
CATEGORIES:Hitzaldia
ATTACH;FMTTYPE=image/jpeg:https://herrikultura.eus/wp-content/uploads/2026/04/9-2.jpg
END:VEVENT
END:VCALENDAR