BEGIN:VCALENDAR
VERSION:2.0
PRODID:-//HerriKultura - ECPv6.2.3.1//NONSGML v1.0//EN
CALSCALE:GREGORIAN
METHOD:PUBLISH
X-WR-CALNAME:HerriKultura
X-ORIGINAL-URL:https://herrikultura.eus
X-WR-CALDESC:Eventos para HerriKultura
REFRESH-INTERVAL;VALUE=DURATION:PT1H
X-Robots-Tag:noindex
X-PUBLISHED-TTL:PT1H
BEGIN:VTIMEZONE
TZID:Europe/Madrid
BEGIN:DAYLIGHT
TZOFFSETFROM:+0100
TZOFFSETTO:+0200
TZNAME:CEST
DTSTART:20260329T010000
END:DAYLIGHT
BEGIN:STANDARD
TZOFFSETFROM:+0200
TZOFFSETTO:+0100
TZNAME:CET
DTSTART:20261025T010000
END:STANDARD
END:VTIMEZONE
BEGIN:VEVENT
DTSTART;VALUE=DATE:20260604
DTEND;VALUE=DATE:20260605
DTSTAMP:20260424T064309
CREATED:20251017T220159Z
LAST-MODIFIED:20251017T220159Z
UID:160252-1780531200-1780617599@herrikultura.eus
SUMMARY:Ikerlan feministen lanen aurkezpena
DESCRIPTION:18:30 \n Emakumeen Etxea \n Publiko guztiak \n\n \n\nIkerlanen gaia proposatzailearen/proposatzaileen interesen araberakoa izango da; betiere\, ahalduntze feministako esperientziei erreparatzen badie edota Gasteizko emakumeen nahiz genero-joera\, -adierazpen eta -identitate ez-normatiboak dauzkaten pertsonen eskubideen aldeko gizarte-eraldaketari ekarpena egiten badio. \nLehiaketan\, ikerketa-lanean aritzeko bidelaguntza eskainiko da\, akademiaren edo ikerketaren eremuan lan egiten ez dutenek ere egitasmoan parte hartu ahal izan dezaten.Ikerlanen proposamenak 2025eko irailaren 30era arte aurkeztu ahalko dira. \nBi proposamen hautatuko dira\, eta bakoitzak 5.000 euro jasoko ditu. \nOinarriak hemen: v-g.eus/ikerkuntzafeminista \n\n\n\nSarbide mota\n\n\nSarrera doan
URL:https://herrikultura.eus/event/ikerlan-feministen-lanen-aurkezpena/
LOCATION:Irungo Emakumeen Etxea – Istillaga\, 8\, Irun\, Gipuzkoa\, 045\, España
CATEGORIES:Hitzaldia
END:VEVENT
BEGIN:VEVENT
DTSTART;VALUE=DATE:20260604
DTEND;VALUE=DATE:20260605
DTSTAMP:20260424T064309
CREATED:20260409T220352Z
LAST-MODIFIED:20260409T220352Z
UID:197704-1780531200-1780617599@herrikultura.eus
SUMMARY:"Feminismo y globalización: imaginarios\, debates y agendas"
DESCRIPTION:Saio hau feminismo garaikidearen eztabaida nagusietako batzuen inguruko hausnarketarako gune izango da. Bertan\, berdintasunaren aldeko borrokek gaur egun dituzten erronka politiko eta intelektualak jorratzen dituzten duela gutxiko bi liburu aurkeztuko dira\, filosofia eta teoria feminista oinarri dutenak. \nBatetik\, Feminismo e imaginarios de la globalización. Apuntes para una agenda feminista global\, non Celia Amorós filosofo ospetsuak bere buruari galdetzen dion: nola pentsatu emakumeei globalizazioaren aroan? Zein da imajinario patriarkala garai globalizatu honetan? Liburu honen ekarpen handienetako bat Ciudad Juarezeko krimenen analisien testuinguruan dagoen imaginario libertinoaren kontzeptualizazioa da. \nBestalde\, Fuego amigo. ¿Nuevos discursos en favor del feminismo?\, Luisa Posada Kubissarena\, feminismoaren barruan gaur egun dauden eztabaida batzuk eta diskurtso berriak kritikoki aztertzen dituen saiakera\, bere defentsaren izenean mugimenduan tentsio teorikoak eta politikoak sortzen dituena. \nParte hartuko dute: \n\nMaría Luisa Posada Kubissa filosofo\, idazle eta teorialari feminista da. Madrilgo Complutense Unibertsitateko Filosofia fakultateko Ezagutzaren Teoria\, Estetika eta Pentsamenduaren Historiako irakasle titularra.\nRosa Cobo Bedia teoriko\, ikertzaile eta idazle feminista da. Coruñako Unibertsitateko Genero Soziologiako irakasle titularra da\, eta unibertsitate bereko Genero eta Feminismoen Ikasketa Zentroko zuzendaria.\n\n\nOharra: \n\nSaio hau streaming bidez emango da
URL:https://herrikultura.eus/event/feminismo-y-globalizacion-imaginarios-debates-y-agendas/
LOCATION:San Telmo Museoa – (Eliza)\, Zuloaga Enparantza\, 1\, Donostia / San Sebastián\, Gipuzkoa\, 069\, España
CATEGORIES:Hitzaldia
ATTACH;FMTTYPE=image/jpeg:https://herrikultura.eus/wp-content/uploads/2026/04/Hitzaldia-1.jpg
END:VEVENT
END:VCALENDAR