BEGIN:VCALENDAR
VERSION:2.0
PRODID:-//HerriKultura - ECPv6.2.3.1//NONSGML v1.0//EN
CALSCALE:GREGORIAN
METHOD:PUBLISH
X-WR-CALNAME:HerriKultura
X-ORIGINAL-URL:https://herrikultura.eus
X-WR-CALDESC:Eventos para HerriKultura
REFRESH-INTERVAL;VALUE=DURATION:PT1H
X-Robots-Tag:noindex
X-PUBLISHED-TTL:PT1H
BEGIN:VTIMEZONE
TZID:Europe/Madrid
BEGIN:DAYLIGHT
TZOFFSETFROM:+0100
TZOFFSETTO:+0200
TZNAME:CEST
DTSTART:20260329T010000
END:DAYLIGHT
BEGIN:STANDARD
TZOFFSETFROM:+0200
TZOFFSETTO:+0100
TZNAME:CET
DTSTART:20261025T010000
END:STANDARD
END:VTIMEZONE
BEGIN:VEVENT
DTSTART;VALUE=DATE:20260606
DTEND;VALUE=DATE:20260607
DTSTAMP:20260424T064309
CREATED:20260309T230255Z
LAST-MODIFIED:20260309T230255Z
UID:191611-1780704000-1780790399@herrikultura.eus
SUMMARY:BTZ irakur kluba
DESCRIPTION:BTZ irakur kluba hilabetero biltzen da Biarritzeko mediatekan. Partehartzaile bakoitzak hilabetean zehar euskaraz irakurri duena aurkez dezake\, modu librean. Baina ez da beharrezkoa irakurri den liburu batekin etortzea. Besteak entzuteko ere balio du hitzorduak. \nTfnoa: 05 59 22 28 86
URL:https://herrikultura.eus/event/btz-irakur-kluba-3/
LOCATION:AZ Azkuna Zentroa – (Mediateka BBK: TK202)\, Arriquibar Plaza\, 4\, Bilbao\, Bizkaia\, 020\, España
CATEGORIES:Hitzaldia
ATTACH;FMTTYPE=image/jpeg:https://herrikultura.eus/wp-content/uploads/2026/03/Liburuak-5.jpg
END:VEVENT
BEGIN:VEVENT
DTSTART;VALUE=DATE:20260606
DTEND;VALUE=DATE:20260607
DTSTAMP:20260424T064309
CREATED:20260326T230240Z
LAST-MODIFIED:20260326T230240Z
UID:195031-1780704000-1780790399@herrikultura.eus
SUMMARY:"La Euskal Herria insólita"
DESCRIPTION:Euskal Herriko paisaiak naturak eta giza historiak aztarna bereziak utzi dituzten txokoak ezkutatzen ditu. Kobazuloek\, zuhaitz monumentalek\, iturriek\, ermitek edo paraje zehatzek antzinako erritualen\, sinesmenen eta mundua ulertzeko moduen arrastoak gordetzen dituzte\, ingurune naturalari estu lotuta.\n\n\nHitzaldi honek leku ezohiko horietako batzuk zeharkatzen ditu\, eta azaltzen du zerk egiten dituen bakarrak\, non kokatzen diren eta zein istorio edo kondairak laguntzen dituzten. Natura\, oroimena eta kultura elkartzen diren gertuko geografian barrena bidaia\, lurraldea beste begi batzuekin begiratzera gonbidatuz. \nHizlaria: Asociación Sociocultural Hojarasca \n\n\nSarrera librea lekuak bete arte.
URL:https://herrikultura.eus/event/la-euskal-herria-insolita/
LOCATION:Ataria – Salburuko hezeguneen interpretazio zentroa – (Ataria Kafetegia)\, Paseo de la biosfera\, 4\, Vitoria-Gasteiz\, Álava\, 059\, España
CATEGORIES:Hitzaldia
ATTACH;FMTTYPE=image/jpeg:https://herrikultura.eus/wp-content/uploads/2026/03/Hitzaldia2-2.jpg
END:VEVENT
END:VCALENDAR