BEGIN:VCALENDAR
VERSION:2.0
PRODID:-//HerriKultura - ECPv6.2.3.1//NONSGML v1.0//EN
CALSCALE:GREGORIAN
METHOD:PUBLISH
X-WR-CALNAME:HerriKultura
X-ORIGINAL-URL:https://herrikultura.eus
X-WR-CALDESC:Eventos para HerriKultura
REFRESH-INTERVAL;VALUE=DURATION:PT1H
X-Robots-Tag:noindex
X-PUBLISHED-TTL:PT1H
BEGIN:VTIMEZONE
TZID:Europe/Madrid
BEGIN:DAYLIGHT
TZOFFSETFROM:+0100
TZOFFSETTO:+0200
TZNAME:CEST
DTSTART:20260329T010000
END:DAYLIGHT
BEGIN:STANDARD
TZOFFSETFROM:+0200
TZOFFSETTO:+0100
TZNAME:CET
DTSTART:20261025T010000
END:STANDARD
END:VTIMEZONE
BEGIN:VEVENT
DTSTART;VALUE=DATE:20260607
DTEND;VALUE=DATE:20260608
DTSTAMP:20260424T110218
CREATED:20260322T230233Z
LAST-MODIFIED:20260322T230233Z
UID:194220-1780790400-1780876799@herrikultura.eus
SUMMARY:"Sanseestabien" durante la Guerra Civil
DESCRIPTION:Hitzaldi ziklo honetan hainbat adituk historiari eta arteari buruzko gaietan sakontzen dute museoko bildumaren pieza bat abiapuntu hartuta. Oraingoan\, Pedro Barrusok «Sanseestabien» Del veraneo republicano al veraneo franquista (1936-1939) hitzaldia eskainiko du. \nMuseoan ikusgai dagoen Vértice aldizkaritik abiatuta garatuko da hitzaldia. 1936ko uztaila eta iraila bitartean\, 3 hilabeteko interludioa izan ondoren – odoltsua izan arren –\, Donostiak hiri-bainuetxe izaera berreskuratuko du\, eta ez du ia etenik izango errepublika garaiko udararen eta une hartatik gatazka zibiletik garaile aterako den erregimenaren artean.  \nSaio honetan hizketagai izango den pieza: Vértice. Revista Nacional de la Falange\, San Sebastián\, 1937
URL:https://herrikultura.eus/event/sanseestabien-durante-la-guerra-civil/
LOCATION:San Telmo Museoa – (Eliza)\, Zuloaga Enparantza\, 1\, Donostia / San Sebastián\, Gipuzkoa\, 069\, España
CATEGORIES:Hitzaldia
ATTACH;FMTTYPE=image/jpeg:https://herrikultura.eus/wp-content/uploads/2026/03/1.jpg
END:VEVENT
END:VCALENDAR