BEGIN:VCALENDAR
VERSION:2.0
PRODID:-//HerriKultura - ECPv6.2.3.1//NONSGML v1.0//EN
CALSCALE:GREGORIAN
METHOD:PUBLISH
X-WR-CALNAME:HerriKultura
X-ORIGINAL-URL:https://herrikultura.eus
X-WR-CALDESC:Eventos para HerriKultura
REFRESH-INTERVAL;VALUE=DURATION:PT1H
X-Robots-Tag:noindex
X-PUBLISHED-TTL:PT1H
BEGIN:VTIMEZONE
TZID:Europe/Madrid
BEGIN:DAYLIGHT
TZOFFSETFROM:+0100
TZOFFSETTO:+0200
TZNAME:CEST
DTSTART:20260329T010000
END:DAYLIGHT
BEGIN:STANDARD
TZOFFSETFROM:+0200
TZOFFSETTO:+0100
TZNAME:CET
DTSTART:20261025T010000
END:STANDARD
END:VTIMEZONE
BEGIN:VEVENT
DTSTART;VALUE=DATE:20260610
DTEND;VALUE=DATE:20260611
DTSTAMP:20260424T064320
CREATED:20251212T230234Z
LAST-MODIFIED:20251212T230234Z
UID:174299-1781049600-1781135999@herrikultura.eus
SUMMARY:"IRAKURKETA LABANA BAT DA" irakurketa-kluba: "Ulu egiteko poemak"
DESCRIPTION:Dinamizatzailea: LEIRE BILBAO BARRUETABEÑA\n \n\nIrakurketak plazeretik du batez ere. Baina batzuetan irakurketa labana bat da. Labana distiratsu arriskutsua\, plazer zorrotzetik duena. Begirada zorrozten du mingainarekin batera. Eta kontuz labanaren ahoarekin belarrira xuxurlatzen hasten bazaizu\, ea ze tentazio pizten dizun. \nIrakurketa labana bat da. Ez baitago labanaren ahoan norbere burua islatuta ikustea baino gauza kitzikagarriagorik. \nLaztan literario bat jaso nahi baduzu\, batzuetan labana\, beste batzuetan kotoia\, hauxe da zuretzako leku egokia. Euskaraz sortutako eta euskarara itzulitako literatura aztertzen dugu hemen: narratiba\, saiakera\, komikia\, poesia\, literatura unibertsala… Utzi ezazu euskarazko letra zorrotzek laztan zaitzaten. Arriskatu eta sar zaitez literatura orrien barnean. \nHilean behin\, asteazkenetan: \n\nURR 8  Iturria | Unai Elorriaga\n\n\nAZA 12 Detaile xume bat | Adania Shibili ABE\n\n\nABE 10 Hetero | Uxue Alberdi\n\n\nURT 14  Idazketa labana bat da | Annie Ernaux\n\n\nOTS 11 Fun home | Alison Bechdel\n \nMAR 11 Trilogia | Jon Fosse\n\n\nAPI 22  Lur gainean\, itzal azpian | Leire Milikua\n\n\nMAI 13 Amorante frantsesa | Miren Agur Meab\n\n\nEKA 10 Ulu egiteko poemak | Harkaitz Cano
URL:https://herrikultura.eus/event/irakurketa-labana-bat-da-irakurketa-kluba-ulu-egiteko-poemak/
LOCATION:Bizenta Mogel Liburutegia (Durango)\, Komentu\, 8\, Durango\, Bizkaia\, 027\, España
CATEGORIES:Hitzaldia
ATTACH;FMTTYPE=image/jpeg:https://herrikultura.eus/wp-content/uploads/2025/12/324324-6.jpg
END:VEVENT
BEGIN:VEVENT
DTSTART;VALUE=DATE:20260610
DTEND;VALUE=DATE:20260611
DTSTAMP:20260424T064320
CREATED:20251217T230216Z
LAST-MODIFIED:20251217T230216Z
UID:175275-1781049600-1781135999@herrikultura.eus
SUMMARY:KLUBAK 2026 - KMK Liburutegiko irakurketa kluba: "Una luna"
DESCRIPTION:2025ean KLUBAK programa jarri dute martxan\, Ander Izagirreren eta Uxue Alberdiren eskutik irakurketez elkarrekin gozatzeko aukera eman duen ekimena. Horrela\, Altza zeharkatu dute Jose Bajoren begiekin\, Berbelitzen abezedarioa letreiatu dute\, Maddirekin muga gurutzatu dute eta Angela Davisen ondoan pasatako lau egunek inspirazioz bete dituzte. \nIrakurketez lagunartean gozatzen jarraitu nahi dute eta\, horregatik\, datorren urtean ere bide berdinetik jarraituko dute. Berriz ere\, Ander Izagirre izango da gaztelerazko irakurketa klubak gidatu dituenak eta Uxue Alberdik berriz euskarazkoak. Oraingo honetan urteko lehen sei hilabeteetarako programazio bat proposatzen dizuete. Nahi duzuen taldean izena eman dezakezue; euskarazkoan\, gaztelaniazkoan… edo bietan! \nSaio guztiak Liburutegiko Errege-Erregina Katolikoen kaleko egoitzan izango dira arratsaldeko 18:30etatik 20:00ak arte. Hauek dira datak eta irakurriko ditugun liburuak: \nIRAKURKETAK GAZTELERAZ (dinamizatzailea: Ander Izagirre)\n\nUrtarrilak 7: El adversario\, Emmanuel Carrère\nOtsailak 4: Gottland\, Mariusz Szczygiel\nMartxoak 18: El invencible verano de Liliana\, Cristina Rivera Garza\nApirilak 8: Los suicidas del fin del mundo\, Leila Guerriero\nMaiatzak 27: Ébano\, Ryszard Kapuscinski\nEkainak 10: Una luna\, Martín Caparrós\n\nIzen-emateak \nIRAKURKETAK EUSKARAZ (dinamizatzailea: Uxue Alberdi)\n\nUrtarrilak 21: Coca cola bat zurekin\, Beñat Sarasola\nOtsailak 25: Maitasuna eta dirua\, sexua eta heriotza\, McKenzie Wark\nMartxoak 25: Juana\, Jon Artano\nApirilak 15: Barazkijalea\, Han Kang\nMaiatzak 20: Dena zulo bera zen\, Eider Rodriguez\nEkainak 17: Idazketa labana bat da\, Annie Ernaux\n\nIzen-emateak
URL:https://herrikultura.eus/event/klubak-2026-kmk-liburutegiko-irakurketa-kluba-una-luna/
LOCATION:KMK Liburutegia – Mailegua. Errege-Erregina Katolikoen kaleko egoitza\, 16\, Donostia / San Sebastián\, Gipuzkoa\, 069\, España
CATEGORIES:Hitzaldia
ATTACH;FMTTYPE=image/jpeg:https://herrikultura.eus/wp-content/uploads/2025/12/213213-5.jpg
END:VEVENT
BEGIN:VEVENT
DTSTART;VALUE=DATE:20260610
DTEND;VALUE=DATE:20260611
DTSTAMP:20260424T064320
CREATED:20260409T220352Z
LAST-MODIFIED:20260409T220352Z
UID:197706-1781049600-1781135999@herrikultura.eus
SUMMARY:"Necesidad de cambios en el modelo de gobernanza europea"
DESCRIPTION:Europak aurrera nola eta norantz egin beharko lukeen izango dute hizpide\, borroka eginez Estatu Batuetako arauetara ez egokitzeko eta aurre eginez elkartasunik ezan eta kapitalismo suntsikorrean oinarritutako eredu estatubatuarrari. \nModeratzailea: Juanjo Álvarez \n\nOharra \n\nHitzaldi hau streaming bidez eskainiko da
URL:https://herrikultura.eus/event/necesidad-de-cambios-en-el-modelo-de-gobernanza-europea/
LOCATION:San Telmo Museoa – (Eliza)\, Zuloaga Enparantza\, 1\, Donostia / San Sebastián\, Gipuzkoa\, 069\, España
CATEGORIES:Hitzaldia
ATTACH;FMTTYPE=image/jpeg:https://herrikultura.eus/wp-content/uploads/2026/04/44-4.jpg
END:VEVENT
END:VCALENDAR