BEGIN:VCALENDAR
VERSION:2.0
PRODID:-//HerriKultura - ECPv6.2.3.1//NONSGML v1.0//EN
CALSCALE:GREGORIAN
METHOD:PUBLISH
X-ORIGINAL-URL:https://herrikultura.eus
X-WR-CALDESC:Eventos para HerriKultura
REFRESH-INTERVAL;VALUE=DURATION:PT1H
X-Robots-Tag:noindex
X-PUBLISHED-TTL:PT1H
BEGIN:VTIMEZONE
TZID:Europe/Madrid
BEGIN:DAYLIGHT
TZOFFSETFROM:+0100
TZOFFSETTO:+0200
TZNAME:CEST
DTSTART:20260329T010000
END:DAYLIGHT
BEGIN:STANDARD
TZOFFSETFROM:+0200
TZOFFSETTO:+0100
TZNAME:CET
DTSTART:20261025T010000
END:STANDARD
END:VTIMEZONE
BEGIN:VEVENT
DTSTART;VALUE=DATE:20261209
DTEND;VALUE=DATE:20261210
DTSTAMP:20260424T110833
CREATED:20251211T230222Z
LAST-MODIFIED:20251211T230222Z
UID:174053-1796774400-1796860799@herrikultura.eus
SUMMARY:Liburu-aurkezpena: "Buscando en las cenizas huellas" (Xabier Etxarri)
DESCRIPTION:Xabier Etxarri idazlearen Buscando en las cenizas huellas liburuaren aurkezpena egingo da. \nSinopsia: \n\n\n\nUn poema es una intuición\, un entrever algo que plasmas en un boceto de palabras cuya lectura provoca\, a su vez\, otra intuición en quien lo lee. \nEn esta\, que tal vez tenga nada o poco que ver con lo que vislumbra el poeta\, los indicios de una ventana aparecen vagamente definidos\, y tras ella ese mundo oculto que todos llevamos dentro\, efímero\, que sólo se presiente en momentos especiales. \nLa poesía es esa intuición\, algo difuso\, tenue\, cubierto de niebla\, que si intentas describir se va deformando. \nEstos poemas surgen de una ruralidad antigua escondida en las fisuras del tiempo\, de la soledad y sus rituales\, de la música desgarradora\, la naturaleza salvaje y serena\, los espejismos cíclicos y la nostalgia infinita. \n 
URL:https://herrikultura.eus/event/liburu-aurkezpena-buscando-en-las-cenizas-huellas-xabier-etxarri/
LOCATION:Katakrak Liburuak – (Arana Kalea\, 34)\, Kale Nagusia\, 54\, Pamplona/Iruña\, Navarra\, 201\, España
CATEGORIES:Hitzaldia
ATTACH;FMTTYPE=image/jpeg:https://herrikultura.eus/wp-content/uploads/2025/12/Liburuak-1.jpg
END:VEVENT
END:VCALENDAR