BEGIN:VCALENDAR
VERSION:2.0
PRODID:-//HerriKultura - ECPv6.2.3.1//NONSGML v1.0//EN
CALSCALE:GREGORIAN
METHOD:PUBLISH
X-ORIGINAL-URL:https://herrikultura.eus
X-WR-CALDESC:Eventos para HerriKultura
REFRESH-INTERVAL;VALUE=DURATION:PT1H
X-Robots-Tag:noindex
X-PUBLISHED-TTL:PT1H
BEGIN:VTIMEZONE
TZID:Europe/Madrid
BEGIN:DAYLIGHT
TZOFFSETFROM:+0100
TZOFFSETTO:+0200
TZNAME:CEST
DTSTART:20260329T010000
END:DAYLIGHT
BEGIN:STANDARD
TZOFFSETFROM:+0200
TZOFFSETTO:+0100
TZNAME:CET
DTSTART:20261025T010000
END:STANDARD
END:VTIMEZONE
BEGIN:VEVENT
DTSTART;VALUE=DATE:20261218
DTEND;VALUE=DATE:20261219
DTSTAMP:20260423T045453
CREATED:20251224T230232Z
LAST-MODIFIED:20251224T230232Z
UID:176734-1797552000-1797638399@herrikultura.eus
SUMMARY:"Jone\, batzuetan" (Proiekzioa + solasaldia Sara Fantovarekin)
DESCRIPTION:Jone 20 urteko neska bat da. Bilboko Aste Nagusian zehar lehen aldiz maitemintzen da. Bitartean\, etxean\, aurre egin behar dio bere aitaren gaixotasunaren aurrerapenari.\n\n\n\nZuzendaritza: Sara Fantova\nGidoia: Sara Fantova\, Núria Dunjó\, Nuria Martín\nEkoizpen Exekutiboa: Carmen Garrido\, Judit Navarro\, Kevin Iglesias\nArgazkilaritza: Andreu Ortoll\nMusika: Pablo Seijo\nArte Zuzendaritza: Erik Rodriguez\nMuntaia: Oriol Milán\nJantziak: Isis Velasco\nEkoizpen Zuzendaritza: Daniela Combe\nAntzezleak: Olaia Aguayo\, Josean Bengoetxea\, Elorri Arrizabalaga\, Ainhoa Artetxe\, Elorri Arrizabalaga\, Otule Garai\, Irantzu Pérez de Anuzita\, Klaudia Erkiaga\nIraupena: 90 minutu\n\n\n 
URL:https://herrikultura.eus/event/jone-batzuetan-proiekzioa-solasaldia-sara-fantovarekin/
LOCATION:Uhagon Kulturgunea – (Arkupe aurrean)\, Xemein Etorbidea\, 10\, Markina-Xemein\, Bizkaia\, 060\, España
CATEGORIES:Ikus-entzunezko emanaldia
ATTACH;FMTTYPE=image/jpeg:https://herrikultura.eus/wp-content/uploads/2025/12/28-16.jpg
END:VEVENT
END:VCALENDAR