BEGIN:VCALENDAR
VERSION:2.0
PRODID:-//HerriKultura - ECPv6.2.3.1//NONSGML v1.0//EN
CALSCALE:GREGORIAN
METHOD:PUBLISH
X-ORIGINAL-URL:https://herrikultura.eus
X-WR-CALDESC:Eventos para HerriKultura
REFRESH-INTERVAL;VALUE=DURATION:PT1H
X-Robots-Tag:noindex
X-PUBLISHED-TTL:PT1H
BEGIN:VTIMEZONE
TZID:Europe/Madrid
BEGIN:DAYLIGHT
TZOFFSETFROM:+0100
TZOFFSETTO:+0200
TZNAME:CEST
DTSTART:20260329T010000
END:DAYLIGHT
BEGIN:STANDARD
TZOFFSETFROM:+0200
TZOFFSETTO:+0100
TZNAME:CET
DTSTART:20261025T010000
END:STANDARD
END:VTIMEZONE
BEGIN:VEVENT
DTSTART;VALUE=DATE:20260415
DTEND;VALUE=DATE:20260628
DTSTAMP:20260423T003342
CREATED:20260409T220353Z
LAST-MODIFIED:20260409T220353Z
UID:197710-1776211200-1782604799@herrikultura.eus
SUMMARY:Euskadiko Filmategia: "Euskal zinema 2026" zikloa
DESCRIPTION:Euskadiko Filmategiak ondarea eta emakumeen zinemagintza landuko ditu datozen hiru hilabeteetan\, Gasteizen\, Donostian eta Bilbon egingo den Euskal zinema zikloan. Azken bosturtekoan euskal emakume zinemagileen lanei argia eman ondotik\, Filmategiak zabaldu egingo du fokua aurten\, eta 16 film proiektatuko ditu hamar saiotan: gure zinematografiaren historia nolabait markatu duten izenburuak errepasatuko ditu. \nZikloa apirilaren 15ean (asteazkena) hasiko da Gasteizen. Apirilean\, maiatzean eta ekainean\, emakumeek zuzenduriko pelikulak ikusteko aukera izango da Artium Museoan\, Bizkaia Aretoan eta Tabakaleran. Ikusgai izango diren lanen artean\, honako hauek: Yoyes (Helena Taberna\, 2000)\, euskal zinemagintzako erreferentzia diren emakume zuzendarietako baten lehenbiziko lana; Hirugarren koadernoa (Lur Olaizola\, 2022)\, Yoyes ETAko militantearen memoria berreskuratzeko lana\, Ana Torrenten ahotsean kontatua; Urak aske (Bego Zubia Gallastegi\, 2021)\, Artikutzako presa suntsitzeak ekarritako leheneratzearen berri ematen duen filma; eta La capitana Alegría / Pour don Carlos (Musidora / Jaime de Lasuén\, 1921)\, ziurrenik Euskadin eta euskal produkzioarekin filmatutako lehenbiziko fikziozko lana\, Musidora garai hartako emakumezko antzezle frantziarren mitoak Jaime de Lasuén aristokrata karlistarekin batera zuzendua. \n(H)emen Ikus-entzunezko eta arte eszenikoetako Euskal Herriko emakume profesionalen elkartearen hamargarren urteurrena ospatzeko\, euskal zinemagintzako lan aitzindari bat proiektatuko da: Irrintzi (Mirentxu Loyarte\, 1978)\, baita elkartearen sortzaileetako batek film horri buruz eginiko berrikuspena ere: Irrintziaren oihartzunak (Iratxe Fresneda\, 2016). \nOndarea da\, berebat\, programako gainerako lanak lotzen dituen ardatza\, eta\, bereziki\, Gerra Zibilari eskainitako saioa\, Euskadiko garai hartako gobernuaren Propaganda Atalak ekoitzitako lau filmek osatua: Entierro del benemérito sacerdote vasco José María de Korta y Uribarren\, muerto en el frente de Asturias (1937)\, Semana Santa en Bilbao (1937)\, Guernika (Nemesio Sobrevila\, 1937) eta Elai-Alai (Nemesio Sobrevila\, 1938). \nEra berean\, Gure Sor Lekuaren bila (2015) lana ere proiektatuko da. Haren bidez\, ziurrenik euskaraz erabat eginiko lehenbiziko dokumentalaren historia osatu du Josu Martinezek. Dokumental hura Hazparnen estreinatu zuten 1956an. \nKoldo Almandozek eta Gorka Bilbaok ere memoria-ariketa bat egiten dute: Itzalak argitzen (2026) lanean\, 80ko hamarkadaren erdialdean produzitutako lau film ertain zaharberritzeko prozesua dokumentatu dute. Iaz zaharberrituak izan ziren Hamaseigarrenean aidanez (Anjel Lertxundi\, 1985)\, Zergatik panpox (Xabier Elorriaga\, 1985)\, Ehun metro (Alfonso Ungría\, 1985) eta Oraingoz izen gabe (José Julián Bakedano\, 1986)\, Eusko Jaurlaritzarekin eta EITBrekin lankidetzan. Lan horren emaitza gisa sortua da film hori -EITBren ekoizpen propio bat-\, eta lehenbizikoz emango dute zinema-aretoetan. \nEuskadiko Filmategiak bere garaiko euskal film anbiziotsuenetako bat ere berreskuratuko du: Fuego eterno (1985). José Ángel Rebolledok zuzendua eta Imanol Uribek ekoitzia da\, eta Javier Aguirresaroberen argazkia du. Musika Alberto Iglesiasena da\, Gerardo Vera izan zen zuzendari artistikoa\, eta antzezleak\, berriz\, Ángela Molina eta Imanol Arias. \nKomediak ere izango du tokirik zikloan\, Agur Etxebeste! filmarekin (Asier Altuna / Telmo Esnal\, 2019)\, Donostian Elena Iruretak aurkeztuko du. Ildo horretan bertan\, Un novio de mierda film laburra (Borja Cobeaga\, 2010) emango da\, baita Pagafantas ere (Borja Cobeaga\, 2009)\, azken hori\, hain justu\, euskal komediaren “gurasoetako” baten lehen film luzea. \nSarrerak erosteko\, Artium Museoaren\, Tabakaleraren eta Arte Ederren Bilboko Museoaren leihatiletara edo webguneetara jo daiteke. \n\n«Euskal zinema 2026» zikloa (pdf)
URL:https://herrikultura.eus/event/euskadiko-filmategia-euskal-zinema-2026-zikloa/
LOCATION:Tolosa\, Donostia\, Bilbo eta\, Vitoria-Gasteiz\, Álava\, 059\, España
CATEGORIES:Ikus-entzunezko emanaldia
ATTACH;FMTTYPE=image/jpeg:https://herrikultura.eus/wp-content/uploads/2026/04/32423-1.jpg
END:VEVENT
BEGIN:VEVENT
DTSTART;VALUE=DATE:20260423
DTEND;VALUE=DATE:20260424
DTSTAMP:20260423T003342
CREATED:20260302T230300Z
LAST-MODIFIED:20260302T230300Z
UID:190217-1776902400-1776988799@herrikultura.eus
SUMMARY:Mendi Tour 2026 (Agurain)
DESCRIPTION:Mendi Tourra mendia\, abentura eta natura gaien inguruko zinema ziklo ibiltaria da. Urte osoko ibilbidea osatzen du BBK Mendi Film Bilbao-Bizkaia zinemaldiaren azken edizioko pelikula onenekin. \nIazko BBK Mendi Film Bilbao-Bizkaiko film onenek osatuko dituzte karteldegiak\, eta\, beraz\, ikusgarritasuna eta kalitate goreneko zinema ziurtatuta daude\, baita Mendi Toureko ohiko ikusleen artean sortzen den giro ona ere. \n\nMendi Tour 2026 (Eibar): egitaraua (png)
URL:https://herrikultura.eus/event/mendi-tour-2026-agurain/
LOCATION:Harresi Aretoa – (Gorbeia Zinemak)\, Zapatari kalea\, 15\, Agurain/Salvatierra\, Álava\, 051\, España
CATEGORIES:Ikus-entzunezko emanaldia
ATTACH;FMTTYPE=image/jpeg:https://herrikultura.eus/wp-content/uploads/2026/03/18-1.jpg
END:VEVENT
BEGIN:VEVENT
DTSTART;VALUE=DATE:20260423
DTEND;VALUE=DATE:20260424
DTSTAMP:20260423T003342
CREATED:20260324T230237Z
LAST-MODIFIED:20260324T230237Z
UID:194629-1776902400-1776988799@herrikultura.eus
SUMMARY:Dokumentala eta solasaldia: "Tras la estela de Shakleton"
DESCRIPTION:Juan Diego Amadorrek zuzendutako Tras la estela de Shakleton dokumentalaren proiekzioa Mendia eta Naturaren zikloaren baitan. Zuzendariak solasaldian hartuko du parte. \n1914an\, Sir Ernest Shackletonek esploratzaile klasikoek artean konpondu behar zuten arazo bat konpondu nahi izan zuen: Antartikako zeharkaldi integrala. Amerikarrek ipar polora iristea lortu zuten eta norvegiarrek hego polora\, beraz ingelesek azken aukera hau zuten historia egiteko. \nHala ere\, bere itsasontzia Antartikan harrapatuta geratu zen eta azkenean hondoratu egin zen\, baina porrot lotsagarria izan zitekeena\, sekula ezagutu gabeko biziraupen eta lidergo istorioetako bat bihurtu zen. \nJuan Diego Amadorrek\, beste lau abenturazalerekin batera\, Facklands uharteen eta Hegoaldeko Georgien arteko 1.300 kilometroak belaontzian nabigatu zituen\, uharte hori oinez zeharkatzeko\, Shackletonek bere tripulazioa salbatzeko egin zuen zeharkaldiaren antzera.
URL:https://herrikultura.eus/event/dokumentala-eta-solasaldia-tras-la-estela-de-shakleton/
LOCATION:Aiete Kultur Etxea + Okendo Kultur Etxea\, Donostia / San Sebastián\, Gipuzkoa\, 069\, España
CATEGORIES:Ikus-entzunezko emanaldia
ATTACH;FMTTYPE=image/jpeg:https://herrikultura.eus/wp-content/uploads/2026/03/4-8.jpg
END:VEVENT
BEGIN:VEVENT
DTSTART;VALUE=DATE:20260423
DTEND;VALUE=DATE:20260424
DTSTAMP:20260423T003342
CREATED:20260330T220207Z
LAST-MODIFIED:20260330T220207Z
UID:195760-1776902400-1776988799@herrikultura.eus
SUMMARY:"L´ amnésie du sable"
DESCRIPTION:Ane eta Rafa Zulaikak zuzendutako L ‘amnésie du sable dokumentalaren proiekzioa. Proiekzioaren ondoren solasaldia izango da.  \nHonela aurkezten dute egileek: «Il était une fois les langues… Hondarrez egindako hiri batean bizi diren hizkuntzak\, hiri kosmopolita eta modernoa. Donostiarrek frantses hizkuntzarekin eta kulturarekin duten harremana iraganeko kontua baino ez da… edo etorkizun ireki eta aberasgarriago baterako tresna? 30 minutu\, testigantzak eta irakurketak gure hiriko olatuen gainean surfean. Ane eta Rafa Zulaikaren dokumentala. Donostian egina\, frantsesez\, donostiarrek».
URL:https://herrikultura.eus/event/l-amnesie-du-sable/
LOCATION:Ernest Lluch Kultur Etxea – (Ernest Lluch K.E.)\, DK. Anoeta pasealekua\, 7\, Donostia / San Sebastián\, Gipuzkoa\, 069\, España
CATEGORIES:Ikus-entzunezko emanaldia
ATTACH;FMTTYPE=image/jpeg:https://herrikultura.eus/wp-content/uploads/2026/03/45-2.jpg
END:VEVENT
BEGIN:VEVENT
DTSTART;VALUE=DATE:20260423
DTEND;VALUE=DATE:20260424
DTSTAMP:20260423T003342
CREATED:20260409T220314Z
LAST-MODIFIED:20260409T220314Z
UID:197591-1776902400-1776988799@herrikultura.eus
SUMMARY:Opera zineman: "Turandot" (Getxo)
DESCRIPTION:Pucciniren opera liluragarria\, printzesa gupidagabe bati eta haren ezkongai misteriotsuari buruzkoa. Ekoizpen liluragarri batek bizitza ematen dio maitasun eta mendeku opera honi\, Nessun dorma aria ospetsua barne.
URL:https://herrikultura.eus/event/opera-zineman-turandot-getxo/
LOCATION:Getxo Zinemak\, Getxo\, Bizkaia\, 044\, España
CATEGORIES:Ikus-entzunezko emanaldia
ATTACH;FMTTYPE=image/jpeg:https://herrikultura.eus/wp-content/uploads/2026/04/43-2.jpg
END:VEVENT
BEGIN:VEVENT
DTSTART;VALUE=DATE:20260423
DTEND;VALUE=DATE:20260424
DTSTAMP:20260423T003342
CREATED:20260409T220327Z
LAST-MODIFIED:20260409T220327Z
UID:197636-1776902400-1776988799@herrikultura.eus
SUMMARY:Familientzako Zineskola: "GRAN TORINO"
DESCRIPTION:Walt Kowalski (Clint Eastwood)\, Koreako gerrako beteranoa (1950-1953)\, duela gutxi alargundu den automobil sektoreko langile erretiratua da. Bere altxorrik preziatuena zaintzea da bere pasiorik handiena: 1972ko Gran Torino auto bat. Gizon zurruna eta kaskagogorra da\, eta nekeza egiten zaio inguruan gertatzen diren aldaketak barneratzea\, batez ere etorkin asiar ugari bere auzora iristen direnean. Hala ere\, zirkulantzien ondorioz\, bere ideiak birplanteatu beharko ditu.
URL:https://herrikultura.eus/event/familientzako-zineskola-gran-torino/
LOCATION:Odeon Multicines Ballonti\, Av. Ballonti\, 1\, Portugalete\, Bizkaia\, 078\, España
CATEGORIES:Ikus-entzunezko emanaldia
ATTACH;FMTTYPE=image/jpeg:https://herrikultura.eus/wp-content/uploads/2026/04/57-2.jpg
END:VEVENT
BEGIN:VEVENT
DTSTART;VALUE=DATE:20260423
DTEND;VALUE=DATE:20260424
DTSTAMP:20260423T003342
CREATED:20260422T220240Z
LAST-MODIFIED:20260422T220240Z
UID:200039-1776902400-1776988799@herrikultura.eus
SUMMARY:"Karlistaden kronika 1872-1876"
DESCRIPTION:‘Karlistaden kronika 1872-1876’ filmaren proiekzioa.TRAILERRAANTOLATZAILEA: Trikuharri kultur elkartea \n\nIzena: Karlistaden kronika 1872-1876Urtea: 1988Iraupena: 90 min.Lurraldea: Euskal HerriaZuzendaria: Jose Maria TuduríGidoia: Jose Maria TuduríMusika: Vicente MartinezArgazkiak: Gonzalo F. BerridiGeneroa: Drama | Guda | Historia | XIX. mendea | 20. harmakada\nSinopsia: 1922an\, Bilboko egunkari liberal baten zuzendariak eta boluntario karlista ohi batek gaztaroko garaiak ekarri zituzten gogora.Hizkuntza: Gaztelania
URL:https://herrikultura.eus/event/karlistaden-kronika-1872-1876/
LOCATION:Landetxe Kultur Aretoa – (Kulturgunea)\, Landetxe Plaza\, Oiartzun\, Gipuzkoa\, 063\, España
CATEGORIES:Ikus-entzunezko emanaldia
ATTACH;FMTTYPE=image/jpeg:https://herrikultura.eus/wp-content/uploads/2026/04/karl.jpg
END:VEVENT
END:VCALENDAR