BEGIN:VCALENDAR
VERSION:2.0
PRODID:-//HerriKultura - ECPv6.2.3.1//NONSGML v1.0//EN
CALSCALE:GREGORIAN
METHOD:PUBLISH
X-ORIGINAL-URL:https://herrikultura.eus
X-WR-CALDESC:Eventos para HerriKultura
REFRESH-INTERVAL;VALUE=DURATION:PT1H
X-Robots-Tag:noindex
X-PUBLISHED-TTL:PT1H
BEGIN:VTIMEZONE
TZID:Europe/Madrid
BEGIN:DAYLIGHT
TZOFFSETFROM:+0100
TZOFFSETTO:+0200
TZNAME:CEST
DTSTART:20260329T010000
END:DAYLIGHT
BEGIN:STANDARD
TZOFFSETFROM:+0200
TZOFFSETTO:+0100
TZNAME:CET
DTSTART:20261025T010000
END:STANDARD
END:VTIMEZONE
BEGIN:VEVENT
DTSTART;VALUE=DATE:20260415
DTEND;VALUE=DATE:20260628
DTSTAMP:20260423T003231
CREATED:20260409T220353Z
LAST-MODIFIED:20260409T220353Z
UID:197710-1776211200-1782604799@herrikultura.eus
SUMMARY:Euskadiko Filmategia: "Euskal zinema 2026" zikloa
DESCRIPTION:Euskadiko Filmategiak ondarea eta emakumeen zinemagintza landuko ditu datozen hiru hilabeteetan\, Gasteizen\, Donostian eta Bilbon egingo den Euskal zinema zikloan. Azken bosturtekoan euskal emakume zinemagileen lanei argia eman ondotik\, Filmategiak zabaldu egingo du fokua aurten\, eta 16 film proiektatuko ditu hamar saiotan: gure zinematografiaren historia nolabait markatu duten izenburuak errepasatuko ditu. \nZikloa apirilaren 15ean (asteazkena) hasiko da Gasteizen. Apirilean\, maiatzean eta ekainean\, emakumeek zuzenduriko pelikulak ikusteko aukera izango da Artium Museoan\, Bizkaia Aretoan eta Tabakaleran. Ikusgai izango diren lanen artean\, honako hauek: Yoyes (Helena Taberna\, 2000)\, euskal zinemagintzako erreferentzia diren emakume zuzendarietako baten lehenbiziko lana; Hirugarren koadernoa (Lur Olaizola\, 2022)\, Yoyes ETAko militantearen memoria berreskuratzeko lana\, Ana Torrenten ahotsean kontatua; Urak aske (Bego Zubia Gallastegi\, 2021)\, Artikutzako presa suntsitzeak ekarritako leheneratzearen berri ematen duen filma; eta La capitana Alegría / Pour don Carlos (Musidora / Jaime de Lasuén\, 1921)\, ziurrenik Euskadin eta euskal produkzioarekin filmatutako lehenbiziko fikziozko lana\, Musidora garai hartako emakumezko antzezle frantziarren mitoak Jaime de Lasuén aristokrata karlistarekin batera zuzendua. \n(H)emen Ikus-entzunezko eta arte eszenikoetako Euskal Herriko emakume profesionalen elkartearen hamargarren urteurrena ospatzeko\, euskal zinemagintzako lan aitzindari bat proiektatuko da: Irrintzi (Mirentxu Loyarte\, 1978)\, baita elkartearen sortzaileetako batek film horri buruz eginiko berrikuspena ere: Irrintziaren oihartzunak (Iratxe Fresneda\, 2016). \nOndarea da\, berebat\, programako gainerako lanak lotzen dituen ardatza\, eta\, bereziki\, Gerra Zibilari eskainitako saioa\, Euskadiko garai hartako gobernuaren Propaganda Atalak ekoitzitako lau filmek osatua: Entierro del benemérito sacerdote vasco José María de Korta y Uribarren\, muerto en el frente de Asturias (1937)\, Semana Santa en Bilbao (1937)\, Guernika (Nemesio Sobrevila\, 1937) eta Elai-Alai (Nemesio Sobrevila\, 1938). \nEra berean\, Gure Sor Lekuaren bila (2015) lana ere proiektatuko da. Haren bidez\, ziurrenik euskaraz erabat eginiko lehenbiziko dokumentalaren historia osatu du Josu Martinezek. Dokumental hura Hazparnen estreinatu zuten 1956an. \nKoldo Almandozek eta Gorka Bilbaok ere memoria-ariketa bat egiten dute: Itzalak argitzen (2026) lanean\, 80ko hamarkadaren erdialdean produzitutako lau film ertain zaharberritzeko prozesua dokumentatu dute. Iaz zaharberrituak izan ziren Hamaseigarrenean aidanez (Anjel Lertxundi\, 1985)\, Zergatik panpox (Xabier Elorriaga\, 1985)\, Ehun metro (Alfonso Ungría\, 1985) eta Oraingoz izen gabe (José Julián Bakedano\, 1986)\, Eusko Jaurlaritzarekin eta EITBrekin lankidetzan. Lan horren emaitza gisa sortua da film hori -EITBren ekoizpen propio bat-\, eta lehenbizikoz emango dute zinema-aretoetan. \nEuskadiko Filmategiak bere garaiko euskal film anbiziotsuenetako bat ere berreskuratuko du: Fuego eterno (1985). José Ángel Rebolledok zuzendua eta Imanol Uribek ekoitzia da\, eta Javier Aguirresaroberen argazkia du. Musika Alberto Iglesiasena da\, Gerardo Vera izan zen zuzendari artistikoa\, eta antzezleak\, berriz\, Ángela Molina eta Imanol Arias. \nKomediak ere izango du tokirik zikloan\, Agur Etxebeste! filmarekin (Asier Altuna / Telmo Esnal\, 2019)\, Donostian Elena Iruretak aurkeztuko du. Ildo horretan bertan\, Un novio de mierda film laburra (Borja Cobeaga\, 2010) emango da\, baita Pagafantas ere (Borja Cobeaga\, 2009)\, azken hori\, hain justu\, euskal komediaren “gurasoetako” baten lehen film luzea. \nSarrerak erosteko\, Artium Museoaren\, Tabakaleraren eta Arte Ederren Bilboko Museoaren leihatiletara edo webguneetara jo daiteke. \n\n«Euskal zinema 2026» zikloa (pdf)
URL:https://herrikultura.eus/event/euskadiko-filmategia-euskal-zinema-2026-zikloa/
LOCATION:Tolosa\, Donostia\, Bilbo eta\, Vitoria-Gasteiz\, Álava\, 059\, España
CATEGORIES:Ikus-entzunezko emanaldia
ATTACH;FMTTYPE=image/jpeg:https://herrikultura.eus/wp-content/uploads/2026/04/32423-1.jpg
END:VEVENT
BEGIN:VEVENT
DTSTART;VALUE=DATE:20260424
DTEND;VALUE=DATE:20260425
DTSTAMP:20260423T003231
CREATED:20260209T230318Z
LAST-MODIFIED:20260209T230318Z
UID:185966-1776988800-1777075199@herrikultura.eus
SUMMARY:Zine-kluba: "Faisaien irla"
DESCRIPTION:Proiekzioa eta ondorengo zine-foruma\n\n\n\n\n\n\n\n\n\n\n\n\n\n\n\n\n\nFaisaien uhartea munduko komunidade txikiena da. Urtearen erdia espainiar estatuarena da eta beste erdia frantsesarena. Bidasoa ibaiaren erdian azaleratzen da\, bi egoerak banatzen dituen muga naturala. Laida eta Sambou\, bertako bikote bat irlaren aurrean paseatzen. Bat-batean\, bi pertsona ikusten dituzte ibaia igerian zeharkatzen\, beste aldera iristen saiatzeko. Egun batzuk geroago\, hilotz bat agertu zen uhartearen subiranotasun-trukean. Nor arduratzen da?\n\n\nEuskaraz\n12 urtetik aurrera\nGeneroa: Thriller. Drama\nUrtea: 2025\nHerrialdea: Espainia\nIraupena: 99 min\nZuzendaria: Asier Urbieta\n\n\n\n\n \n 
URL:https://herrikultura.eus/event/zine-kluba-faisaien-irla/
LOCATION:Muxikebarri – Getxoko Arte\, Kultura eta Kongresuen Zentroa – (Andres Isasi Musika Eskola (Areeta))\, Basagoiti etorbidea\, 77\, Getxo\, Bizkaia\, 044\, España
CATEGORIES:Ikus-entzunezko emanaldia
ATTACH;FMTTYPE=image/jpeg:https://herrikultura.eus/wp-content/uploads/2026/02/15-7.jpg
END:VEVENT
BEGIN:VEVENT
DTSTART;VALUE=DATE:20260424
DTEND;VALUE=DATE:20260425
DTSTAMP:20260423T003231
CREATED:20260325T230249Z
LAST-MODIFIED:20260325T230249Z
UID:194828-1776988800-1777075199@herrikultura.eus
SUMMARY:Bideo-forum frantsesa: "Un monde merveilleux"
DESCRIPTION:Giulio Callegari zuzendariaren Un monde merveilleux (Frantzia) filmaren proiekzioa. \nEtorkizun hurbilegi batean\, non gizakiak roboten menpe dauden\, Max-ek\, teknologiarekiko higuina duen irakasle ohiak\, plan bat dauka: azken belaunaldiko robot bat bahitu eta piezen truke saltzea. Komediaren eta satira sozialaren arteko filma.
URL:https://herrikultura.eus/event/bideo-forum-frantsesa-un-monde-merveilleux/
LOCATION:Aiete Kultur Etxea + Okendo Kultur Etxea\, Donostia / San Sebastián\, Gipuzkoa\, 069\, España
CATEGORIES:Ikus-entzunezko emanaldia
ATTACH;FMTTYPE=image/jpeg:https://herrikultura.eus/wp-content/uploads/2026/03/26-5.jpg
END:VEVENT
BEGIN:VEVENT
DTSTART;VALUE=DATE:20260424
DTEND;VALUE=DATE:20260425
DTSTAMP:20260423T003231
CREATED:20260331T220209Z
LAST-MODIFIED:20260331T220209Z
UID:195924-1776988800-1777075199@herrikultura.eus
SUMMARY:Legazpiko Zine-Kluba: "El último vikingo"
DESCRIPTION:Anker espetxetik ateratzen da lapurreta egiteagatik ezarritako hamabost urteko zigorra bete ondoren. Lapurretako dirua bere anaia Manfredek lurperatu zuen\, eta berak bakarrik daki non dagoen. Zoritxarrez\, ordutik Manfredek buruko nahasmendu bat garatu du eta dena ahaztu du. Elkarrekin\, anaiek ustekabeko bidaia bati ekingo diote dirua aurkitzeko eta benetan nor diren deskubritzeko. \nFitxa teknikoa: \n\nZuzendaritza: Anders Thomas Jensen\nHerrialdea: Norvegia\nUrtea: 2025\nIraupena: 116 minutu\nAktoreak: Mads Mikkelsen\, Nikolaj Lie Kaas\, Nicolas Bro…
URL:https://herrikultura.eus/event/legazpiko-zine-kluba-el-ultimo-vikingo/
LOCATION:Latxartegi Aretoa – (Victoria Eugenia Antzokia)\, Latxartegi 9\, baxu\, Legazpi\, Gipuzkoa\, 051\, España
CATEGORIES:Ikus-entzunezko emanaldia
ATTACH;FMTTYPE=image/jpeg:https://herrikultura.eus/wp-content/uploads/2026/04/14-1.jpg
END:VEVENT
BEGIN:VEVENT
DTSTART;VALUE=DATE:20260424
DTEND;VALUE=DATE:20260425
DTSTAMP:20260423T003231
CREATED:20260401T220232Z
LAST-MODIFIED:20260401T220232Z
UID:196187-1776988800-1777075199@herrikultura.eus
SUMMARY:"Aitatxo" dokumentala eta solasaldia
DESCRIPTION:Aitatxo dokumentalak seme/alaba baten galeraren dolua azaltzen du aitaren begiradatik. Seme-alabaren bat galdu duten lau aiten testigantzaren bitartez\, dokumental honek aiten sufrimendua eta dolu eskubidea plazaratzen ditu. Bakoitzak egoera honi nola aurre egin dion azalduko da dokumentalean. \nGizarteak duen genero begirada apurtuz. Ama gutxietsi gabe aitei hitza emanez horrelako egoeren aurrean\, esperantza mezu bat zabalduz. \n\n\n\n\n\n\n\n\nIdeia: Anakotz Lasarte Zangitu\nIraupena: 80 min\nUrtea: 2025
URL:https://herrikultura.eus/event/aitatxo-dokumentala-eta-solasaldia/
LOCATION:Pasai Antxoko Kultur Etxea\, Hamarretxea\, 15\, Pasaia\, Gipuzkoa\, 064\, España
CATEGORIES:Ikus-entzunezko emanaldia
ATTACH;FMTTYPE=image/jpeg:https://herrikultura.eus/wp-content/uploads/2026/04/2132121.jpg
END:VEVENT
BEGIN:VEVENT
DTSTART;VALUE=DATE:20260424
DTEND;VALUE=DATE:20260425
DTSTAMP:20260423T003231
CREATED:20260404T220239Z
LAST-MODIFIED:20260404T220239Z
UID:196722-1776988800-1777075199@herrikultura.eus
SUMMARY:Donostiako Giza Eskubideen Zinemaldia 2026: "Urak aske"
DESCRIPTION:Donostiako 2026ko Giza Eskubideen Zinemaldiaren barne. \nArtikutzako presa desegiteak ekarri zuen lehengoratzea da dokumental honen abiapuntua\, eta erakusten du nola denbora laburrean berroneratzen diren presa eraiki ondoren suntsitu zituzten ingurunea eta ekosistema. Alabaina\, ez du ezkutatzen egitura horiek mantentzea aldarrikatzen duten herritarren artean sortzen duen problematika. \nFitxa teknikoa: \n\nEspainia.\nZuzendaritza: Bego Zubia Gallastegi.\nEkoizpena: Garazi Andonegi\, Juantxo Sardon / Pixel\, Elhuyar.\nGidoia: Bego Zubia Gallastegi.\nArgazkia: Juantxo Sardon.\nMusika: Igor Arroyo.\nMuntaketa: Mikel Fuentes.
URL:https://herrikultura.eus/event/donostiako-giza-eskubideen-zinemaldia-2026-urak-aske/
LOCATION:Tabakalera – (Medialab)\, Andre Zigarrogileen plaza\, 1\, Donostia / San Sebastián\, Gipuzkoa\, 069\, España
CATEGORIES:Ikus-entzunezko emanaldia
ATTACH;FMTTYPE=image/jpeg:https://herrikultura.eus/wp-content/uploads/2026/04/83.jpg
END:VEVENT
BEGIN:VEVENT
DTSTART;VALUE=DATE:20260424
DTEND;VALUE=DATE:20260425
DTSTAMP:20260423T003231
CREATED:20260404T220244Z
LAST-MODIFIED:20260404T220244Z
UID:196738-1776988800-1777075199@herrikultura.eus
SUMMARY:Okendo zine-foruma: "Aro berria"
DESCRIPTION:Donostia\, 1978. Ur kontagailuen lantegiko langileek batzarra egin dute\, azkenean aurrera egingo ez duen greba eztabaidatzeko. Etsipenak jota\, inkonformistenek eremu intimoagoetara bideratzen dute eraldaketa erradikalerako nahia. Batzuek lantegia utzi eta mendietan isolatutako komunitate batean murgiltzen dira. Bertan\, dozenaka gaztek bilaketa sutsu bati ekiten diote partekatutako esperientzia katartikoen bitartez. \n\n\n\n\n\nZuzendaritza: Irati Gorostidi Agirretxe\nEkoizpena: Sr. & Sra. Films\, Apellaniz y Sosa\nAntzezleak: Maite Muguerza Ronse\, Óscar Pascual López\, Aimar Uribesalgo Urzlai\, Edurne Azkarate\, Jon Ander Urresti Ugalde\nIraupena: 110 minutu\n\n  \n\n \n\n\n \n\n \n 
URL:https://herrikultura.eus/event/okendo-zine-foruma-aro-berria/
LOCATION:Manuel Lekuona Kultur Etxea – (Club aretoa)\, Geltoki\, 18\, Lasarte-Oria\, Gipuzkoa\, 902\, España
CATEGORIES:Ikus-entzunezko emanaldia
ATTACH;FMTTYPE=image/jpeg:https://herrikultura.eus/wp-content/uploads/2026/04/56-3.jpg
END:VEVENT
BEGIN:VEVENT
DTSTART;VALUE=DATE:20260424
DTEND;VALUE=DATE:20260425
DTSTAMP:20260423T003231
CREATED:20260406T220320Z
LAST-MODIFIED:20260406T220320Z
UID:197216-1776988800-1777075199@herrikultura.eus
SUMMARY:Zine-kluba: "La Librería"
DESCRIPTION:1959 urtean\, Inglaterrako herri txiki eta konserbadore batean\, emakume batek zonalde horretan sekula egon den lehenengo liburu denda zabaltzea erabakitzen du. Auzokideak ordea\, manera onak bai\, baina aurkari sutsuak bilakatuko dira. Jantzia eta emakume izatea izango dira garesti ordainduko dituen bekatuak.
URL:https://herrikultura.eus/event/zine-kluba-la-libreria/
LOCATION:San agustin plaza 1 behea\, Erandio\, Bizkaia\, 902\, España
CATEGORIES:Ikus-entzunezko emanaldia
ATTACH;FMTTYPE=image/jpeg:https://herrikultura.eus/wp-content/uploads/2026/04/37-5.jpg
END:VEVENT
END:VCALENDAR