BEGIN:VCALENDAR
VERSION:2.0
PRODID:-//HerriKultura - ECPv6.2.3.1//NONSGML v1.0//EN
CALSCALE:GREGORIAN
METHOD:PUBLISH
X-ORIGINAL-URL:https://herrikultura.eus
X-WR-CALDESC:Eventos para HerriKultura
REFRESH-INTERVAL;VALUE=DURATION:PT1H
X-Robots-Tag:noindex
X-PUBLISHED-TTL:PT1H
BEGIN:VTIMEZONE
TZID:Europe/Madrid
BEGIN:DAYLIGHT
TZOFFSETFROM:+0100
TZOFFSETTO:+0200
TZNAME:CEST
DTSTART:20260329T010000
END:DAYLIGHT
BEGIN:STANDARD
TZOFFSETFROM:+0200
TZOFFSETTO:+0100
TZNAME:CET
DTSTART:20261025T010000
END:STANDARD
END:VTIMEZONE
BEGIN:VEVENT
DTSTART;VALUE=DATE:20260415
DTEND;VALUE=DATE:20260628
DTSTAMP:20260423T020152
CREATED:20260409T220353Z
LAST-MODIFIED:20260409T220353Z
UID:197710-1776211200-1782604799@herrikultura.eus
SUMMARY:Euskadiko Filmategia: "Euskal zinema 2026" zikloa
DESCRIPTION:Euskadiko Filmategiak ondarea eta emakumeen zinemagintza landuko ditu datozen hiru hilabeteetan\, Gasteizen\, Donostian eta Bilbon egingo den Euskal zinema zikloan. Azken bosturtekoan euskal emakume zinemagileen lanei argia eman ondotik\, Filmategiak zabaldu egingo du fokua aurten\, eta 16 film proiektatuko ditu hamar saiotan: gure zinematografiaren historia nolabait markatu duten izenburuak errepasatuko ditu. \nZikloa apirilaren 15ean (asteazkena) hasiko da Gasteizen. Apirilean\, maiatzean eta ekainean\, emakumeek zuzenduriko pelikulak ikusteko aukera izango da Artium Museoan\, Bizkaia Aretoan eta Tabakaleran. Ikusgai izango diren lanen artean\, honako hauek: Yoyes (Helena Taberna\, 2000)\, euskal zinemagintzako erreferentzia diren emakume zuzendarietako baten lehenbiziko lana; Hirugarren koadernoa (Lur Olaizola\, 2022)\, Yoyes ETAko militantearen memoria berreskuratzeko lana\, Ana Torrenten ahotsean kontatua; Urak aske (Bego Zubia Gallastegi\, 2021)\, Artikutzako presa suntsitzeak ekarritako leheneratzearen berri ematen duen filma; eta La capitana Alegría / Pour don Carlos (Musidora / Jaime de Lasuén\, 1921)\, ziurrenik Euskadin eta euskal produkzioarekin filmatutako lehenbiziko fikziozko lana\, Musidora garai hartako emakumezko antzezle frantziarren mitoak Jaime de Lasuén aristokrata karlistarekin batera zuzendua. \n(H)emen Ikus-entzunezko eta arte eszenikoetako Euskal Herriko emakume profesionalen elkartearen hamargarren urteurrena ospatzeko\, euskal zinemagintzako lan aitzindari bat proiektatuko da: Irrintzi (Mirentxu Loyarte\, 1978)\, baita elkartearen sortzaileetako batek film horri buruz eginiko berrikuspena ere: Irrintziaren oihartzunak (Iratxe Fresneda\, 2016). \nOndarea da\, berebat\, programako gainerako lanak lotzen dituen ardatza\, eta\, bereziki\, Gerra Zibilari eskainitako saioa\, Euskadiko garai hartako gobernuaren Propaganda Atalak ekoitzitako lau filmek osatua: Entierro del benemérito sacerdote vasco José María de Korta y Uribarren\, muerto en el frente de Asturias (1937)\, Semana Santa en Bilbao (1937)\, Guernika (Nemesio Sobrevila\, 1937) eta Elai-Alai (Nemesio Sobrevila\, 1938). \nEra berean\, Gure Sor Lekuaren bila (2015) lana ere proiektatuko da. Haren bidez\, ziurrenik euskaraz erabat eginiko lehenbiziko dokumentalaren historia osatu du Josu Martinezek. Dokumental hura Hazparnen estreinatu zuten 1956an. \nKoldo Almandozek eta Gorka Bilbaok ere memoria-ariketa bat egiten dute: Itzalak argitzen (2026) lanean\, 80ko hamarkadaren erdialdean produzitutako lau film ertain zaharberritzeko prozesua dokumentatu dute. Iaz zaharberrituak izan ziren Hamaseigarrenean aidanez (Anjel Lertxundi\, 1985)\, Zergatik panpox (Xabier Elorriaga\, 1985)\, Ehun metro (Alfonso Ungría\, 1985) eta Oraingoz izen gabe (José Julián Bakedano\, 1986)\, Eusko Jaurlaritzarekin eta EITBrekin lankidetzan. Lan horren emaitza gisa sortua da film hori -EITBren ekoizpen propio bat-\, eta lehenbizikoz emango dute zinema-aretoetan. \nEuskadiko Filmategiak bere garaiko euskal film anbiziotsuenetako bat ere berreskuratuko du: Fuego eterno (1985). José Ángel Rebolledok zuzendua eta Imanol Uribek ekoitzia da\, eta Javier Aguirresaroberen argazkia du. Musika Alberto Iglesiasena da\, Gerardo Vera izan zen zuzendari artistikoa\, eta antzezleak\, berriz\, Ángela Molina eta Imanol Arias. \nKomediak ere izango du tokirik zikloan\, Agur Etxebeste! filmarekin (Asier Altuna / Telmo Esnal\, 2019)\, Donostian Elena Iruretak aurkeztuko du. Ildo horretan bertan\, Un novio de mierda film laburra (Borja Cobeaga\, 2010) emango da\, baita Pagafantas ere (Borja Cobeaga\, 2009)\, azken hori\, hain justu\, euskal komediaren “gurasoetako” baten lehen film luzea. \nSarrerak erosteko\, Artium Museoaren\, Tabakaleraren eta Arte Ederren Bilboko Museoaren leihatiletara edo webguneetara jo daiteke. \n\n«Euskal zinema 2026» zikloa (pdf)
URL:https://herrikultura.eus/event/euskadiko-filmategia-euskal-zinema-2026-zikloa/
LOCATION:Tolosa\, Donostia\, Bilbo eta\, Vitoria-Gasteiz\, Álava\, 059\, España
CATEGORIES:Ikus-entzunezko emanaldia
ATTACH;FMTTYPE=image/jpeg:https://herrikultura.eus/wp-content/uploads/2026/04/32423-1.jpg
END:VEVENT
BEGIN:VEVENT
DTSTART;VALUE=DATE:20260521
DTEND;VALUE=DATE:20260529
DTSTAMP:20260423T020152
CREATED:20260215T230337Z
LAST-MODIFIED:20260215T230337Z
UID:187143-1779321600-1780012799@herrikultura.eus
SUMMARY:Mendi Tour 2026 (Zarautz)
DESCRIPTION:Mendi Tourra mendia\, abentura eta natura gaien inguruko zinema ziklo ibiltaria da. Urte osoko ibilbidea osatzen du BBK Mendi Film Bilbao-Bizkaia zinemaldiaren azken edizioko pelikula onenekin. \nIazko BBK Mendi Film Bilbao-Bizkaiko film onenek osatuko dituzte karteldegiak\, eta\, beraz\, ikusgarritasuna eta kalitate goreneko zinema ziurtatuta daude\, baita Mendi Toureko ohiko ikusleen artean sortzen den giro ona ere. \n\nMendi Tour 2026 (Zarautz): egitaraua (png)
URL:https://herrikultura.eus/event/mendi-tour-2026-zarautz/
LOCATION:Lege Zaharren enparantza. (euria bada\, Modelo Aretoan)\, Zarautz\, Gipuzkoa\, 079\, España
CATEGORIES:Ikus-entzunezko emanaldia
ATTACH;FMTTYPE=image/jpeg:https://herrikultura.eus/wp-content/uploads/2026/02/16-6.jpg
END:VEVENT
BEGIN:VEVENT
DTSTART;VALUE=DATE:20260526
DTEND;VALUE=DATE:20260529
DTSTAMP:20260423T020152
CREATED:20260410T220329Z
LAST-MODIFIED:20260410T220329Z
UID:197839-1779753600-1780012799@herrikultura.eus
SUMMARY:Zinemateka Azkuna Zentroa "Fritz Lang": "CLASH BY NIGHT"
DESCRIPTION:Azkuna Zentroko «Frtiz Lang Amerikan» Zinematekaren barne. \nMae Doyle (Barbara Stanwyck) jaioterrira itzuli da\, Monterreyko (Kalifornia) arrantza-herri txiki batera. Bertan\, kontserba-fabrikan lan egiten duen neska gazte baten (Marilyn Monroe) adiskide egingo da. Arrantzale atsegin bat ere ezagutuko du (Paul Douglas)\, eta harekin ezkonduko da. Hala ere\, pixkanaka\, herriko beste gizon batek (Robert Ryan) erakarriko du. \nBa al zenekien… \nFilmak izar bihurtu zuen Marilyn Monroe\, eta Lang-ekin izan zuen kolaborazio bakarra da. Rol txikia bada ere\, aktoreak interpretazio-dohain guztiak erakutsi zituen\, neska apal eta kaskarinaren ohiko airearekin. \nFitxa teknikoa: \n\n\n\n\n\nUrtea: 1956\nZuzendaria: Fritz Lang\nGidoia: Alfred Hayes\nAntzezleak: Barbara Stanwyck\, Paul Douglas\, Robert Ryan\, Marilyn Monroe\n\n 
URL:https://herrikultura.eus/event/zinemateka-azkuna-zentroa-fritz-lang-clash-by-night/
LOCATION:AZ Azkuna Zentroa – (Bastida Aretoa)\, Arriquibar Plaza\, 4\, Bilbao\, Bizkaia\, 020\, España
CATEGORIES:Ikus-entzunezko emanaldia
ATTACH;FMTTYPE=image/jpeg:https://herrikultura.eus/wp-content/uploads/2026/04/52-2.jpg
END:VEVENT
BEGIN:VEVENT
DTSTART;VALUE=DATE:20260527
DTEND;VALUE=DATE:20260528
DTSTAMP:20260423T020152
CREATED:20260303T230253Z
LAST-MODIFIED:20260303T230253Z
UID:190321-1779840000-1779926399@herrikultura.eus
SUMMARY:Emakumeen* Mahaia Zineforuma: "La Virgen Roja"
DESCRIPTION:Emakumeen* Etxeko Emakumeen* Mahaiak Zineforum egitasmoa antolatu du 2026 honetarako\, zinemaren bidez\, hausnarketa kolektiboa sustatzeko asmoz. Ekimen honen helburua da ikus-entzunezkoen bidez gai sozial eta kultural ezberdinak lantzea\, pelikula bana ardatz hartuta eta ondorengo solasaldi irekien bidez. \nSaio guztiak 18:30ean izango dira\, Emakumeen Etxean*\, eta jarduera guztietan zeinu-hizkuntzako interpretea egongo da\, parte-hartzea ahalik eta irisgarriena izan dadin. \nSaio bakoitzean pelikularen emanaldia egingo da eta\, jarraian\, solasaldi labur eta parte-hartzailea eskainiko da\, ikusitakoaren inguruan iritziak\, bizipenak eta gogoetak partekatzeko. \nBigarren Errepublika espainiarrean girotuta\, filmak askorentzat ezezaguna edo gutxi kontatua izan den pasarte bat berreskuratzen du: Aurora Rodríguez eta bere alaba Hildegarten bizitza. Hildegart «etorkizuneko emakumea» izateko sortu zuen: aparteko adimena zuen\, feminista eta iraultzailea. Hildegart\, 16 urterekin\, jada abokatua zen\, idazlea eta foto sozialistetan aktibista\, nazioarteko oihartzunarekin.¿ \n\n\n 
URL:https://herrikultura.eus/event/emakumeen-mahaia-zineforuma-la-virgen-roja/
LOCATION:Emakumeen* etxea\, Zumaia\, Gipuzkoa\, 081\, España
CATEGORIES:Ikus-entzunezko emanaldia
ATTACH;FMTTYPE=image/jpeg:https://herrikultura.eus/wp-content/uploads/2026/03/21.jpg
END:VEVENT
BEGIN:VEVENT
DTSTART;VALUE=DATE:20260527
DTEND;VALUE=DATE:20260528
DTSTAMP:20260423T020152
CREATED:20260319T230229Z
LAST-MODIFIED:20260319T230229Z
UID:193552-1779840000-1779926399@herrikultura.eus
SUMMARY:Nosferatu 2026: "La tentación vive arriba"
DESCRIPTION:Nosferatu 2026 egitarauaren barruan. \nNosferatu programazioko Billy Wilder zikloaren barruan\, Marilyn Monroe mito bihurtu zuen filma proiektatzen da: The Seven Year Itch (1955). Garaiko milaka newyorktar bezala\, Richard Sherman abuztuan hirian geratu da lanean\, bere familia hondartzan oporretan den bitartean. Orduan ezagutzen du bere auzokidea. George Axelroden antzezlanean oinarritua eta honek Wilderrekin batera idatzia. \nFitxa teknikoa: \n\nAEB.\nZuzendaritza: Billy Wilder.\nEkoizpena: Charles K. Feldman\, Billy Wilder / Feldman Group Productions\, 20th Century Fox.\nGidoia: Billy Wilder eta George Axelrod\, George Axelroden antzerki-lanean oinarriturik.\nArgazkia: Milton R. Krasner.\nMusika: Alfred Newman.\nMuntaketa: Hugh S. Fowler.\nAktoreak: Marilyn Monroe\, Tom Ewell\, Evelyn Keyes\, Sonny Tufts\, Robert Strauss.
URL:https://herrikultura.eus/event/nosferatu-2026-la-tentacion-vive-arriba/
LOCATION:Victoria Eugenia Antzokia – (Victoria Eugenia Antzokia\, Tabakalera\, Kutxa Fundazioa)\, Argentinar Errepublikaren Pasealekua\, 2\, Donostia / San Sebastián\, Gipuzkoa\, 069\, España
CATEGORIES:Ikus-entzunezko emanaldia
ATTACH;FMTTYPE=image/jpeg:https://herrikultura.eus/wp-content/uploads/2026/03/7-5.jpg
END:VEVENT
BEGIN:VEVENT
DTSTART;VALUE=DATE:20260527
DTEND;VALUE=DATE:20260528
DTSTAMP:20260423T020152
CREATED:20260415T220324Z
LAST-MODIFIED:20260415T220324Z
UID:198640-1779840000-1779926399@herrikultura.eus
SUMMARY:Zineklub Bergara: "Llámame Sinsorga"
DESCRIPTION:«Llámame Sinsorga» (2025) Marta Gómez eta Paula Iglesiasek zuzendutako dokumentala da\, eta Irantzu Varela eta Andrea Momoitio kazetariei jarraitzen die Bilboko La Sinsorga kultur zentro feministaren sorreran. Antzezlanean\, emakumezkoek bakarrik egindako emaztegaien tailer zahar baten erreforma erretratatzen da\, eraikuntzan maskulinitateari desafio eginez.\n\n\nZuzendaritza: Marta Gómez\, Paula Iglesias\nParte-hartzaileak: Irantzu Varela\, Andrea Momoitio\, Yulia van der Bom\, Rakel García\n\n 
URL:https://herrikultura.eus/event/zineklub-bergara-llamame-sinsorga/
LOCATION:Seminarixoa – (Kasinoa)\, San Martin Agirre Plaza\, 4\, Bergara\, Gipuzkoa\, 074\, España
CATEGORIES:Ikus-entzunezko emanaldia
ATTACH;FMTTYPE=image/jpeg:https://herrikultura.eus/wp-content/uploads/2026/04/33-10.jpg
END:VEVENT
END:VCALENDAR