BEGIN:VCALENDAR
VERSION:2.0
PRODID:-//HerriKultura - ECPv6.2.3.1//NONSGML v1.0//EN
CALSCALE:GREGORIAN
METHOD:PUBLISH
X-ORIGINAL-URL:https://herrikultura.eus
X-WR-CALDESC:Eventos para HerriKultura
REFRESH-INTERVAL;VALUE=DURATION:PT1H
X-Robots-Tag:noindex
X-PUBLISHED-TTL:PT1H
BEGIN:VTIMEZONE
TZID:Europe/Madrid
BEGIN:DAYLIGHT
TZOFFSETFROM:+0100
TZOFFSETTO:+0200
TZNAME:CEST
DTSTART:20260329T010000
END:DAYLIGHT
BEGIN:STANDARD
TZOFFSETFROM:+0200
TZOFFSETTO:+0100
TZNAME:CET
DTSTART:20261025T010000
END:STANDARD
END:VTIMEZONE
BEGIN:VEVENT
DTSTART;VALUE=DATE:20260114
DTEND;VALUE=DATE:20270101
DTSTAMP:20260424T124338
CREATED:20251209T230225Z
LAST-MODIFIED:20251209T230225Z
UID:173669-1768348800-1798761599@herrikultura.eus
SUMMARY:Nosferatu 2026 egitaraua: "Billy Wilder"
DESCRIPTION:Datorren urtarrilaren 14an hasiko da Tabakaleran Nosferatu ziklo berria\, Europaren erdialdeko Billy Wilder zuzendariaren figurari\, XX. mendeko munduko zinemagintzaren izen gailenetakoari eskainia\, Sunset Boulevard (1950) filmaren proiekzioarekin. \nZikloa Donostia Kulturak eta Euskadiko Filmategiak antolatu dute\, Tabakaleraren eta Institut Valencià de Cultura – La Filmotecaren lankidetzarekin\, eta 2026ko urtarriletik abendura bitartean garatuko da. \nBere film enblematikoenetako batekin hasten da zikloa\, eta ondoren\, 30eko hamarkadan Alemanian gidoilari gisa egin zuen lanean barneratzen da\, Frantzian zuzendari gisa egin zuen opera priman (Mauvaise graine\, 1933) eta Ernst Lubitsch\, Mitchell Leisen edo Howard Hawks bezalako zinemagileentzat AEBn egin zuen gidoilari lanean. 1942an zuzendu zuen aurreneko filma Hollywooden\, The Major and the Minor (1942)\, eta bere aparteko filmografiaren hasiera markatu zuen. \nUrtarrilean\, zikloa hastearekin batera\, Billy Wilder. Anatomía de un genio\, Colección Nosferatuko 22. zenbakia argitaratuko da\, eta liburuaren koordinatzaile Luis Alegreren hitzetan: Billy Wilderrek ohorezko lekua du mundu osoko zinemazaleen iruditerian eta heziketa sentimentalean. Bere talentu eta moldaerraztasun zoragarriarekin\, etiketa oro uxatu eta lan giltzarriak sortu zituen oso bestelako generoetan: zinema beltza (Double Indemnity\, 1944)\, komedia (Some Like It Hot\, 1959)\, drama (Sunset Boulevard)\, zinema belikoa (A Foreign Affair\, 1948)\, erromantikoa (Love in the Afternoon\, 1957)\, intrigakoa (The Private Life of Sherlock Holmes\, 1970)\, epaiketetakoa (Witness for the Prosecution\, 1957)\, kazetariena (The Front Page\, 1974) edo bizitza bera bezalakoak direlako generorik ez duten bestelako filmak (The Apartment\, 1960). \nItalo Calvinok zioen klasiko bat hauxe dela\, esan behar duena inoiz erabat esaten ez duena. Billy Wilder oso ondo egokitzen da definizio horretara: bikaina\, beti gordetzen diguna gure buruari buruzko sorpresaren bat. \nBilly Wilder. Anatomía de un genio aipatutako liburua ez ezik\, Fernando Truebarekin eta Joseph McBriderekin elkarrizketak biltzen dituena\, 2026ko udazkenean Nosferatu Bildumaren 14. zenbakia editatuko da euskaraz\, Wilderren figurari buruz Zigor Etxebestek idatzia.
URL:https://herrikultura.eus/event/nosferatu-2026-egitaraua-billy-wilder/
LOCATION:Tabakalera – (Kontadores eta)\, Andre Zigarrogileen plaza\, 1\, Donostia / San Sebastián\, Gipuzkoa\, 069\, España
CATEGORIES:Jaialdiak (Gazteinformazioa)
ATTACH;FMTTYPE=image/jpeg:https://herrikultura.eus/wp-content/uploads/2025/12/ProgramaNosferatu2026.jpg
END:VEVENT
BEGIN:VEVENT
DTSTART;VALUE=DATE:20260118
DTEND;VALUE=DATE:20261214
DTSTAMP:20260424T124338
CREATED:20260113T230307Z
LAST-MODIFIED:20260113T230307Z
UID:180540-1768694400-1797206399@herrikultura.eus
SUMMARY:Klaustro Sounds 26: egitaraua
DESCRIPTION:2026ko Klaustro Sounds jaialdia urtarrilaren 18tik abenduaren 13ra bitartean izango da. \nMontehermosoko Klaustroa\, mendeetan zehar eraikinak jasan dituen aldaketa guztien ikusle isila\, igande arratsaldeetan Kulturgunera hurbiltzen diren pertsonentzako hainbat proposamen artistiko biltzen dituen agertoki magiko bihurtzen da. \n\n\nEGITARAUA:\n\n\nUrtarrilak 18: Joseba Irazoki \n\n\nOtsailak 22: Izarne Oyarzabal / Garazi Gorostiaga\n\n\nMartxoak 15: Alondra Bentley \n\n\nUrriak 4: Raúl Lomas / Periko Ráez\n\n\nAzaroak 22: Oriol Pares / Jaime De Los Ríos\n\n\nAbenduak 13: Garazi Navas\n\n\n  \nAntolatzailea: Montehermoso Kulturunea \n\nKlaustro Sounds 26: egitaraua (PDF)
URL:https://herrikultura.eus/event/klaustro-sounds-26-egitaraua/
LOCATION:Letren Fakultatea (UPV/EHU)\, Montehermoso Kulturunea\, UNED Gasteiz\, Artium Museoa\, Jimmy Jazz Aretoa\, Florida Zinemak\, Bakh\, Euneiz eta Buesa Arena.\, Vitoria-Gasteiz\, Álava\, 059\, España
CATEGORIES:Jaialdiak (Gazteinformazioa)
ATTACH;FMTTYPE=image/jpeg:https://herrikultura.eus/wp-content/uploads/2026/01/Untitled17.jpg
END:VEVENT
BEGIN:VEVENT
DTSTART;VALUE=DATE:20260321
DTEND;VALUE=DATE:20261130
DTSTAMP:20260424T124338
CREATED:20260214T230344Z
LAST-MODIFIED:20260214T230344Z
UID:187035-1774051200-1795996799@herrikultura.eus
SUMMARY:danZálava 2026
DESCRIPTION:Danzálava Nazioarteko Dantza eta Mugimendu Jaialdia hamargarren ediziora iritsi da aurten. Hasierako apustua Bruselas edo Amsterdam bezalako hirietan burutzen ari ziren gorputzaren eta mugimenduaren ikerketa-proposamenak Gasteizera hurbiltzea izan zen. Hamar urte geroago\, nazioarteko ezinbesteko erreferente bihurtu da proiektua eta  ohiko konbentzionalismoetatik irtetzen diren hizkuntza eta proposamen esperimentalak bilatzen dituzten artistak erakarri ditugu Arabara.\n \nHamargarren urteurren honetan Danzálavak aparteko programazioa aurkeztuko du. Honako gai hauek aztertu nahi ditu: mugimendutik abiatutako praktika artistikoa\, gorputza agertoki gisa\, inkontzientearen teknika eta inprobisazioa hizkuntza bizi moduan. Artium Museoa da jaialdiaren egoitza nagusia  eta honek konpromisoa berresten du partekatutako praktiken sakontasunarekin eta sormen-prozesu berezien erakusketarekin.\n \nNazioarteko eta bertako artistaz osatutako programazioa:\n \n2026ko egutegia martxoan hasiko da Guillermo Weickertekin (Dantza Sari Nazionala jaso berria). WWWITH tailerra eta Zuriñe Benavente eta Ignacio Monterrubiorekin partekatutako performance bat eskainiko digu.\n \nMaiatzean\, Ana Vallés entzutetsuak “Aquí no se viene a trabajar” sormen-laborategia zuzenduko du\, eta ikuslego mota  guztientzako moduko topaketa ireki batekin amaituko da.\n \nUdarekin batera munduko inprobisazioaren bi figura nagusi etorriko dira\, hainbat dantzari-belaunaldirentzat erabateko erreferente diren maisua- maistrak: Katie Duck eta Julyen Hamilton. Music Theatre eta Theatre Works tailer intentsiboak emango dituzte. Horretaz gain\, bat-bateko performance bat eskainiko dute elkarrekin .\n \n Udako etenaldiaren ondoren\, jaialdia Garaion Sorgingunera (Ozaeta) mugituko da Mónica Valencianorekin laborategi bat egiteko\, “El cuerpo como lugar de aparición”izenburupean.\n \nUrte amaierarako\, Juan Lorientek eta Nekane Santamaríak gorputzaren gramatikan sakonduko dute “¡CUÑA DOS! Seguir volando en este instante” tailer eta topaketarekin; kontzientearen barruko inkontzientearen teknikan oinarritutako ikerketa.\n \nX. Urteurrena eta STONEren aztarna\n \n Zuriñe Benavente zuzendariak ikerketa-laborategi bat burutuko du\, eta honek zubi lana egingo du hamargarren urteurreneko hitzordu handiarekin lotzeko. STONE kontzeptua ardatz hartuta—New Yorkeko inprobisazio libreko areto mitikoan inspiratua—\, Danzálavak diziplina anitzeko askatasun-espazio bat proposatu nahi du. Bernaola Zikloarekin lankidetzan izango da\, eta hamar urte hauetako sendotasunari eta memoriari buruz hausnartuko du. Ospakizun hau bat -bateko saio eta erakustaldi kolektibo batekin amaituko da Jimmy Jazz aretoan. Eszenatokia sorkuntza puru eta irekirako leku gisa aldarrikatu nahi da\, hazteari utzi ez dion komunitate batentzat.\n \n«Hamargarren ediziora iristea ametsa eta erantzukizuna da. Hamar urte hauetan lortu dugu Berlin\, Amsterdam edo Bruselako artistek  Vitoria-Gasteizera begiratzea beren prozesu intimoenak partekatzeko”.adierazi du Zuriñe Benavente jaialdiko zuzendariak. «Danzálavak hemen espazio hori izaten jarraitzea nahi dugu: praktika artistikoa jariatzen uzteko eta\, aldi berean\, parte hartzen dutenengan\, izan profesionalengan\, izan ikuslegoan\, aztarna uzteko».\n \nDanzálava 2026k Eusko Jaurlaritzaren\, Gasteizko Udalaren\, Arabako Foru Aldundiaren eta Vital Fundazioaren babesa du\, eta lankidetza-sarea osatzen du Artium Museoa\, José Uruñuela Dantza Kontserbatorioa eta Bernaola Zikloa bezalako erakundeekin.\n\ndanZálava 2026: egitaraua
URL:https://herrikultura.eus/event/danzalava-2026/
LOCATION:Txantreako Maiatzak1 Gaztetxea\, Pamplona/Iruña\, Navarra\, 201\, España
CATEGORIES:Jaialdiak (Gazteinformazioa)
ATTACH;FMTTYPE=image/jpeg:https://herrikultura.eus/wp-content/uploads/2026/02/432.jpg
END:VEVENT
BEGIN:VEVENT
DTSTART;VALUE=DATE:20261002
DTEND;VALUE=DATE:20261013
DTSTAMP:20260424T124338
CREATED:20260216T230318Z
LAST-MODIFIED:20260216T230318Z
UID:187280-1790899200-1791849599@herrikultura.eus
SUMMARY:Iruñeko Topaketak 2026 - Kultura\, arte eta pentsamenduaren nazioarteko bienala
DESCRIPTION:Iruñeko Topaketak 2026 urriaren 2tik 12ra bitartean ospatuko dira. \n\nLaster\, informazio gehiago.
URL:https://herrikultura.eus/event/iruneko-topaketak-2026-kultura-arte-eta-pentsamenduaren-nazioarteko-bienala/
LOCATION:Ziudadela – (Sala de Armas)\, Armada etorbidea\, z/g\, Pamplona/Iruña\, Navarra\, 201\, España
CATEGORIES:Jaialdiak (Gazteinformazioa)
ATTACH;FMTTYPE=image/jpeg:https://herrikultura.eus/wp-content/uploads/2026/02/26-3.jpg
END:VEVENT
BEGIN:VEVENT
DTSTART;VALUE=DATE:20261009
DTEND;VALUE=DATE:20261010
DTSTAMP:20260424T124338
CREATED:20260317T230242Z
LAST-MODIFIED:20260317T230242Z
UID:193185-1791504000-1791590399@herrikultura.eus
SUMMARY:ROCK@RENA 2026 (Nafarroa Arena)
DESCRIPTION:Rock@rena musika-jaialdia urriaren 9an izango da. \nRock alternatiboari eskainitako jaialdia estilo eta ñabardura musikal guztiei aterpea emateko asmoz sortu da\, rockean oinarritutako proposamen guztiei lekua egiteko: bai sortzen ari diren soinu-apustuei\, bai dagoeneko sendotuta daudenei\, betiere estilo legendario horren inguruan egituratuta. \n\nLaster\, kartelera talde gehiago iragarriko dira. \n\nUltraligera \nHiru urte eskasetan\, Ultraligera gure rockaren eszena alternatiboan lehen lerroko postuetara iritsi da. Haien lehen diskoa\, “Pelo de foca”\, 2025ean argitaratu zen\, eta hasieratik oztopo guztiak gainditzea lortu zuen; iazko azaroan\, gainera\, mugarri ikusgarria lortu zuten: zazpi aldiz jarraian betetzea Madrilgo “La Riviera” areto mitikoa\, euren sorterrian. \nOrain “Lapsus” dator\, izango den bigarren lanaren lehen aurrerapena: formari dagokionez kaotikoa bezain koherentea sakonean. Abestiak taldearen behin betiko jauzia iragartzen du rockaren lehen lerroetara. Fenomeno geldiezina da\, eta prentsa espezializatuaren arabera\, “bere garaian Héroes del Silencio taldearen agerpenarekin bakarrik alderatu daitekeena”.
URL:https://herrikultura.eus/event/rockrena-2026-nafarroa-arena/
LOCATION:Navarra Arena\, Aizagerria Plaza\, 1\, Pamplona/Iruña\, Navarra\, 201\, España
CATEGORIES:Jaialdiak (Gazteinformazioa)
ATTACH;FMTTYPE=image/jpeg:https://herrikultura.eus/wp-content/uploads/2026/03/52-3.jpg
END:VEVENT
BEGIN:VEVENT
DTSTART;VALUE=DATE:20261010
DTEND;VALUE=DATE:20261011
DTSTAMP:20260424T124338
CREATED:20260127T230357Z
LAST-MODIFIED:20260127T230357Z
UID:183429-1791590400-1791676799@herrikultura.eus
SUMMARY:Hellbona Fest 2026
DESCRIPTION:Hellbona Fest 2026 rock eta metal jaialdia urriaren 10en\, larunbata\, ospatuko da. \n\nLaster informazio gehiago.\n\n 
URL:https://herrikultura.eus/event/hellbona-fest-2026/
LOCATION:Berdura plaza eta Aljibea\, Villabona\, Gipuzkoa\, 075\, España
CATEGORIES:Jaialdiak (Gazteinformazioa)
ATTACH;FMTTYPE=image/jpeg:https://herrikultura.eus/wp-content/uploads/2026/01/18-5.jpg
END:VEVENT
BEGIN:VEVENT
DTSTART;VALUE=DATE:20261015
DTEND;VALUE=DATE:20261023
DTSTAMP:20260424T124338
CREATED:20260322T230241Z
LAST-MODIFIED:20260322T230241Z
UID:194246-1792022400-1792713599@herrikultura.eus
SUMMARY:Film Sozialak Zinema Ikusezinaren Nazioarteko Jaialdia 2026
DESCRIPTION:Bilboko «Film Sozialak» 2026 Zinema Ikusezinaren Nazioarteko Jaialdia urriaren 15etik 22ra bitartean izango da. 
URL:https://herrikultura.eus/event/film-sozialak-zinema-ikusezinaren-nazioarteko-jaialdia-2026/
LOCATION:AZ Azkuna Zentroa – (Bastida Aretoa)\, Arriquibar Plaza\, 4\, Bilbao\, Bizkaia\, 020\, España
CATEGORIES:Jaialdiak (Gazteinformazioa)
END:VEVENT
BEGIN:VEVENT
DTSTART;VALUE=DATE:20261015
DTEND;VALUE=DATE:20261026
DTSTAMP:20260424T124338
CREATED:20260322T230238Z
LAST-MODIFIED:20260322T230238Z
UID:194237-1792022400-1792972799@herrikultura.eus
SUMMARY:BAD Bilbao 2026 Antzerki eta Dantza Garaikidearen Jaialdia: egitaraua
DESCRIPTION:Bilboko Udalak antolatzen duen BAD – Bilboko Antzerki eta Dantza Garaikidearen Jaialdiaren XXVIII. edizioa urriaren 15etik 25era bitartean ospatuko da. 
URL:https://herrikultura.eus/event/bad-bilbao-2026-antzerki-eta-dantza-garaikidearen-jaialdia-egitaraua/
LOCATION:San Martzial Plaza (Plaza Gorria)\, Donostia / San Sebastián\, Gipuzkoa\, 069\, España
CATEGORIES:Jaialdiak (Gazteinformazioa)
ATTACH;FMTTYPE=image/jpeg:https://herrikultura.eus/wp-content/uploads/2026/03/ProgramaBADBilbao2026.jpg
END:VEVENT
BEGIN:VEVENT
DTSTART;VALUE=DATE:20261017
DTEND;VALUE=DATE:20261018
DTSTAMP:20260424T124338
CREATED:20251123T230258Z
LAST-MODIFIED:20251123T230258Z
UID:170502-1792195200-1792281599@herrikultura.eus
SUMMARY:Doinu Bat 2026 (urriak 17 - Iruña)
DESCRIPTION:Doinu bat jaialdia 2026ko urriaren 17an ospatuko da Navarra Arenan. \nPunk rock britainiarraren banda mitikoa den Cock Sparrer izango da kartelburua\, eta harekin batera punkaren eta rockaren panoramaren aniztasuna ordezkatzen duten 13 talderen hautaketa bat ariko da\, belaunaldi arteko ospakizun bihurtu nahi duen jardunaldi batean. \nCock Sparrer banda Oi! soinuaren aitzindaritzat eta punk rock mundu mailako erreferentetzat jotzen da. Lehen aldiz joko dute Iruñean\, eta kartel buru izango dira bertako taldeekin batera antolatutako ekitaldi batean: Brigade Loco\, Kaleko Urdangak\, Hell Beer Boys\, No Limits\, Chulería Joder\, Arene 6\, Streetwise eta Perlata; baita Europako streetpunkaren izen nagusietako batzuekin ere: Bull Brigade (Italia)\, Malad (Herbehereak)\, Underdogz (Alemania)\, Lions Law (Frantzia); eta CRIM katalanekin. \nPunk rocka bere forma garbienean: bost hamarkada baino gehiagoko ibilbidea izanik\, Cock Sparrer oraindik ere energia\, jarrera eta langile-espirituaren sinonimo da. “England Belongs to Me”\, “Riot Squad” edo “Take ’Em All” bezalako abestiak belaunaldi askoren soinu-banda bihurtu dira. \nHain zuzen ere\, Doinu bat belaunaldien\, estiloen eta musika-eszena ezberdinen arteko topaketa paregabea izatea du helburu\, eta Iruña-Pamplona punk rock europarraren epizentro berrietako bat bihurtuko da.
URL:https://herrikultura.eus/event/doinu-bat-2026-urriak-17-iruna/
LOCATION:Navarra Arena\, Aizagerria Plaza\, 1\, Pamplona/Iruña\, Navarra\, 201\, España
CATEGORIES:Jaialdiak (Gazteinformazioa)
ATTACH;FMTTYPE=image/jpeg:https://herrikultura.eus/wp-content/uploads/2025/11/80.jpg
END:VEVENT
BEGIN:VEVENT
DTSTART;VALUE=DATE:20261017
DTEND;VALUE=DATE:20261018
DTSTAMP:20260424T124338
CREATED:20260206T230349Z
LAST-MODIFIED:20260206T230349Z
UID:185417-1792195200-1792281599@herrikultura.eus
SUMMARY:Bizkaiko Erromeria Eguna 2026 (Urriak 17 - Lemoa)
DESCRIPTION:Euskal erromeriaren aurpegi eta formatu guz3ak egun bakarrean eta adin zein gustu guztientzako sortutako Bizkaiko Erromeria Egunaren bigarren edizioa Lemoan antolatuko da aurten\, urriaren 17an\, zapatuz. \nBizkaiko Foru Aldundiaren ekimenez\, Danok musikarien kooperatibaren sorkuntza eta antolakuntzarekin eta tokian tokiko udalaren babes nagusiarekin jaio zen iaz Bizkaiko Erromeria Eguna. Lehenengo edizioa Durangon antolatu zen 2025ean\, eta egitarau zabaleko egunak ekarritako balorazio bikainaren ostean antolatuko da aurten jai handiaren bigarren edizioa.\n \n«Bizkaiko Erromeria Eguna geratzeko jaio da\, eta urtero gure lurraldeko eskualde ezbardin batera eroateko asmoa daukagu»\, iragarri zuen iaz Leixuri Arrizabalaga Euskara\, Kultura eta Kirol saileko foru diputatuak. Bada\, asmo horiei jarraiki\, 2026an Durangaldeko Arratiara egingo du jauzi musika eta dantza zaleen hitzordu garrantzitsuak: Lemoak hartuko du Bizkaiko Erromeria Egunaren bigarren edizioa\, urriaren 17an.\n \nEgun horretan\, euskal musika\, kantu eta dantzek zipriz3nduko dute Lemoa\, erromeriazaleen hiriburu bilakatuz. Adin eta gustu guz3entzako askotariko ekintzak batuko dira urriaren 17an: kalejirak\, hitzaldiak\, tailerrak\, umeentzako puzgarri eta ekintzak\, haur berbenak\, dantza plazak\, fanfarreak\, kantu jirak\, gaueko gazte taldeen bertsio-taldeak… aurpegi eta formatu guz3etako erromeriak batuko dira\, funtsean\, Bizkaiko Erromeria Egunaren bigarren edizioan.\n \nEdizio honetarako Lemoako Udala izango du bidelagun Bizkaiko Foru Aldundiak. Eta ekitaldiaren nondik norakoak eta kartel nagusia udaren aurre3k aurkeztuko dira jendaurrean\, Lemoan bertan\, erakunde parte-hartzaileetako ordezkariekin eta egunean parte hartuko duten artista batzuekin batera.
URL:https://herrikultura.eus/event/bizkaiko-erromeria-eguna-2026-urriak-17-lemoa/
LOCATION:Aldabe Liburutegia – (Aldabe Gizarte Etxeko haur eta gazteen liburutegia)\, Eulogio Serdan\, 2\, Vitoria-Gasteiz\, Álava\, 059\, España
CATEGORIES:Jaialdiak (Gazteinformazioa)
ATTACH;FMTTYPE=image/jpeg:https://herrikultura.eus/wp-content/uploads/2026/02/BizkaikoErromeriaEguna2026.jpg
END:VEVENT
BEGIN:VEVENT
DTSTART;VALUE=DATE:20261019
DTEND;VALUE=DATE:20261101
DTSTAMP:20260424T124338
CREATED:20260322T230241Z
LAST-MODIFIED:20260322T230241Z
UID:194247-1792368000-1793491199@herrikultura.eus
SUMMARY:Zinemakumeak gara! 2026: egitaraua
DESCRIPTION:Zinemakumeak gara! – Emakumeen zuzendutako zinemaren erakustaldiaren 31. urteurrena ospatuko da Bilbon\, urriaren 19tik 31ra.
URL:https://herrikultura.eus/event/zinemakumeak-gara-2026-egitaraua/
LOCATION:San Martzial Plaza (Plaza Gorria)\, Donostia / San Sebastián\, Gipuzkoa\, 069\, España
CATEGORIES:Jaialdiak (Gazteinformazioa)
END:VEVENT
BEGIN:VEVENT
DTSTART;VALUE=DATE:20261023
DTEND;VALUE=DATE:20261026
DTSTAMP:20260424T124338
CREATED:20260213T230351Z
LAST-MODIFIED:20260213T230351Z
UID:186787-1792713600-1792972799@herrikultura.eus
SUMMARY:Tzan Tzan Fest 2025
DESCRIPTION:Dantza garaikideko jaialdi honen helburua da: gorputza protagonista duen lan eszenikoak Arabako lurraldera ekartzea da\, betiere programazio honek dantzaren diziplina eta beste zenbait lengoaiekin dituen konexio ugariak hurbiltzeko balio dezan. Mugimenduaren lengoaia desberdinak konbinatuz\, tokiko loturak dituzten proposamenak beste herrialde batzuetako proposamenekin konbinatuz\, eta erakuskaldien eskaintza beste jarduera osagarri batzuekin osatuz\, hala nola solasaldiak\, tailerrak edo filmen emanaldiekin… Aurten urriaren 23tik 25era ospatuko da Baratza aretoan\, baita lurraldeko herriren batean ere.
URL:https://herrikultura.eus/event/tzan-tzan-fest-2025/
LOCATION:Baratza Aretoa – (Barrundiako kiroldegia eta Baratza Aretoa)\, Plazuela Aldabe\, 4 - Bajo\, Vitoria-Gasteiz\, Álava\, 059\, España
CATEGORIES:Jaialdiak (Gazteinformazioa)
END:VEVENT
BEGIN:VEVENT
DTSTART;VALUE=DATE:20261028
DTEND;VALUE=DATE:20261102
DTSTAMP:20260424T124338
CREATED:20260322T230239Z
LAST-MODIFIED:20260322T230239Z
UID:194239-1793145600-1793577599@herrikultura.eus
SUMMARY:BasqueDok Festival 2026 - Euskal Herriko Argazki Dokumentalaren Jaialdia
DESCRIPTION:BasqueDok Festival jaialdiaren zazpigarren edizioa 2026ko urriaren 28tik irailaren 1era egingo da Bilbon. \n 
URL:https://herrikultura.eus/event/basquedok-festival-2026-euskal-herriko-argazki-dokumentalaren-jaialdia/
LOCATION:AZ Azkuna Zentroa – (Bastida Aretoa)\, Arriquibar Plaza\, 4\, Bilbao\, Bizkaia\, 020\, España
CATEGORIES:Jaialdiak (Gazteinformazioa)
END:VEVENT
END:VCALENDAR