BEGIN:VCALENDAR
VERSION:2.0
PRODID:-//HerriKultura - ECPv6.2.3.1//NONSGML v1.0//EN
CALSCALE:GREGORIAN
METHOD:PUBLISH
X-WR-CALNAME:HerriKultura
X-ORIGINAL-URL:https://herrikultura.eus
X-WR-CALDESC:Eventos para HerriKultura
REFRESH-INTERVAL;VALUE=DURATION:PT1H
X-Robots-Tag:noindex
X-PUBLISHED-TTL:PT1H
BEGIN:VTIMEZONE
TZID:Europe/Madrid
BEGIN:DAYLIGHT
TZOFFSETFROM:+0100
TZOFFSETTO:+0200
TZNAME:CEST
DTSTART:20250330T010000
END:DAYLIGHT
BEGIN:STANDARD
TZOFFSETFROM:+0200
TZOFFSETTO:+0100
TZNAME:CET
DTSTART:20251026T010000
END:STANDARD
BEGIN:DAYLIGHT
TZOFFSETFROM:+0100
TZOFFSETTO:+0200
TZNAME:CEST
DTSTART:20260329T010000
END:DAYLIGHT
BEGIN:STANDARD
TZOFFSETFROM:+0200
TZOFFSETTO:+0100
TZNAME:CET
DTSTART:20261025T010000
END:STANDARD
END:VTIMEZONE
BEGIN:VEVENT
DTSTART;VALUE=DATE:20251105
DTEND;VALUE=DATE:20260507
DTSTAMP:20260424T095414
CREATED:20251029T230432Z
LAST-MODIFIED:20251029T230432Z
UID:165879-1762300800-1778111999@herrikultura.eus
SUMMARY:Dokumental zikloa 2025-2026 (Getxo)
DESCRIPTION:Ziklo dokumentalaren helburua ikus-entzunezko formatu hori adierazpen artistikorako eta nortasuna eraikitzeko modu gisa sustatzea da\, bertaratutakoen hausnarketa kritikoa bultzatuz eta dokumentaletan jorratutako gaiei buruzko proiekzioaren ondoren elkarrizketarako espazio bat sortuz. Gainera\, zikloak ikusgarritasuna eman nahi die gure inguru hurbilean ekoitzitako lanei eta sortzen ari diren artistei. \n 
URL:https://herrikultura.eus/event/dokumental-zikloa-2025-2026-getxo/
LOCATION:Romo Kultur Etxea (RKE) – (Romo Kultur Etxea)\, Santa Eugenia plaza\, 1\, Getxo\, Bizkaia\, 044\, España
CATEGORIES:Jaialdiak (Gazteinformazioa)
ATTACH;FMTTYPE=image/jpeg:https://herrikultura.eus/wp-content/uploads/2025/10/Cine-3.jpg
END:VEVENT
BEGIN:VEVENT
DTSTART;VALUE=DATE:20251209
DTEND;VALUE=DATE:20260527
DTSTAMP:20260424T095414
CREATED:20251209T230209Z
LAST-MODIFIED:20251209T230209Z
UID:173604-1765238400-1779839999@herrikultura.eus
SUMMARY:Jazz Uhinak Hirian Barrena 2025-2026
DESCRIPTION:Sei kontzertu izango dira abenduaren 9tik maiatzaren 26ra: Vocal Groove & Faith Collective\, Juanma Montoya\, Astrid Canales\, Euskal Bostkote eta Luis Aramburu Udal Musika Eskolako eta Jesus Guridi Kontserbatorioko Big Bandak\n\nOndas de Jazz (Jazz Uhinak) zikloak hogei urte bete ditu eta jazzaren iragana\, oraina eta etorkizuna zeharkatzen dituen edizio bereziarekin ospatuko du tradizioa\, berrikuntza\, pedagogia eta konpromiso soziala uztartzen dituzten sei kontzerturen bidez. Bi hamarkadatan hirian erreferente kultural gisa finkatu ondoren\, zikloak Euskadiko jazzaren interprete gazteak eta funtsezko artistak biltzen dituen programazioa aurkeztu du. \nDenboraldia 2025eko abenduaren 9an hasiko da\, Vocal Groove & Faith Collectiverekin. Abeslari profesionalek eta zaleek osatzen duten abesbatza da\, eta musikaren ahalmen sendatzailea eta dimentsio komunitarioa aldarrikatzen dute. Donald Lawrenceren How Sweet The Sound lehiaketako irabazleek (Europako gospeleko abesbatza onenari emandako saria jaso zuten Royal Albert Hallen) generoko klasikoak eta migrazioa\, itxaropena eta elkartasuna bezalako gaiak jorratzen dituzten konposizio originalak bateratzen dituen errepertorioa aurkeztuko dute (sarrera: 10 €). \n2026ko urtarrilaren 20an\, Juanma Montoya gitarra-jotzailea\, Nathy Peluso\, Javi Medina edo Rels B bezalako artisten ohiko kolaboratzailea\, birtuosismoa\, konplexutasun harmonikoa eta modernitatea uztartzen dituen neo-flamenko garaikidearen proposamenarekin iritsiko da. Lehen mailako banda batek lagunduta\, Montoyak tradizioak eta abangoardiak naturaltasunez hitz egiten duten kontzertua eskainiko du (sarrera: 10 €). \n2026ko otsailaren 24ko eta martxoaren 10eko kontzertuek zikloaren dimentsio hezitzailea eta jazzak hirian duen etorkizuna jorratuko dituzte. Luis Aramburu Udal Musika Eskolako eta Jesus Guridi Kontserbatorioko Big Bandek ikasturtean zehar egindako lana erakutsiko dute swinga\, errepertorio klasikoa eta pieza modernoak nahasten dituen programarekin (sarrera: 2 €). Hilabete geroago\, haien jazz comboek kontzertu intimo eta sortzailearen protagonista izango dira. Bertan\, ikasleek beraiek aukeratu eta moldatuko dituzte lanak\, inprobisazioa\, elkarrizketa musikala eta adierazpen askatasuna sustatuz (sarrera: 2 €). \n2026ko apirilaren 14an\, zikloak Astrid Canales\, Espainiako neo-soulean gorantz egiten ari den ahotsetako bat\, aurkeztuko du. Bere musikak sofistikazio jazzistikoa eta gaur egungo R&B-aren berehalakotasuna eta mezu sozial indartsua uztartzen ditu\, eta batez ere publiko gaztearekin konektatzen du (sarrera: 10 €). \nProgramazioa 2026ko maiatzaren 26an amaituko da\, Euskal Bostkoterekin. 20. urteurrenerako espresuki sortutako boskotea da eta Euskadiko jazzaren funtsezko bost pertsonak osatzen dute: Iñigo Ruiz de Gordejuela\, Borja Barrueta\, Ander García\, Asier Ardaiz eta Jean Marie Ecay. Hainbat urtez Estatuko eta nazioarteko agertokietan ibilbide independenteak egin ondoren\, konposizio propioak interpretatzeko elkartu dira (sarrera: 10 €). \nSarrerak eta abonamenduak (35 €) salgai daude dagoeneko. Informazio guztia Ondas de Jazz zikloaren webgunean. \n20 urte jazza eskaintzen\nOroitzapenezko edizio honekin\, Ondas de Jazzek berretsi egin du aniztasun estilistikoarekiko konpromisoa\, talentu sortzaileari emandako bultzada eta komunitatearen sorkuntza\, eta Gasteizen jazza hedatzeko eta garatzeko ezinbesteko espazio gisa sendotu da. \nBi hamarkada hauetan\, Jesus Guridi Kontserbatoriotik 500 musikari baino gehiago igaro dira eta zikloaren programazioa osatu dute. Horietatik erdiak\, gutxi gorabehera\, Euskal Autonomia Erkidegokoak izan dira. Apustu horri esker\, Ondas de Jazz zikloak Euskadiko Musikaren Saria jaso zuen 2017an. Saria Musika Bulegoa Elkarteak emandakoa da. \nGainera\, zabalkunde lan horrekin bat etorriz\, iazko jaialdian 230 informazio sortu ziren irrati\, prentsa eta sare sozialen artean. Ahalegin informatibo horri esker\, 10\,5 milioi ikusleko audientzia potentziala lortu zen. Horrek\, datu ekonomikotan\, 190.000 euro inguruko inpaktua esan nahi du\, Hallon auditoretza-enpresak emandako datuen arabera.
URL:https://herrikultura.eus/event/jazz-uhinak-hirian-barrena-2025-2026/
LOCATION:Jesus Guridi Musika Kontserbatorioa\, Konstituzio Plaza\, 9\, Vitoria-Gasteiz\, Álava\, 059\, España
CATEGORIES:Jaialdiak (Gazteinformazioa)
ATTACH;FMTTYPE=image/jpeg:https://herrikultura.eus/wp-content/uploads/2025/12/ProgramaOndasdeJazzenlaciudad20252026.jpg
END:VEVENT
END:VCALENDAR