BEGIN:VCALENDAR
VERSION:2.0
PRODID:-//HerriKultura - ECPv6.2.3.1//NONSGML v1.0//EN
CALSCALE:GREGORIAN
METHOD:PUBLISH
X-ORIGINAL-URL:https://herrikultura.eus
X-WR-CALDESC:Eventos para HerriKultura
REFRESH-INTERVAL;VALUE=DURATION:PT1H
X-Robots-Tag:noindex
X-PUBLISHED-TTL:PT1H
BEGIN:VTIMEZONE
TZID:Europe/Madrid
BEGIN:DAYLIGHT
TZOFFSETFROM:+0100
TZOFFSETTO:+0200
TZNAME:CEST
DTSTART:20260329T010000
END:DAYLIGHT
BEGIN:STANDARD
TZOFFSETFROM:+0200
TZOFFSETTO:+0100
TZNAME:CET
DTSTART:20261025T010000
END:STANDARD
END:VTIMEZONE
BEGIN:VEVENT
DTSTART;VALUE=DATE:20260114
DTEND;VALUE=DATE:20270101
DTSTAMP:20260424T083409
CREATED:20251209T230225Z
LAST-MODIFIED:20251209T230225Z
UID:173669-1768348800-1798761599@herrikultura.eus
SUMMARY:Nosferatu 2026 egitaraua: "Billy Wilder"
DESCRIPTION:Datorren urtarrilaren 14an hasiko da Tabakaleran Nosferatu ziklo berria\, Europaren erdialdeko Billy Wilder zuzendariaren figurari\, XX. mendeko munduko zinemagintzaren izen gailenetakoari eskainia\, Sunset Boulevard (1950) filmaren proiekzioarekin. \nZikloa Donostia Kulturak eta Euskadiko Filmategiak antolatu dute\, Tabakaleraren eta Institut Valencià de Cultura – La Filmotecaren lankidetzarekin\, eta 2026ko urtarriletik abendura bitartean garatuko da. \nBere film enblematikoenetako batekin hasten da zikloa\, eta ondoren\, 30eko hamarkadan Alemanian gidoilari gisa egin zuen lanean barneratzen da\, Frantzian zuzendari gisa egin zuen opera priman (Mauvaise graine\, 1933) eta Ernst Lubitsch\, Mitchell Leisen edo Howard Hawks bezalako zinemagileentzat AEBn egin zuen gidoilari lanean. 1942an zuzendu zuen aurreneko filma Hollywooden\, The Major and the Minor (1942)\, eta bere aparteko filmografiaren hasiera markatu zuen. \nUrtarrilean\, zikloa hastearekin batera\, Billy Wilder. Anatomía de un genio\, Colección Nosferatuko 22. zenbakia argitaratuko da\, eta liburuaren koordinatzaile Luis Alegreren hitzetan: Billy Wilderrek ohorezko lekua du mundu osoko zinemazaleen iruditerian eta heziketa sentimentalean. Bere talentu eta moldaerraztasun zoragarriarekin\, etiketa oro uxatu eta lan giltzarriak sortu zituen oso bestelako generoetan: zinema beltza (Double Indemnity\, 1944)\, komedia (Some Like It Hot\, 1959)\, drama (Sunset Boulevard)\, zinema belikoa (A Foreign Affair\, 1948)\, erromantikoa (Love in the Afternoon\, 1957)\, intrigakoa (The Private Life of Sherlock Holmes\, 1970)\, epaiketetakoa (Witness for the Prosecution\, 1957)\, kazetariena (The Front Page\, 1974) edo bizitza bera bezalakoak direlako generorik ez duten bestelako filmak (The Apartment\, 1960). \nItalo Calvinok zioen klasiko bat hauxe dela\, esan behar duena inoiz erabat esaten ez duena. Billy Wilder oso ondo egokitzen da definizio horretara: bikaina\, beti gordetzen diguna gure buruari buruzko sorpresaren bat. \nBilly Wilder. Anatomía de un genio aipatutako liburua ez ezik\, Fernando Truebarekin eta Joseph McBriderekin elkarrizketak biltzen dituena\, 2026ko udazkenean Nosferatu Bildumaren 14. zenbakia editatuko da euskaraz\, Wilderren figurari buruz Zigor Etxebestek idatzia.
URL:https://herrikultura.eus/event/nosferatu-2026-egitaraua-billy-wilder/
LOCATION:Tabakalera – (Kontadores eta)\, Andre Zigarrogileen plaza\, 1\, Donostia / San Sebastián\, Gipuzkoa\, 069\, España
CATEGORIES:Jaialdiak (Gazteinformazioa)
ATTACH;FMTTYPE=image/jpeg:https://herrikultura.eus/wp-content/uploads/2025/12/ProgramaNosferatu2026.jpg
END:VEVENT
BEGIN:VEVENT
DTSTART;VALUE=DATE:20260118
DTEND;VALUE=DATE:20261214
DTSTAMP:20260424T083409
CREATED:20260113T230307Z
LAST-MODIFIED:20260113T230307Z
UID:180540-1768694400-1797206399@herrikultura.eus
SUMMARY:Klaustro Sounds 26: egitaraua
DESCRIPTION:2026ko Klaustro Sounds jaialdia urtarrilaren 18tik abenduaren 13ra bitartean izango da. \nMontehermosoko Klaustroa\, mendeetan zehar eraikinak jasan dituen aldaketa guztien ikusle isila\, igande arratsaldeetan Kulturgunera hurbiltzen diren pertsonentzako hainbat proposamen artistiko biltzen dituen agertoki magiko bihurtzen da. \n\n\nEGITARAUA:\n\n\nUrtarrilak 18: Joseba Irazoki \n\n\nOtsailak 22: Izarne Oyarzabal / Garazi Gorostiaga\n\n\nMartxoak 15: Alondra Bentley \n\n\nUrriak 4: Raúl Lomas / Periko Ráez\n\n\nAzaroak 22: Oriol Pares / Jaime De Los Ríos\n\n\nAbenduak 13: Garazi Navas\n\n\n  \nAntolatzailea: Montehermoso Kulturunea \n\nKlaustro Sounds 26: egitaraua (PDF)
URL:https://herrikultura.eus/event/klaustro-sounds-26-egitaraua/
LOCATION:Letren Fakultatea (UPV/EHU)\, Montehermoso Kulturunea\, UNED Gasteiz\, Artium Museoa\, Jimmy Jazz Aretoa\, Florida Zinemak\, Bakh\, Euneiz eta Buesa Arena.\, Vitoria-Gasteiz\, Álava\, 059\, España
CATEGORIES:Jaialdiak (Gazteinformazioa)
ATTACH;FMTTYPE=image/jpeg:https://herrikultura.eus/wp-content/uploads/2026/01/Untitled17.jpg
END:VEVENT
BEGIN:VEVENT
DTSTART;VALUE=DATE:20260321
DTEND;VALUE=DATE:20261130
DTSTAMP:20260424T083409
CREATED:20260214T230344Z
LAST-MODIFIED:20260214T230344Z
UID:187035-1774051200-1795996799@herrikultura.eus
SUMMARY:danZálava 2026
DESCRIPTION:Danzálava Nazioarteko Dantza eta Mugimendu Jaialdia hamargarren ediziora iritsi da aurten. Hasierako apustua Bruselas edo Amsterdam bezalako hirietan burutzen ari ziren gorputzaren eta mugimenduaren ikerketa-proposamenak Gasteizera hurbiltzea izan zen. Hamar urte geroago\, nazioarteko ezinbesteko erreferente bihurtu da proiektua eta  ohiko konbentzionalismoetatik irtetzen diren hizkuntza eta proposamen esperimentalak bilatzen dituzten artistak erakarri ditugu Arabara.\n \nHamargarren urteurren honetan Danzálavak aparteko programazioa aurkeztuko du. Honako gai hauek aztertu nahi ditu: mugimendutik abiatutako praktika artistikoa\, gorputza agertoki gisa\, inkontzientearen teknika eta inprobisazioa hizkuntza bizi moduan. Artium Museoa da jaialdiaren egoitza nagusia  eta honek konpromisoa berresten du partekatutako praktiken sakontasunarekin eta sormen-prozesu berezien erakusketarekin.\n \nNazioarteko eta bertako artistaz osatutako programazioa:\n \n2026ko egutegia martxoan hasiko da Guillermo Weickertekin (Dantza Sari Nazionala jaso berria). WWWITH tailerra eta Zuriñe Benavente eta Ignacio Monterrubiorekin partekatutako performance bat eskainiko digu.\n \nMaiatzean\, Ana Vallés entzutetsuak “Aquí no se viene a trabajar” sormen-laborategia zuzenduko du\, eta ikuslego mota  guztientzako moduko topaketa ireki batekin amaituko da.\n \nUdarekin batera munduko inprobisazioaren bi figura nagusi etorriko dira\, hainbat dantzari-belaunaldirentzat erabateko erreferente diren maisua- maistrak: Katie Duck eta Julyen Hamilton. Music Theatre eta Theatre Works tailer intentsiboak emango dituzte. Horretaz gain\, bat-bateko performance bat eskainiko dute elkarrekin .\n \n Udako etenaldiaren ondoren\, jaialdia Garaion Sorgingunera (Ozaeta) mugituko da Mónica Valencianorekin laborategi bat egiteko\, “El cuerpo como lugar de aparición”izenburupean.\n \nUrte amaierarako\, Juan Lorientek eta Nekane Santamaríak gorputzaren gramatikan sakonduko dute “¡CUÑA DOS! Seguir volando en este instante” tailer eta topaketarekin; kontzientearen barruko inkontzientearen teknikan oinarritutako ikerketa.\n \nX. Urteurrena eta STONEren aztarna\n \n Zuriñe Benavente zuzendariak ikerketa-laborategi bat burutuko du\, eta honek zubi lana egingo du hamargarren urteurreneko hitzordu handiarekin lotzeko. STONE kontzeptua ardatz hartuta—New Yorkeko inprobisazio libreko areto mitikoan inspiratua—\, Danzálavak diziplina anitzeko askatasun-espazio bat proposatu nahi du. Bernaola Zikloarekin lankidetzan izango da\, eta hamar urte hauetako sendotasunari eta memoriari buruz hausnartuko du. Ospakizun hau bat -bateko saio eta erakustaldi kolektibo batekin amaituko da Jimmy Jazz aretoan. Eszenatokia sorkuntza puru eta irekirako leku gisa aldarrikatu nahi da\, hazteari utzi ez dion komunitate batentzat.\n \n«Hamargarren ediziora iristea ametsa eta erantzukizuna da. Hamar urte hauetan lortu dugu Berlin\, Amsterdam edo Bruselako artistek  Vitoria-Gasteizera begiratzea beren prozesu intimoenak partekatzeko”.adierazi du Zuriñe Benavente jaialdiko zuzendariak. «Danzálavak hemen espazio hori izaten jarraitzea nahi dugu: praktika artistikoa jariatzen uzteko eta\, aldi berean\, parte hartzen dutenengan\, izan profesionalengan\, izan ikuslegoan\, aztarna uzteko».\n \nDanzálava 2026k Eusko Jaurlaritzaren\, Gasteizko Udalaren\, Arabako Foru Aldundiaren eta Vital Fundazioaren babesa du\, eta lankidetza-sarea osatzen du Artium Museoa\, José Uruñuela Dantza Kontserbatorioa eta Bernaola Zikloa bezalako erakundeekin.\n\ndanZálava 2026: egitaraua
URL:https://herrikultura.eus/event/danzalava-2026/
LOCATION:Txantreako Maiatzak1 Gaztetxea\, Pamplona/Iruña\, Navarra\, 201\, España
CATEGORIES:Jaialdiak (Gazteinformazioa)
ATTACH;FMTTYPE=image/jpeg:https://herrikultura.eus/wp-content/uploads/2026/02/432.jpg
END:VEVENT
BEGIN:VEVENT
DTSTART;VALUE=DATE:20260409
DTEND;VALUE=DATE:20260626
DTSTAMP:20260424T083409
CREATED:20260330T220202Z
LAST-MODIFIED:20260330T220202Z
UID:195740-1775692800-1782431999@herrikultura.eus
SUMMARY:LABO GO 2026 zikloa: egitaraua
DESCRIPTION:LABOk eta Kutxa Fundazioak LABO GO: Sorkuntza Prozesuen Erakusleihoa zikloa aurkezten dute; apirila eta ekaina bitartean egingo diren jardunaldiak dira\, arte eszenikoekin zerikusia duten hainbat diziplina edo jakintza-arlotako artisten sortze-prozesuak ikusarazteko \nSaio bakoitza amaitzeko\, solasaldi irekia egingo da publikoarekin\, eta arte garaikideari buruzko elkarrizketa eta hausnarketa sustatuko da. \nGipuzkoako Foru Aldundiaren babesarekin eta Dantzagunea\, POCTEFA eta Pyrenart II-ren laguntzarekin antolatzen den programa hau\, bertako\, nazioko eta nazioarteko artisten proposamenek osatzen dute\, emakume sortzaileei eta euskarazko proposamenei lekua eta ahotsa emanez. Artista gazte eta beteranoen proposamenetan zentratzen da\, bereziki dantza\, antzerki eta zirkuko dramaturgia berrietan.  \n2026 honetan\, dantza garaikideko 4 proposamen parte hartuko dute\, baita dantza eta zirkuaren arteko hibrido proposamen bat ere. Lau euskal konpainia/artista izango dira\, galiziar bat eta katalan bat. Naziarteko ukitua Compagnie Projet Rare/Collectif Rabbit Research-ek jarriko du. \n\n\n\n\n\nEgitaraua:\n\n\nApirilak 9: Jandross Rodríguez «A Noite do Cuco« – Dantza garaikidea\n\n\nApirilak 23: Oihana Vesga «Sonus Fossio» – Dantza garaikidea\n\n\nMaiatzak 14: DAB dantza konpainia «Kea« – Dantza garaikidea\n\n\nMaiatzak 28: Mario G. Saez «Hoogerman + Devenir« – Dantza garaikidea\n\n\nEkainak 11: Compagnie Projet Rare / Collectif Rabbit Research «Ô.UII« – Dantza + zirkua\n\n\nEkainak 25: Topaketak – Dantza + ???\n\nSaio guztiak Kutxa Fundazioa Klubean izango dira\, 19:00etan. Sarrerak doakoak dira\, baina ezinbestekoa da online erreserba egitea.
URL:https://herrikultura.eus/event/labo-go-2026-zikloa-egitaraua/
LOCATION:Tabakalera – (KUTXA FUNDAZIOA KLUBA)\, Andre Zigarrogileen plaza\, 1\, Donostia / San Sebastián\, Gipuzkoa\, 069\, España
CATEGORIES:Jaialdiak (Gazteinformazioa)
ATTACH;FMTTYPE=image/jpeg:https://herrikultura.eus/wp-content/uploads/2026/03/84.jpg
END:VEVENT
BEGIN:VEVENT
DTSTART;VALUE=DATE:20260503
DTEND;VALUE=DATE:20260720
DTSTAMP:20260424T083409
CREATED:20260403T220300Z
LAST-MODIFIED:20260403T220300Z
UID:196625-1777766400-1784505599@herrikultura.eus
SUMMARY:Kristalezko kioskoa 2026: egitaraua
DESCRIPTION:2026ko Kristalezko Kioskoa maiatzaren 3tik uztailaren 29ra bitartean izango da. \nUztaileko igandeetan\, Muxikebarriko plaza zuzeneko musikaz gozatzeko topagune bihurtuko da\, eguerdi inguruan. Kristalezko kioskoak doako egitaraua hartuko du bere baitan\, elkarren artean oso desberdinak diren hiru proposamenekin: Indigo Jazz\, Anna Szostak Quintet eta Swingtronics. Haien eskutik jazzaren\, swingaren eta bluesaren soinuak gerturatuko zaizkigu. Aire zabalean\, publiko guztientzako plan ezin hobea. \nIgandero\, Muxikebarriko plazan\, 13:30ean: \n\n\n\n\n\nMaiatzak 3 – The Pockets\n\n\nMaiatzak 10 – Ontario\n\n\nMaiatzak 17 – Gildas\n\n\nMaiatzak 24 – Los Guayabo Brothers\n\n\nMaiatzak 31 – The Derty Gerties\n\n\nEkainak 7 – Moses and the Tablets\n\n\nEkainak 14 – Bringas\n\n\nEkainak 21 – Rumbling Groove Jazz Band\n\n\nEkainak 28 – Africa Bibang\n\n\nUztailak 5 – Índigo Jazz\n\n\nUztailak 12 – Anna Sztostak Quintet\n\n\nUztailak 19 – Swingtronic 
URL:https://herrikultura.eus/event/kristalezko-kioskoa-2026-egitaraua/
LOCATION:Muxikebarri – Getxoko Arte\, Kultura eta Kongresuen Zentroa – (Plaza)\, Basagoiti etorbidea\, 77\, Getxo\, Bizkaia\, 044\, España
CATEGORIES:Jaialdiak (Gazteinformazioa)
ATTACH;FMTTYPE=image/jpeg:https://herrikultura.eus/wp-content/uploads/2026/04/103.jpg
END:VEVENT
BEGIN:VEVENT
DTSTART;VALUE=DATE:20260508
DTEND;VALUE=DATE:20260626
DTSTAMP:20260424T083409
CREATED:20260401T220236Z
LAST-MODIFIED:20260401T220236Z
UID:196203-1778198400-1782431999@herrikultura.eus
SUMMARY:Kantu eta Hitza Zikloa 2026: egitaraua
DESCRIPTION:Kantu eta Hitza kontzertu-zikloa 2026ko edizioa maiatzaren 8tik ekainaren 25era bitartean ospatuko da. \n Aurtengo edizioan zazpi kontzertu antolatuko dira\, maiatzetik ekainera bitarte. O-ko Andre Maria plaza izango da kontzertuen agertokia\, lehenengoa salbu\, maiatzaren 8an Pompelo Civivoxean egingo baita. Anari artista\, abeslari\, gitarra-jotzaile eta konpositoreak irekiko du Kantu eta Hitza zikloaren aurtengo edizioa eta Sara Zozaya\, Izaki Gardenak\, Xak\, Bisaiak\, Kaskezur eta Erromintxelak taldeek ere parte hartuko dute. \nLehenengo kontzertua kenduta\, beste guztiak doan izango dira eta astero egingo dira maiatzaren 21etik ekainaren 25era bitarte\, O-ko Andre Mariaren plazan. Soilik eguraldi txarra egiten badu\, aire zabalean egin ordez\, kontzertuak Erraldoien patioan egingo dira (Descalzos k. 72). Erraldoien patioan edukiera mugatua da\, beraz kasu horretan gonbidapenak jasoko dira\, doan\, kontzertuak hasi baino ordubete lehenagotik.  \nApustu horren bidez\, Udalak euskarazko musika sorkuntza hedatzea eta sustatzea du xede\, musika eta hitzen indarra uztartuz. Duela 25 urte baino gehiagoz geroztik aukeratutako formatua ikuskizun akustiko eta intimoak dira\, askotariko estilo eta erritmoei bide emanez. Hala\, egile-abestiak eta folka izanen dira nagusi\, baina jazza\, popa eta reggaea ere entzungo dira. \n\nHasiera\, Pompelo Civivoxean\n\nInauguratu berri den Pompelo Civivoxean emango diote ongietorria Kantu eta Hitza zikloaren edizio berriari\, Anari artistaren eskutik. Abeslariak\, ia 30 urteko ibilbidean\, rocka eta folka uztartu ditu eta\, ikerketa eta berrikuntza izan dira bere ezaugarri nagusiak. Hori guztia gainera\, sakontasun poetiko handiko letra hunkigarri eta dotoreekin\, zeinekin maitasuna\, bakardadea\, tristura\, edertasuna\, identitatea\, introspekzioa\, gizartea edo politika gaiak jorratzen baititu. Pompelo Civivoxean honako hauekin emanen du kontzertua: Mikel Txopeitia (bateria eta perkusioak)\, Xabier Olazabal “Drake” (baxua)\, Ander Mujika (gitarra eta ahotsak) Xabi Etcheverry (biola\, gitarra\, teklatua eta ahotsak) y Ruben Garatea (teklatuak). \nSarrera: 10 euro. Sarrerak txarteldegian hartuko dira\, edo Iruñeko Udalaren kulturako webgunearen bidez. \n\nMaiatzaren 21etik aurrera\, O-ko Andre Maria plazan\n\nHasiera-ekitaldiaren ondoren\, zikloa ohiko agertokian eginen da\, aire zabalean\, O-ko Andre Maria plazan\, maiatzeko eta ekaineko ostegunetan. Maiatzaren 21ean Sara Zozayaren ahotsa entzuteko aukera izanen da\, euskarazko musika eszenako talentu gazteetako bat. Hainbat taldetan parte hartu ostean\, 2018an kaleratu zuen bere lehen bakarkako lana. Egun\, LP bat eta bi EP kaleratu ditu jada\, eta\, gainera\, kolaborazioak egin ditu maila handiko artistekin\, besteak beste\, Benito Lertxundirekin eta Valdiviarekin. Bere estiloak ‘lo-fi’-a (soinu inperfektu\, epel eta nostalgikoak ezaugarri dituen musika-estiloa)\, popa\, euskal tradizioa eta minimalismoa ditu oinarri. \nMaiatzaren 28an\, ostegunarekin\, Izaki Gardenak taldearen txanda izango da; taldea 2012an sortu zen\, Jon Basagurenen abestiei itxura emateko. Beren lehenengo lana\, Itsasargiak\, urte horretan bertan argitaratu zen eta bost abestiz osatuta zegoen. Ondoren beste hiru disko kaleratu zituzten\, rocka eta popa oinarri hartuta. Taldeak lau urte baino gehiagoko geldiunea egin zuen eta 2024an itzuli zen agertokietara Orube disko berriarekin. Sitsak da taldearen azken lana: azken urteetan argitaratu eta diskoetan ageri ez diren sei abesti eta\, beste lau abesti berri barne hartzen ditu.  \nEkainari hasiera emateko\, Paxkal Irigoyen Xak Nafarroa Behereko abeslari eta musikari polifazetikoa igoko da taula gainera hilaren lauan. 2017an eman zuen argitara lehen diskoa\, eta 2021ean\, Bloñ taldea osatu eta Bañolet kantuz diskoa kaleratu zuen; azken disko horrek Maia Iribarne Olhagaraik eta Paxkal Irigoyenek berak zuzendutako Bañolet filmeko abestietako batzuk barne hartzen ditu. 2023an\, “Piko” izen artistikoaz egin zituen emanaldiak. 2025eko maiatzean\, Xak proiektu berria kaleratu zuen Paxkalek: sei abestiz osatutako album bat da\, eta folk eta pop estiloak uztartzen ditu. Abestiak zuzenean aurkezte aldera\, Irigoyenek boskote bat osatu du: Julen Etxeberri (bateria)\, Allande Etxeberri (baxua)\, Paul Covreur (gitarra eta mandolina) eta Uxue Olaziregi (gitarra akustikoa).  \nEkainaren 11n Bisaiak talde nafarra arituko da; taldea 2023an abiatu zen eta reggaea du bere musika sorkuntzen ardatz. Honako hauek osatzen dute Iruñerrian sortutako taldea: Oier Alsua (baxua)\, Aitana Lakuntza (tronboia)\, Eneko Aguerri (bateria)\, Adriana Lorenz (saxofoia)\, Imanol Burguete (tronpeta)\, Arrate Bacaicoa (ahotsa)\, Xabier Olano (teklatuak) eta Irene Beltza (gitarra). 2025eko urrian Porlanezko lorea diskoa kaleratu zuten. \nBestalde\, ekainaren 18an\, Kaskezur laukoa igoko da taula gainera\, Deus ez da ezer eta zerbait da disko berria aurkezteko; bost urte pasa dira azkeneko lanak kaleratu zutenetik. Instrumentuen soiltasuna eta soinuaren eraikuntza kolektiboa dira taldearen nortasunaren ikur 2008an sortu zenetik\, hainbat lan kaleratu dituzte\, Itzulera (2008) kasu\, eta guztietan rock klasikoarekin eta musika psikodelikoarekin esperimentatu dute. 2013an Ilgora diskoa eman zuten argitara: taldearen soinua behin betiko aldatu zuen\, eta\, hari esker\, euskarazko rock alternatiboko eszenaren ateak ireki zitzaizkien.  \nKantu eta Hitza zikloaren aurtengo edizioari amaiera Erromintxelak Arrasateko gypsy swing taldeak emango dio. Musikari hauek osatzen dute: Jon García (ahotsa eta gitarra)\, Iñigo Zubizarreta (manouche gitarra)\, Aitor Moreno (kontrabaxua)\, Jokin Vitoria (washboarda\, bateria eta koruak)\, Daniel Apodaka (biolina) eta Andoni Aizpuru (saxo sopranoa). Swing eta gipsy estiloko musikan oinarrituta eta instrumentu akustikoak erabilita\, publikoa dantzan jartzeko melodiak abesten dituzte euskaraz. 
URL:https://herrikultura.eus/event/kantu-eta-hitza-zikloa-2026-egitaraua/
LOCATION:O-ko Ama Birjinaren Plaza\, Pamplona/Iruña\, Navarra\, 201\, España
CATEGORIES:Jaialdiak (Gazteinformazioa)
ATTACH;FMTTYPE=image/jpeg:https://herrikultura.eus/wp-content/uploads/2026/04/27.jpg
END:VEVENT
BEGIN:VEVENT
DTSTART;VALUE=DATE:20260622
DTEND;VALUE=DATE:20260630
DTSTAMP:20260424T083409
CREATED:20260322T230240Z
LAST-MODIFIED:20260322T230240Z
UID:194244-1782086400-1782777599@herrikultura.eus
SUMMARY:Zinegoak 2026: egitaraua
DESCRIPTION:Ekainaren 22tik 29ra egingo da 2026ko Bilboko LGTBIQ+ zinema eta arte eszenikoen jaialdia.
URL:https://herrikultura.eus/event/zinegoak-2026-egitaraua/
LOCATION:San Martzial Plaza (Plaza Gorria)\, Donostia / San Sebastián\, Gipuzkoa\, 069\, España
CATEGORIES:Jaialdiak (Gazteinformazioa)
ATTACH;FMTTYPE=image/jpeg:https://herrikultura.eus/wp-content/uploads/2026/03/ProgramaZinegoak2026.jpg
END:VEVENT
BEGIN:VEVENT
DTSTART;VALUE=DATE:20260624
DTEND;VALUE=DATE:20260628
DTSTAMP:20260424T083409
CREATED:20260213T230352Z
LAST-MODIFIED:20260213T230352Z
UID:186790-1782259200-1782604799@herrikultura.eus
SUMMARY:Korterraza Gasteiz 2026: egitaraua
DESCRIPTION:Korterraza Gasteizek bat egin du Gasteizko Martxoaren 3ko sarraskiaren 50. urteurrena oroitzeko ekitaldiekin. Aire zabaleko film laburren eta musikaren jaialdia emanaldi berezi batekin hasiko da aurten; Martxoak 3 elkartearekin elkarlanean ondu du\, eta omenaldi-ekitaldien barruan egongo da. Proiekzioak memoria historikoari eta lan-arloko eskubideei buruzko obrei helduko die\, 1976ko triskantzan hil zituzten bost langileak eta zauritu zituzten 100dik gora lagunak omentzeko. Emanaldia ekainaren 12an egingo da\, 22:00etan\, Martxoak 3 plazan\, eta\, lehiaketako gainerako jarduerak bezalaxe\, doakoa eta herritar guztientzat irekia izango da. \nOmenaldi-proiekzio berezi horrek emango dio hasiera Korterraza Gasteizen 17. edizioari. Jaialdia ekainaren 24tik 27ra bitartean egingo da. Iaz harrera ona eduki zuenez\, lehiaketak berriro egingo du Korterraza Euskara sekzioa\, Izaskun Arrue Kulturgunearekin lankidetzan. Emanaldia ekainaren 24an izango da\, kulturgunean bertan\, eta euskaraz egindako film laburrak eta haien sortzaileak izango dira protagonistak. “Iaz estreinatu genuen sekzioa\, eta oso ondo joan zen. Jaialdian\, euskaraz filmatzen ari diren lan apartak hedatzen lagundu nahi dugu”\, adierazi du Xabi Vitoria lehiaketako zuzendarikideak. \nEkainaren 25ean\, osteguna\, jaialdia ohiko tokira mugituko da\, Artium museoaren kanpoaldera\, film laburren aire zabaleko proiekzioekin eta kontzertuekin. Ostegunetik larunbatera bitartean\, 18:30etik 23:45era\, ikus-entzuleek azken urteko film labur nabarmenenez eta kontzertu interesgarriez gozatuko dute. Ekainaren 26an\, ostirala\, haurrek beren unea izango dute Korterraza Txikiren emanaldiarekin\, Artium museoaren auditoriumean. Lehiaketa abuztuaren 20an bukatuko da\, osteguna\, Artium museoaren barruko plazan\, Korterraza Sensibilizaren emanaldi dagoeneko tradizionalarekin. \n\nLehenengo baieztapenak\n\nMusika-egitarauan\, jaialdiak karteleko lehenengo hiru taldeak baieztatu ditu: Moonshine Wagon\, Susan Santos eta A Contra Blues. Moonshine Wagon taldeak A Contra Blues-ekin partekatuko du agertokia ekainaren 25ean\, osteguna. Aiaraldeko banda horrek 12 urteko ibilbidea egin du bluegrassaren eta heavyaren konbinazio basati batekin. Denbora honetan\, 1.000 kontzertu baino gehiago eman ditu; hainbat herrialdetan jo du (hala nola Estatu Batuetan\, Belgikan eta Holandan)\, eta jaialdi nabarmenetan hartu du parte (besteak beste\, Resurrection Fest\, Azkena Rock\, Erresuma Batuko Boomtown Fair eta Estatu Batuetako Muddy Roots Festival jaialdietan). 12 urte hauek ospatzeko\, Moonshine Wagon-ek 12 Years Aged diskoa atera zuen argitara abenduan. Bilduma horretan\, lehenengo hiru diskoetako 16 abesti grabatu dituzte berriro\, talde arabarrak urte hauetan sendotu duen soinura egokitzeko. \nMoonshine Wagon-ekin batera\, jendeak A Contra Blues taldeaz gozatuko du ostegunean. Kataluniako talde ezagun hori ere\, Jonathan Herrero gasteiztarra buru dela\, urtemuga ospatzen ari da\, 20 urte baitaramatza taula gainean jotzen. “Gasteizen asko estimatzen dugu banda hori; Korterrazan hainbat aldiz jo dute\, eta haiekin batera ospatu nahi ditugu rock ona egiten daramatzaten bi hamarkada hauek. Gainera\, Moonshine Wagon-ekin konbinatuta\, ostegun benetan ikusgarria izango dugu”\, azaldu dute Kultura Kalean! elkartekoek. \nKorterrazak\, halaber\, Susan Santosen kontzertua baieztatu du ekainaren 26rako\, ostirala. Estatu mailan\, gitarra-jotzaile eta abeslari hori rockaren\, bluesaren eta countryaren adierazgarri onenetako bat da dagoeneko\, baina nazioartean ere aitortza egin diote\, European Blues Awards eta LA Critic’s Awards sariketetan adibidez. 2024an\, Sonora plazaratu zuen\, orain arte argitaratu duen azkena. \n\nIzena emateko aldia\n\nAtal zinematografikoan\, Korterrazak asteazken honetan (otsailak 4) irekiko du parte hartu nahi duten lanak inskribatzeko aldia. Goya Sarietarako jaialdi kalifikatzaile bihurtuta\, Korterraza jaialdiak 1.000tik gora film labur jasotzea espero du. Gero\, Kultura Kalean! elkarteak 40 edo 45 lan hautatuko ditu jasotzen dituen guztien artetik\, eta film horiexek osatuko dute Korterraza 2026ko hautaketa. Izena emateko epea maiatzaren 16an amaituko da. Lehiaketak emanaldi entretenigarri eta interesgarriak eskainiko dizkie herritarrei\, mundu osoko film laburrekin\, eta\, edizio guztietan bezalaxe\, Arabako edo euskaraz egindako obra ugari egongo dira. \nJaialdiak 8.000 euro inguru banatuko ditu sarietan\, eta\, aurreko edizioetan bezalaxe\, epaimahaiaren eta publikoaren golardoez gainera\, ordaina emango du hautaketan egoteagatik eta ikus-entzuleen kopuruagatik. Martxoaren 3a omentzeko emanaldian\, ikus-entzuleek hautatutako sari bat banatuko da\, Korterraza M3moria Saria; Sekzio Ofizialeko film laburrak Álex Angulo Sariengatik eta Keler Sariarengatik lehiatuko dira; ikus-entzuleek Publikoaren Saria-Laboral Kutxa Sarian botoa emango dute; komedia protagonista izango da Eleyco Taldearen Komediarik Onenarentzako Sarian; Korterraza Txikin Korterraza Txiki-El Correo Saria eta 2. Korterraza Txiki Saria emango dira\, eta euskaraz egindako bi lan nabarmenenei aitortza egingo zaie Bertako Igogailuak-Euskara Sariarekin. Gasteizen\, garaileen zerrenda Sensibiliza Sariarekin osatuko da. Korterraza Araban\, proiekzioetan parte hartzen duten lagunek Korterraza Araba Saria eta Korterraza Araba Txiki Saria hautatuko dituzte\, botoa emanda. \n\nErronka Garbia\n\nGizarte arloan\, Korterraza elkarteak ekitaldi jasangarri eta ingurunearekiko errespetuzko bat bihurtzeko apustuari eutsiko dio. 2019tik\, lehiaketak Erronka Garbia ziurtagiria lortu du\, Eusko Jaurlaritzako IHOBE-Ingurumena Kudeatzeko Sozietate Publikoak ematen duen aintzatespena. Lehiaketak\, gainera\, sexismorik\, homofobiarik\, transfobiarik eta edozein portaera zapaltzailerik gabeko ekitaldia izatearen aldeko apustuari eutsiko dio\, eta erRESPETAtuz bederatzigarren kanpaina jarriko du abian\, umorearen bidez\, ingurukoei traba egin diezaieketen portaerez kontzientziatzeko asmoz. \nKorterraza Kultura Kalean! elkarteak antolatzen du. Gasteizen\, Gasteizko Udala\, Eusko Jaurlaritzako Kultura eta Hizkuntza Politika Saila\, Arabako Foru Aldundia\, Laboral Kutxa\, Keler\, Grupo Eleyco\, Bertako Igogailuak\, El Correo eta EITB\, Radio Vitoria\, Artium Museoa\, Izaskun Arrue Kulturgunea eta Centro Cultural Montehermoso Kulturunearen babesa du jaialdiak. Araban\, lehiaketak Arabako Foru Aldundiaren\, parte hartzen duten udalen\, Laboral Kutxaren\, Eleyco Taldearen eta El Correoren babesa du.
URL:https://herrikultura.eus/event/korterraza-gasteiz-2026-egitaraua/
LOCATION:Zabalgana Gizarte etxea – (Artium Museoa\, Vital Fundazioa Kulturunea eta)\, Juan Gris\, 2\, Vitoria-Gasteiz\, Álava\, 059\, España
CATEGORIES:Jaialdiak (Gazteinformazioa)
ATTACH;FMTTYPE=image/jpeg:https://herrikultura.eus/wp-content/uploads/2026/02/67-2.jpg
END:VEVENT
BEGIN:VEVENT
DTSTART;VALUE=DATE:20260624
DTEND;VALUE=DATE:20260628
DTSTAMP:20260424T083409
CREATED:20260322T230237Z
LAST-MODIFIED:20260322T230237Z
UID:194234-1782259200-1782604799@herrikultura.eus
SUMMARY:Lekuz Leku 2026: egitaraua
DESCRIPTION:Ekainaren 24tik 27ra bitartean\, Bilbon beste Lekuz Leku Jaialdi bat\, hots\, Nazioarteko Dantza Jaialdia Hiri Inguruneetan\, izango da\, hain zuen\, XXII.a. 
URL:https://herrikultura.eus/event/lekuz-leku-2026-egitaraua/
LOCATION:San Martzial Plaza (Plaza Gorria)\, Donostia / San Sebastián\, Gipuzkoa\, 069\, España
CATEGORIES:Jaialdiak (Gazteinformazioa)
END:VEVENT
END:VCALENDAR