BEGIN:VCALENDAR
VERSION:2.0
PRODID:-//HerriKultura - ECPv6.2.3.1//NONSGML v1.0//EN
CALSCALE:GREGORIAN
METHOD:PUBLISH
X-WR-CALNAME:HerriKultura
X-ORIGINAL-URL:https://herrikultura.eus
X-WR-CALDESC:Eventos para HerriKultura
REFRESH-INTERVAL;VALUE=DURATION:PT1H
X-Robots-Tag:noindex
X-PUBLISHED-TTL:PT1H
BEGIN:VTIMEZONE
TZID:Europe/Madrid
BEGIN:DAYLIGHT
TZOFFSETFROM:+0100
TZOFFSETTO:+0200
TZNAME:CEST
DTSTART:20260329T010000
END:DAYLIGHT
BEGIN:STANDARD
TZOFFSETFROM:+0200
TZOFFSETTO:+0100
TZNAME:CET
DTSTART:20261025T010000
END:STANDARD
END:VTIMEZONE
BEGIN:VEVENT
DTSTART;VALUE=DATE:20260114
DTEND;VALUE=DATE:20270101
DTSTAMP:20260424T100041
CREATED:20251209T230225Z
LAST-MODIFIED:20251209T230225Z
UID:173669-1768348800-1798761599@herrikultura.eus
SUMMARY:Nosferatu 2026 egitaraua: "Billy Wilder"
DESCRIPTION:Datorren urtarrilaren 14an hasiko da Tabakaleran Nosferatu ziklo berria\, Europaren erdialdeko Billy Wilder zuzendariaren figurari\, XX. mendeko munduko zinemagintzaren izen gailenetakoari eskainia\, Sunset Boulevard (1950) filmaren proiekzioarekin. \nZikloa Donostia Kulturak eta Euskadiko Filmategiak antolatu dute\, Tabakaleraren eta Institut Valencià de Cultura – La Filmotecaren lankidetzarekin\, eta 2026ko urtarriletik abendura bitartean garatuko da. \nBere film enblematikoenetako batekin hasten da zikloa\, eta ondoren\, 30eko hamarkadan Alemanian gidoilari gisa egin zuen lanean barneratzen da\, Frantzian zuzendari gisa egin zuen opera priman (Mauvaise graine\, 1933) eta Ernst Lubitsch\, Mitchell Leisen edo Howard Hawks bezalako zinemagileentzat AEBn egin zuen gidoilari lanean. 1942an zuzendu zuen aurreneko filma Hollywooden\, The Major and the Minor (1942)\, eta bere aparteko filmografiaren hasiera markatu zuen. \nUrtarrilean\, zikloa hastearekin batera\, Billy Wilder. Anatomía de un genio\, Colección Nosferatuko 22. zenbakia argitaratuko da\, eta liburuaren koordinatzaile Luis Alegreren hitzetan: Billy Wilderrek ohorezko lekua du mundu osoko zinemazaleen iruditerian eta heziketa sentimentalean. Bere talentu eta moldaerraztasun zoragarriarekin\, etiketa oro uxatu eta lan giltzarriak sortu zituen oso bestelako generoetan: zinema beltza (Double Indemnity\, 1944)\, komedia (Some Like It Hot\, 1959)\, drama (Sunset Boulevard)\, zinema belikoa (A Foreign Affair\, 1948)\, erromantikoa (Love in the Afternoon\, 1957)\, intrigakoa (The Private Life of Sherlock Holmes\, 1970)\, epaiketetakoa (Witness for the Prosecution\, 1957)\, kazetariena (The Front Page\, 1974) edo bizitza bera bezalakoak direlako generorik ez duten bestelako filmak (The Apartment\, 1960). \nItalo Calvinok zioen klasiko bat hauxe dela\, esan behar duena inoiz erabat esaten ez duena. Billy Wilder oso ondo egokitzen da definizio horretara: bikaina\, beti gordetzen diguna gure buruari buruzko sorpresaren bat. \nBilly Wilder. Anatomía de un genio aipatutako liburua ez ezik\, Fernando Truebarekin eta Joseph McBriderekin elkarrizketak biltzen dituena\, 2026ko udazkenean Nosferatu Bildumaren 14. zenbakia editatuko da euskaraz\, Wilderren figurari buruz Zigor Etxebestek idatzia.
URL:https://herrikultura.eus/event/nosferatu-2026-egitaraua-billy-wilder/
LOCATION:Tabakalera – (Kontadores eta)\, Andre Zigarrogileen plaza\, 1\, Donostia / San Sebastián\, Gipuzkoa\, 069\, España
CATEGORIES:Jaialdiak (Gazteinformazioa)
ATTACH;FMTTYPE=image/jpeg:https://herrikultura.eus/wp-content/uploads/2025/12/ProgramaNosferatu2026.jpg
END:VEVENT
BEGIN:VEVENT
DTSTART;VALUE=DATE:20260118
DTEND;VALUE=DATE:20261214
DTSTAMP:20260424T100041
CREATED:20260113T230307Z
LAST-MODIFIED:20260113T230307Z
UID:180540-1768694400-1797206399@herrikultura.eus
SUMMARY:Klaustro Sounds 26: egitaraua
DESCRIPTION:2026ko Klaustro Sounds jaialdia urtarrilaren 18tik abenduaren 13ra bitartean izango da. \nMontehermosoko Klaustroa\, mendeetan zehar eraikinak jasan dituen aldaketa guztien ikusle isila\, igande arratsaldeetan Kulturgunera hurbiltzen diren pertsonentzako hainbat proposamen artistiko biltzen dituen agertoki magiko bihurtzen da. \n\n\nEGITARAUA:\n\n\nUrtarrilak 18: Joseba Irazoki \n\n\nOtsailak 22: Izarne Oyarzabal / Garazi Gorostiaga\n\n\nMartxoak 15: Alondra Bentley \n\n\nUrriak 4: Raúl Lomas / Periko Ráez\n\n\nAzaroak 22: Oriol Pares / Jaime De Los Ríos\n\n\nAbenduak 13: Garazi Navas\n\n\n  \nAntolatzailea: Montehermoso Kulturunea \n\nKlaustro Sounds 26: egitaraua (PDF)
URL:https://herrikultura.eus/event/klaustro-sounds-26-egitaraua/
LOCATION:Letren Fakultatea (UPV/EHU)\, Montehermoso Kulturunea\, UNED Gasteiz\, Artium Museoa\, Jimmy Jazz Aretoa\, Florida Zinemak\, Bakh\, Euneiz eta Buesa Arena.\, Vitoria-Gasteiz\, Álava\, 059\, España
CATEGORIES:Jaialdiak (Gazteinformazioa)
ATTACH;FMTTYPE=image/jpeg:https://herrikultura.eus/wp-content/uploads/2026/01/Untitled17.jpg
END:VEVENT
BEGIN:VEVENT
DTSTART;VALUE=DATE:20260321
DTEND;VALUE=DATE:20261130
DTSTAMP:20260424T100041
CREATED:20260214T230344Z
LAST-MODIFIED:20260214T230344Z
UID:187035-1774051200-1795996799@herrikultura.eus
SUMMARY:danZálava 2026
DESCRIPTION:Danzálava Nazioarteko Dantza eta Mugimendu Jaialdia hamargarren ediziora iritsi da aurten. Hasierako apustua Bruselas edo Amsterdam bezalako hirietan burutzen ari ziren gorputzaren eta mugimenduaren ikerketa-proposamenak Gasteizera hurbiltzea izan zen. Hamar urte geroago\, nazioarteko ezinbesteko erreferente bihurtu da proiektua eta  ohiko konbentzionalismoetatik irtetzen diren hizkuntza eta proposamen esperimentalak bilatzen dituzten artistak erakarri ditugu Arabara.\n \nHamargarren urteurren honetan Danzálavak aparteko programazioa aurkeztuko du. Honako gai hauek aztertu nahi ditu: mugimendutik abiatutako praktika artistikoa\, gorputza agertoki gisa\, inkontzientearen teknika eta inprobisazioa hizkuntza bizi moduan. Artium Museoa da jaialdiaren egoitza nagusia  eta honek konpromisoa berresten du partekatutako praktiken sakontasunarekin eta sormen-prozesu berezien erakusketarekin.\n \nNazioarteko eta bertako artistaz osatutako programazioa:\n \n2026ko egutegia martxoan hasiko da Guillermo Weickertekin (Dantza Sari Nazionala jaso berria). WWWITH tailerra eta Zuriñe Benavente eta Ignacio Monterrubiorekin partekatutako performance bat eskainiko digu.\n \nMaiatzean\, Ana Vallés entzutetsuak “Aquí no se viene a trabajar” sormen-laborategia zuzenduko du\, eta ikuslego mota  guztientzako moduko topaketa ireki batekin amaituko da.\n \nUdarekin batera munduko inprobisazioaren bi figura nagusi etorriko dira\, hainbat dantzari-belaunaldirentzat erabateko erreferente diren maisua- maistrak: Katie Duck eta Julyen Hamilton. Music Theatre eta Theatre Works tailer intentsiboak emango dituzte. Horretaz gain\, bat-bateko performance bat eskainiko dute elkarrekin .\n \n Udako etenaldiaren ondoren\, jaialdia Garaion Sorgingunera (Ozaeta) mugituko da Mónica Valencianorekin laborategi bat egiteko\, “El cuerpo como lugar de aparición”izenburupean.\n \nUrte amaierarako\, Juan Lorientek eta Nekane Santamaríak gorputzaren gramatikan sakonduko dute “¡CUÑA DOS! Seguir volando en este instante” tailer eta topaketarekin; kontzientearen barruko inkontzientearen teknikan oinarritutako ikerketa.\n \nX. Urteurrena eta STONEren aztarna\n \n Zuriñe Benavente zuzendariak ikerketa-laborategi bat burutuko du\, eta honek zubi lana egingo du hamargarren urteurreneko hitzordu handiarekin lotzeko. STONE kontzeptua ardatz hartuta—New Yorkeko inprobisazio libreko areto mitikoan inspiratua—\, Danzálavak diziplina anitzeko askatasun-espazio bat proposatu nahi du. Bernaola Zikloarekin lankidetzan izango da\, eta hamar urte hauetako sendotasunari eta memoriari buruz hausnartuko du. Ospakizun hau bat -bateko saio eta erakustaldi kolektibo batekin amaituko da Jimmy Jazz aretoan. Eszenatokia sorkuntza puru eta irekirako leku gisa aldarrikatu nahi da\, hazteari utzi ez dion komunitate batentzat.\n \n«Hamargarren ediziora iristea ametsa eta erantzukizuna da. Hamar urte hauetan lortu dugu Berlin\, Amsterdam edo Bruselako artistek  Vitoria-Gasteizera begiratzea beren prozesu intimoenak partekatzeko”.adierazi du Zuriñe Benavente jaialdiko zuzendariak. «Danzálavak hemen espazio hori izaten jarraitzea nahi dugu: praktika artistikoa jariatzen uzteko eta\, aldi berean\, parte hartzen dutenengan\, izan profesionalengan\, izan ikuslegoan\, aztarna uzteko».\n \nDanzálava 2026k Eusko Jaurlaritzaren\, Gasteizko Udalaren\, Arabako Foru Aldundiaren eta Vital Fundazioaren babesa du\, eta lankidetza-sarea osatzen du Artium Museoa\, José Uruñuela Dantza Kontserbatorioa eta Bernaola Zikloa bezalako erakundeekin.\n\ndanZálava 2026: egitaraua
URL:https://herrikultura.eus/event/danzalava-2026/
LOCATION:Txantreako Maiatzak1 Gaztetxea\, Pamplona/Iruña\, Navarra\, 201\, España
CATEGORIES:Jaialdiak (Gazteinformazioa)
ATTACH;FMTTYPE=image/jpeg:https://herrikultura.eus/wp-content/uploads/2026/02/432.jpg
END:VEVENT
BEGIN:VEVENT
DTSTART;VALUE=DATE:20260503
DTEND;VALUE=DATE:20260720
DTSTAMP:20260424T100041
CREATED:20260403T220300Z
LAST-MODIFIED:20260403T220300Z
UID:196625-1777766400-1784505599@herrikultura.eus
SUMMARY:Kristalezko kioskoa 2026: egitaraua
DESCRIPTION:2026ko Kristalezko Kioskoa maiatzaren 3tik uztailaren 29ra bitartean izango da. \nUztaileko igandeetan\, Muxikebarriko plaza zuzeneko musikaz gozatzeko topagune bihurtuko da\, eguerdi inguruan. Kristalezko kioskoak doako egitaraua hartuko du bere baitan\, elkarren artean oso desberdinak diren hiru proposamenekin: Indigo Jazz\, Anna Szostak Quintet eta Swingtronics. Haien eskutik jazzaren\, swingaren eta bluesaren soinuak gerturatuko zaizkigu. Aire zabalean\, publiko guztientzako plan ezin hobea. \nIgandero\, Muxikebarriko plazan\, 13:30ean: \n\n\n\n\n\nMaiatzak 3 – The Pockets\n\n\nMaiatzak 10 – Ontario\n\n\nMaiatzak 17 – Gildas\n\n\nMaiatzak 24 – Los Guayabo Brothers\n\n\nMaiatzak 31 – The Derty Gerties\n\n\nEkainak 7 – Moses and the Tablets\n\n\nEkainak 14 – Bringas\n\n\nEkainak 21 – Rumbling Groove Jazz Band\n\n\nEkainak 28 – Africa Bibang\n\n\nUztailak 5 – Índigo Jazz\n\n\nUztailak 12 – Anna Sztostak Quintet\n\n\nUztailak 19 – Swingtronic 
URL:https://herrikultura.eus/event/kristalezko-kioskoa-2026-egitaraua/
LOCATION:Muxikebarri – Getxoko Arte\, Kultura eta Kongresuen Zentroa – (Plaza)\, Basagoiti etorbidea\, 77\, Getxo\, Bizkaia\, 044\, España
CATEGORIES:Jaialdiak (Gazteinformazioa)
ATTACH;FMTTYPE=image/jpeg:https://herrikultura.eus/wp-content/uploads/2026/04/103.jpg
END:VEVENT
BEGIN:VEVENT
DTSTART;VALUE=DATE:20260713
DTEND;VALUE=DATE:20260719
DTSTAMP:20260424T100041
CREATED:20260303T230300Z
LAST-MODIFIED:20260303T230300Z
UID:190345-1783900800-1784419199@herrikultura.eus
SUMMARY:Gasteizko Jazz Jaialdia 2026: egitaraua (uztailak 13-18)
DESCRIPTION:Gasteizko 2026ko Jazz Jaialdia uztailaren 13tik 18ra egingo da. Ruben Bladesek Vitoria-Gasteizko Jazz Jaialdia bira nazionala hasteko aukeratu du. Musikari panamarrak Roberto Delgadoren big band boteretsuarekin joko du Mendizorrotzan uztailaren 17an \nVitoria-Gasteizko Jazz Jaialdiaren 49. edizioa aukeratu du musika latinoaren ikonoak\, Rubén Blades artista multifazetikoak\, Espainian bira hasteko. \nHain zuzen ere\, uztailaren 17an\, ostirala\, Mendizorrotzan saltsaren kondairaren kontzertu handi bat izango da\, Roberto Delgado buru duen eta hogei bat musikarik osatzen duten big band boteretsuarekin batera. \nBaieztapen horrekin\, Vitoria-Gasteizko Jazz Jaialdiak euskal hiriburura izar handi bat ekartzea lortu du\, zalantzarik gabe\, gau ahaztezina oparituko diguna; izan ere\, Amerikako kontinentean bira arrakastatsua egiteko erabili duen “Fotografias” azken diskoa aurkezteaz gain\, “Pedro Navaja”\, “Decisiones” eta “Amor y Control” bezalako klasikoak gogoratuko ditu\, besteak beste. \nBlades kultura hispano-amerikarreko pertsonarik aktiboenetako bat da\, 1970ean abeslari eta konpositore gisa debutatu zuenetik. Afro-kubatar saltsa klasikoaren album enblematikoek rockaren\, jazzaren eta mundu osoko soinuen eraginak dituzte. Bladesek musika estilo guztietako artistekin kolaboratu du eta ehunka abesti konposatu ditu\, letra adierazgarriekin eta eduki sozial sendoarekin\, pertsonaia koloretsuekin eta melodia gogoangarriekin. \n12 Grammy sari eta 13 Latin Grammy sari irabazi ditu\, horietako azkena Saltsa Album onenarena “Fotografías” lanagatik. AMCko “Fear the Walking Dead” telesailean zortzi denboraldiz parte hartu izanak Award Irudirako bigarren mailako aktore onenaren izendapena ekarri zion. \n“Fotografías” albumak Bladesen zikloa jarraitzen du Roberto Delgado eta Panamako Orkestrarekin batera. Artistaren arabera\, bandak bere moldakortasuna erakusten du hainbat formatu interpretatzean: bi tronpeta\, hiru tronboi\, orkestra eta big band. Abesti berriak eta Bladesek idatzitako abestiak biltzen ditu\, baina beste artista batzuek 50 urte baino gehiagoko ibilbide artistikoaren barruan hainbat hamarkadatan grabatutakoak. \nVitoria-Gasteizko Jazz Jaialdiak gainerako programazioa laster iragarriko du\, baita sarreren salmentaren hasiera ere. \nKartela\nVitoria-Gasteizko Jazz Jaialdiak bere 49. edizioaren irudia iragarri du. Uztailaren 13tik 18ra izango da\, eta egilea Andrea Espier ilustratzailea da. \nKartela oso konposizio adierazkorra da\, eta bertan islatzen da jazz-interpretea pianoarekin egindako obra baten exekuzioan\, gorputz osoa inplikatuta duela\, musikari erabateko ematea adierazten duen sinbolo gisa. “Estereotipoetatik ihes egin nahi nuen\, eta musikariaren keinuan\, gorputz-adierazkortasunean arreta jarri nahi nuen\, une garratz horietako batean dagoenean\, interpretazioan hain buru-belarri sartuta”\, azaldu du Espierrek. \nErabilitako teknika estarzidoaren eta collage digitalaren nahasketa bat da\, eskuzko testura bat ematen duena\, magentara eta beladun beltz eta gris sorta batera mugatutako kolore-paleta batean “vintage” atmosfera batekin. \nIlustratzailearentzat\, argitaletxeentzako lanetan eskarmentu handia duena\, hau musika jaialdi baterako kartel batean sartu den lehen aldia izan da eta esperientzia oso aberasgarria izan dena. “Askatasun artistiko handia izan dut. Jazza irudietan oso aberatsa dela eta inguruan ikonografia asko dagoela kontuan hartuta\, nolabait esentzia atzemango duen kartel bat egin nahi izan dut\, non jazza erraz identifikatzeko modukoa izango den\, begi-bistakoegia izan gabe “\, azaldu du. Horregatik\, instrumentu batek agertu behar zuela argi zuen arren\, pianoak antzezpen konbentzional batetik ihes egitea bilatu du. \nAndrea Espier (Huesca\, 1986) Ikus-entzunezko Komunikazioan lizentziaduna da Madrilgo Complutense Unibertsitatean\, eta marrazketan eta pinturan trebatu zen Bordeleko (Frantzia) Arte Ederren Eskolan. Gaur egun Parisen bizi da eta ilustratzaile gisa lan egiten du prentsa eta helduentzako eta haurrentzako edizioetarako. \nAndrea Espierrek Azul Prusia euskal estudio grafikoaren laguntza izan du ilustrazioa Vitoria-Gasteizko Jazz Jaialdiko elementu grafikoetara eta merchandising-elementuetara egokitzeko. \nIrudiaren iragarkiaren ondoren\, Vitoria-Gasteizko Jazz Jaialdia 49. edizioko programazioan parte hartuko duten lehen izenak baieztatzen hasiko da laster.
URL:https://herrikultura.eus/event/gasteizko-jazz-jaialdia-2026-egitaraua-uztailak-13-18/
LOCATION:Europa Biltzar Jauregia – (Mendizorrotza eta)\, Gasteiz Etorbidea\, z/g\, Vitoria-Gasteiz\, Álava\, 059\, España
CATEGORIES:Jaialdiak (Gazteinformazioa)
ATTACH;FMTTYPE=image/jpeg:https://herrikultura.eus/wp-content/uploads/2026/03/ProgramaFestivaldeJazzdeVitoriaGasteiz2026.jpg
END:VEVENT
END:VCALENDAR